Workbook
Name BMPManual: Codes!$G$1:$P$1
Name Citrus: Codes!$G$2:$G$8
Name CowCalforCattle: Codes!$H$2:$H$17
Name Dairies: Codes!$I$2:$I$17
Name Equine: Codes!$J$2:$J$17
Name Fertilizer: Codes!$C$2:$C$6
Name FertilizerManure: Codes!$D$2:$D$13
Name LOPP: Codes!$K$2:$K$85
Name Month: Codes!$A$2:$A$13
Name Nurseries: Codes!$L$2:$L$2
Name Poultry: Codes!$M$2:$M$2
Name Sod: Codes!$N$2:$N$6
Name SpecialtyFruitandNut: Codes!$O$2:$O$8
Name VegetableandAgronomicCrop: Codes!$P$2:$P$70
Name Year: Codes!$B$2:$B$13

Sheet RecordkeepingTool_NonManure
A2: NOI Number:
A4: Application Date (Month) | B4: Application Date (Year) | C4: Field ID | D4: BMP Manual | E4: Crop Type | F4: Other Crop Type Description | G4: Dry Fertilizer (If selected, only the blue field for dry product calculation is available for someone to enter data) | H4: Liquid Fertilizer (If selected, only the yellow fields for liquid product calculation is available for someone to enter data) | I4: Fertilizer Type | J4: Other Fertilizer Type Description | K4: Crop Acres Fertilized | L4: Enter the N from the guaranteed analysis | M4: Enter the P from the guaranteed analysis | N4: Pounds of dry product applied per acre (if tons, convert to pounds) | O4: OR | P4: Total gallons of product applied per acre | Q4: Weight (pounds per gallon) | R4: Pounds of liquid product applied per acre | S4: Pounds of nitrogen fertilizer applied per acre | T4: Pounds of P2O5 fertilizer applied per acre
R5: =P5*Q5 -> 0 | S5: =(N5+R5)*L5/100 -> 0 | T5: =(N5+R5)*M5/100 -> 0
R6: =P6*Q6 -> 0 | S6: =(N6+R6)*L6/100 -> 0 | T6: =(N6+R6)*M6/100 -> 0
R7: =P7*Q7 -> 0 | S7: =(N7+R7)*L7/100 -> 0 | T7: =(N7+R7)*M7/100 -> 0
R8: =P8*Q8 -> 0 | S8: =(N8+R8)*L8/100 -> 0 | T8: =(N8+R8)*M8/100 -> 0
R9: =P9*Q9 -> 0 | S9: =(N9+R9)*L9/100 -> 0 | T9: =(N9+R9)*M9/100 -> 0
R10: =P10*Q10 -> 0 | S10: =(N10+R10)*L10/100 -> 0 | T10: =(N10+R10)*M10/100 -> 0
R11: =P11*Q11 -> 0 | S11: =(N11+R11)*L11/100 -> 0 | T11: =(N11+R11)*M11/100 -> 0
R12: =P12*Q12 -> 0 | S12: =(N12+R12)*L12/100 -> 0 | T12: =(N12+R12)*M12/100 -> 0
R13: =P13*Q13 -> 0 | S13: =(N13+R13)*L13/100 -> 0 | T13: =(N13+R13)*M13/100 -> 0
R14: =P14*Q14 -> 0 | S14: =(N14+R14)*L14/100 -> 0 | T14: =(N14+R14)*M14/100 -> 0
R15: =P15*Q15 -> 0 | S15: =(N15+R15)*L15/100 -> 0 | T15: =(N15+R15)*M15/100 -> 0
R16: =P16*Q16 -> 0 | S16: =(N16+R16)*L16/100 -> 0 | T16: =(N16+R16)*M16/100 -> 0
... R510: =P510*Q510 -> 0 | S510: =(N510+R510)*L510/100 -> 0 | T510: =(N510+R510)*M510/100 -> 0

Sheet RecordkeepingTool_Manure
A2: NOI Number:
A4: Application Date (Month) | B4: Application Date (Year) | C4: Field ID | D4: BMP Manual | E4: Crop Type | F4: Other Crop Type Description | G4: Dry Fertilizer (If selected, only the blue field for dry product calculation is available for someone to enter data) | H4: Liquid Fertilizer (If selected, only the yellow fields for liquid product calculation is available for someone to enter data) | I4: Fertilizer Type | J4: Other Fertilizer Type Description | K4: Crop Acres Fertilized | L4: Enter the N from the guaranteed analysis | M4: Enter the P from the guaranteed analysis | N4: Pounds of dry product applied per acre (if tons, convert to pounds) | O4: OR | P4: Total gallons of product applied per acre | Q4: Weight (pounds per gallon) | R4: Pounds of liquid product applied per acre | S4: Pounds of nitrogen fertilizer applied per acre | T4: Pounds of P2O5 fertilizer applied per acre
L5: =IFERROR(INDEX(Codes!D2:F13, MATCH(I5, Codes!D2:D13,0), 2),0) -> 0 | M5: =IFERROR(INDEX(Codes!D2:F13, MATCH(I5, Codes!D2:D13,0), 3),0) -> 0 | R5: =P5*Q5 -> 0 | S5: =IF(AND(N5>0,R5>0),(((N5+R5))*L5/100),(IF(N5>0,((N5)*L5/100),(IF(R5>0,((R5)*L5/100),0))))) -> 0 | T5: =IF(AND(N5>0,R5>0),(((N5+R5))*M5/100),(IF(N5>0,((N5)*M5/100),(IF(R5>0,((R5)*M5/100),0))))) -> 0
L6: =IFERROR(INDEX(Codes!D2:F13, MATCH(I6, Codes!D2:D13,0), 2),0) -> 0 | M6: =IFERROR(INDEX(Codes!D2:F13, MATCH(I6, Codes!D2:D13,0), 3),0) -> 0 | R6: =P6*Q6 -> 0 | S6: =IF(AND(N6>0,R6>0),(((N6+R6))*L6/100),(IF(N6>0,((N6)*L6/100),(IF(R6>0,((R6)*L6/100),0))))) -> 0 | T6: =IF(AND(N6>0,R6>0),(((N6+R6))*M6/100),(IF(N6>0,((N6)*M6/100),(IF(R6>0,((R6)*M6/100),0))))) -> 0
L7: =IFERROR(INDEX(Codes!D2:F13, MATCH(I7, Codes!D2:D13,0), 2),0) -> 0 | M7: =IFERROR(INDEX(Codes!D2:F13, MATCH(I7, Codes!D2:D13,0), 3),0) -> 0 | R7: =P7*Q7 -> 0 | S7: =IF(AND(N7>0,R7>0),(((N7+R7))*L7/100),(IF(N7>0,((N7)*L7/100),(IF(R7>0,((R7)*L7/100),0))))) -> 0 | T7: =IF(AND(N7>0,R7>0),(((N7+R7))*M7/100),(IF(N7>0,((N7)*M7/100),(IF(R7>0,((R7)*M7/100),0))))) -> 0
L8: =IFERROR(INDEX(Codes!D2:F13, MATCH(I8, Codes!D2:D13,0), 2),0) -> 0 | M8: =IFERROR(INDEX(Codes!D2:F13, MATCH(I8, Codes!D2:D13,0), 3),0) -> 0 | R8: =P8*Q8 -> 0 | S8: =IF(AND(N8>0,R8>0),(((N8+R8))*L8/100),(IF(N8>0,((N8)*L8/100),(IF(R8>0,((R8)*L8/100),0))))) -> 0 | T8: =IF(AND(N8>0,R8>0),(((N8+R8))*M8/100),(IF(N8>0,((N8)*M8/100),(IF(R8>0,((R8)*M8/100),0))))) -> 0
L9: =IFERROR(INDEX(Codes!D2:F13, MATCH(I9, Codes!D2:D13,0), 2),0) -> 0 | M9: =IFERROR(INDEX(Codes!D2:F13, MATCH(I9, Codes!D2:D13,0), 3),0) -> 0 | R9: =P9*Q9 -> 0 | S9: =IF(AND(N9>0,R9>0),(((N9+R9))*L9/100),(IF(N9>0,((N9)*L9/100),(IF(R9>0,((R9)*L9/100),0))))) -> 0 | T9: =IF(AND(N9>0,R9>0),(((N9+R9))*M9/100),(IF(N9>0,((N9)*M9/100),(IF(R9>0,((R9)*M9/100),0))))) -> 0
L10: =IFERROR(INDEX(Codes!D2:F13, MATCH(I10, Codes!D2:D13,0), 2),0) -> 0 | M10: =IFERROR(INDEX(Codes!D2:F13, MATCH(I10, Codes!D2:D13,0), 3),0) -> 0 | R10: =P10*Q10 -> 0 | S10: =IF(AND(N10>0,R10>0),(((N10+R10))*L10/100),(IF(N10>0,((N10)*L10/100),(IF(R10>0,((R10)*L10/100),0))))) -> 0 | T10: =IF(AND(N10>0,R10>0),(((N10+R10))*M10/100),(IF(N10>0,((N10)*M10/100),(IF(R10>0,((R10)*M10/100),0))))) -> 0
L11: =IFERROR(INDEX(Codes!D2:F13, MATCH(I11, Codes!D2:D13,0), 2),0) -> 0 | M11: =IFERROR(INDEX(Codes!D2:F13, MATCH(I11, Codes!D2:D13,0), 3),0) -> 0 | R11: =P11*Q11 -> 0 | S11: =IF(AND(N11>0,R11>0),(((N11+R11))*L11/100),(IF(N11>0,((N11)*L11/100),(IF(R11>0,((R11)*L11/100),0))))) -> 0 | T11: =IF(AND(N11>0,R11>0),(((N11+R11))*M11/100),(IF(N11>0,((N11)*M11/100),(IF(R11>0,((R11)*M11/100),0))))) -> 0
L12: =IFERROR(INDEX(Codes!D2:F13, MATCH(I12, Codes!D2:D13,0), 2),0) -> 0 | M12: =IFERROR(INDEX(Codes!D2:F13, MATCH(I12, Codes!D2:D13,0), 3),0) -> 0 | R12: =P12*Q12 -> 0 | S12: =IF(AND(N12>0,R12>0),(((N12+R12))*L12/100),(IF(N12>0,((N12)*L12/100),(IF(R12>0,((R12)*L12/100),0))))) -> 0 | T12: =IF(AND(N12>0,R12>0),(((N12+R12))*M12/100),(IF(N12>0,((N12)*M12/100),(IF(R12>0,((R12)*M12/100),0))))) -> 0
L13: =IFERROR(INDEX(Codes!D2:F13, MATCH(I13, Codes!D2:D13,0), 2),0) -> 0 | M13: =IFERROR(INDEX(Codes!D2:F13, MATCH(I13, Codes!D2:D13,0), 3),0) -> 0 | R13: =P13*Q13 -> 0 | S13: =IF(AND(N13>0,R13>0),(((N13+R13))*L13/100),(IF(N13>0,((N13)*L13/100),(IF(R13>0,((R13)*L13/100),0))))) -> 0 | T13: =IF(AND(N13>0,R13>0),(((N13+R13))*M13/100),(IF(N13>0,((N13)*M13/100),(IF(R13>0,((R13)*M13/100),0))))) -> 0
L14: =IFERROR(INDEX(Codes!D2:F13, MATCH(I14, Codes!D2:D13,0), 2),0) -> 0 | M14: =IFERROR(INDEX(Codes!D2:F13, MATCH(I14, Codes!D2:D13,0), 3),0) -> 0 | R14: =P14*Q14 -> 0 | S14: =IF(AND(N14>0,R14>0),(((N14+R14))*L14/100),(IF(N14>0,((N14)*L14/100),(IF(R14>0,((R14)*L14/100),0))))) -> 0 | T14: =IF(AND(N14>0,R14>0),(((N14+R14))*M14/100),(IF(N14>0,((N14)*M14/100),(IF(R14>0,((R14)*M14/100),0))))) -> 0
L15: =IFERROR(INDEX(Codes!D2:F13, MATCH(I15, Codes!D2:D13,0), 2),0) -> 0 | M15: =IFERROR(INDEX(Codes!D2:F13, MATCH(I15, Codes!D2:D13,0), 3),0) -> 0 | R15: =P15*Q15 -> 0 | S15: =IF(AND(N15>0,R15>0),(((N15+R15))*L15/100),(IF(N15>0,((N15)*L15/100),(IF(R15>0,((R15)*L15/100),0))))) -> 0 | T15: =IF(AND(N15>0,R15>0),(((N15+R15))*M15/100),(IF(N15>0,((N15)*M15/100),(IF(R15>0,((R15)*M15/100),0))))) -> 0
L16: =IFERROR(INDEX(Codes!D2:F13, MATCH(I16, Codes!D2:D13,0), 2),0) -> 0 | M16: =IFERROR(INDEX(Codes!D2:F13, MATCH(I16, Codes!D2:D13,0), 3),0) -> 0 | R16: =P16*Q16 -> 0 | S16: =IF(AND(N16>0,R16>0),(((N16+R16))*L16/100),(IF(N16>0,((N16)*L16/100),(IF(R16>0,((R16)*L16/100),0))))) -> 0 | T16: =IF(AND(N16>0,R16>0),(((N16+R16))*M16/100),(IF(N16>0,((N16)*M16/100),(IF(R16>0,((R16)*M16/100),0))))) -> 0
L17: =IFERROR(INDEX(Codes!D2:F13, MATCH(I17, Codes!D2:D13,0), 2),0) -> 0 | M17: =IFERROR(INDEX(Codes!D2:F13, MATCH(I17, Codes!D2:D13,0), 3),0) -> 0 | R17: =P17*Q17 -> 0 | S17: =IF(AND(N17>0,R17>0),(((N17+R17))*L17/100),(IF(N17>0,((N17)*L17/100),(IF(R17>0,((R17)*L17/100),0))))) -> 0 | T17: =IF(AND(N17>0,R17>0),(((N17+R17))*M17/100),(IF(N17>0,((N17)*M17/100),(IF(R17>0,((R17)*M17/100),0))))) -> 0
L18: =IFERROR(INDEX(Codes!D2:F13, MATCH(I18, Codes!D2:D13,0), 2),0) -> 0 | M18: =IFERROR(INDEX(Codes!D2:F13, MATCH(I18, Codes!D2:D13,0), 3),0) -> 0 | R18: =P18*Q18 -> 0 | S18: =IF(AND(N18>0,R18>0),(((N18+R18))*L18/100),(IF(N18>0,((N18)*L18/100),(IF(R18>0,((R18)*L18/100),0))))) -> 0 | T18: =IF(AND(N18>0,R18>0),(((N18+R18))*M18/100),(IF(N18>0,((N18)*M18/100),(IF(R18>0,((R18)*M18/100),0))))) -> 0
L19: =IFERROR(INDEX(Codes!D2:F13, MATCH(I19, Codes!D2:D13,0), 2),0) -> 0 | M19: =IFERROR(INDEX(Codes!D2:F13, MATCH(I19, Codes!D2:D13,0), 3),0) -> 0 | R19: =P19*Q19 -> 0 | S19: =IF(AND(N19>0,R19>0),(((N19+R19))*L19/100),(IF(N19>0,((N19)*L19/100),(IF(R19>0,((R19)*L19/100),0))))) -> 0 | T19: =IF(AND(N19>0,R19>0),(((N19+R19))*M19/100),(IF(N19>0,((N19)*M19/100),(IF(R19>0,((R19)*M19/100),0))))) -> 0
L20: =IFERROR(INDEX(Codes!D2:F13, MATCH(I20, Codes!D2:D13,0), 2),0) -> 0 | M20: =IFERROR(INDEX(Codes!D2:F13, MATCH(I20, Codes!D2:D13,0), 3),0) -> 0 | R20: =P20*Q20 -> 0 | S20: =IF(AND(N20>0,R20>0),(((N20+R20))*L20/100),(IF(N20>0,((N20)*L20/100),(IF(R20>0,((R20)*L20/100),0))))) -> 0 | T20: =IF(AND(N20>0,R20>0),(((N20+R20))*M20/100),(IF(N20>0,((N20)*M20/100),(IF(R20>0,((R20)*M20/100),0))))) -> 0
L21: =IFERROR(INDEX(Codes!D2:F13, MATCH(I21, Codes!D2:D13,0), 2),0) -> 0 | M21: =IFERROR(INDEX(Codes!D2:F13, MATCH(I21, Codes!D2:D13,0), 3),0) -> 0 | R21: =P21*Q21 -> 0 | S21: =IF(AND(N21>0,R21>0),(((N21+R21))*L21/100),(IF(N21>0,((N21)*L21/100),(IF(R21>0,((R21)*L21/100),0))))) -> 0 | T21: =IF(AND(N21>0,R21>0),(((N21+R21))*M21/100),(IF(N21>0,((N21)*M21/100),(IF(R21>0,((R21)*M21/100),0))))) -> 0
L22: =IFERROR(INDEX(Codes!D2:F13, MATCH(I22, Codes!D2:D13,0), 2),0) -> 0 | M22: =IFERROR(INDEX(Codes!D2:F13, MATCH(I22, Codes!D2:D13,0), 3),0) -> 0 | R22: =P22*Q22 -> 0 | S22: =IF(AND(N22>0,R22>0),(((N22+R22))*L22/100),(IF(N22>0,((N22)*L22/100),(IF(R22>0,((R22)*L22/100),0))))) -> 0 | T22: =IF(AND(N22>0,R22>0),(((N22+R22))*M22/100),(IF(N22>0,((N22)*M22/100),(IF(R22>0,((R22)*M22/100),0))))) -> 0
L23: =IFERROR(INDEX(Codes!D2:F13, MATCH(I23, Codes!D2:D13,0), 2),0) -> 0 | M23: =IFERROR(INDEX(Codes!D2:F13, MATCH(I23, Codes!D2:D13,0), 3),0) -> 0 | R23: =P23*Q23 -> 0 | S23: =IF(AND(N23>0,R23>0),(((N23+R23))*L23/100),(IF(N23>0,((N23)*L23/100),(IF(R23>0,((R23)*L23/100),0))))) -> 0 | T23: =IF(AND(N23>0,R23>0),(((N23+R23))*M23/100),(IF(N23>0,((N23)*M23/100),(IF(R23>0,((R23)*M23/100),0))))) -> 0
L24: =IFERROR(INDEX(Codes!D2:F13, MATCH(I24, Codes!D2:D13,0), 2),0) -> 0 | M24: =IFERROR(INDEX(Codes!D2:F13, MATCH(I24, Codes!D2:D13,0), 3),0) -> 0 | R24: =P24*Q24 -> 0 | S24: =IF(AND(N24>0,R24>0),(((N24+R24))*L24/100),(IF(N24>0,((N24)*L24/100),(IF(R24>0,((R24)*L24/100),0))))) -> 0 | T24: =IF(AND(N24>0,R24>0),(((N24+R24))*M24/100),(IF(N24>0,((N24)*M24/100),(IF(R24>0,((R24)*M24/100),0))))) -> 0
L25: =IFERROR(INDEX(Codes!D2:F13, MATCH(I25, Codes!D2:D13,0), 2),0) -> 0 | M25: =IFERROR(INDEX(Codes!D2:F13, MATCH(I25, Codes!D2:D13,0), 3),0) -> 0 | R25: =P25*Q25 -> 0 | S25: =IF(AND(N25>0,R25>0),(((N25+R25))*L25/100),(IF(N25>0,((N25)*L25/100),(IF(R25>0,((R25)*L25/100),0))))) -> 0 | T25: =IF(AND(N25>0,R25>0),(((N25+R25))*M25/100),(IF(N25>0,((N25)*M25/100),(IF(R25>0,((R25)*M25/100),0))))) -> 0
L26: =IFERROR(INDEX(Codes!D2:F13, MATCH(I26, Codes!D2:D13,0), 2),0) -> 0 | M26: =IFERROR(INDEX(Codes!D2:F13, MATCH(I26, Codes!D2:D13,0), 3),0) -> 0 | R26: =P26*Q26 -> 0 | S26: =IF(AND(N26>0,R26>0),(((N26+R26))*L26/100),(IF(N26>0,((N26)*L26/100),(IF(R26>0,((R26)*L26/100),0))))) -> 0 | T26: =IF(AND(N26>0,R26>0),(((N26+R26))*M26/100),(IF(N26>0,((N26)*M26/100),(IF(R26>0,((R26)*M26/100),0))))) -> 0
L27: =IFERROR(INDEX(Codes!D2:F13, MATCH(I27, Codes!D2:D13,0), 2),0) -> 0 | M27: =IFERROR(INDEX(Codes!D2:F13, MATCH(I27, Codes!D2:D13,0), 3),0) -> 0 | R27: =P27*Q27 -> 0 | S27: =IF(AND(N27>0,R27>0),(((N27+R27))*L27/100),(IF(N27>0,((N27)*L27/100),(IF(R27>0,((R27)*L27/100),0))))) -> 0 | T27: =IF(AND(N27>0,R27>0),(((N27+R27))*M27/100),(IF(N27>0,((N27)*M27/100),(IF(R27>0,((R27)*M27/100),0))))) -> 0
L28: =IFERROR(INDEX(Codes!D2:F13, MATCH(I28, Codes!D2:D13,0), 2),0) -> 0 | M28: =IFERROR(INDEX(Codes!D2:F13, MATCH(I28, Codes!D2:D13,0), 3),0) -> 0 | R28: =P28*Q28 -> 0 | S28: =IF(AND(N28>0,R28>0),(((N28+R28))*L28/100),(IF(N28>0,((N28)*L28/100),(IF(R28>0,((R28)*L28/100),0))))) -> 0 | T28: =IF(AND(N28>0,R28>0),(((N28+R28))*M28/100),(IF(N28>0,((N28)*M28/100),(IF(R28>0,((R28)*M28/100),0))))) -> 0
L29: =IFERROR(INDEX(Codes!D2:F13, MATCH(I29, Codes!D2:D13,0), 2),0) -> 0 | M29: =IFERROR(INDEX(Codes!D2:F13, MATCH(I29, Codes!D2:D13,0), 3),0) -> 0 | R29: =P29*Q29 -> 0 | S29: =IF(AND(N29>0,R29>0),(((N29+R29))*L29/100),(IF(N29>0,((N29)*L29/100),(IF(R29>0,((R29)*L29/100),0))))) -> 0 | T29: =IF(AND(N29>0,R29>0),(((N29+R29))*M29/100),(IF(N29>0,((N29)*M29/100),(IF(R29>0,((R29)*M29/100),0))))) -> 0
L30: =IFERROR(INDEX(Codes!D2:F13, MATCH(I30, Codes!D2:D13,0), 2),0) -> 0 | M30: =IFERROR(INDEX(Codes!D2:F13, MATCH(I30, Codes!D2:D13,0), 3),0) -> 0 | R30: =P30*Q30 -> 0 | S30: =IF(AND(N30>0,R30>0),(((N30+R30))*L30/100),(IF(N30>0,((N30)*L30/100),(IF(R30>0,((R30)*L30/100),0))))) -> 0 | T30: =IF(AND(N30>0,R30>0),(((N30+R30))*M30/100),(IF(N30>0,((N30)*M30/100),(IF(R30>0,((R30)*M30/100),0))))) -> 0
L31: =IFERROR(INDEX(Codes!D2:F13, MATCH(I31, Codes!D2:D13,0), 2),0) -> 0 | M31: =IFERROR(INDEX(Codes!D2:F13, MATCH(I31, Codes!D2:D13,0), 3),0) -> 0 | R31: =P31*Q31 -> 0 | S31: =IF(AND(N31>0,R31>0),(((N31+R31))*L31/100),(IF(N31>0,((N31)*L31/100),(IF(R31>0,((R31)*L31/100),0))))) -> 0 | T31: =IF(AND(N31>0,R31>0),(((N31+R31))*M31/100),(IF(N31>0,((N31)*M31/100),(IF(R31>0,((R31)*M31/100),0))))) -> 0
L32: =IFERROR(INDEX(Codes!D2:F13, MATCH(I32, Codes!D2:D13,0), 2),0) -> 0 | M32: =IFERROR(INDEX(Codes!D2:F13, MATCH(I32, Codes!D2:D13,0), 3),0) -> 0 | R32: =P32*Q32 -> 0 | S32: =IF(AND(N32>0,R32>0),(((N32+R32))*L32/100),(IF(N32>0,((N32)*L32/100),(IF(R32>0,((R32)*L32/100),0))))) -> 0 | T32: =IF(AND(N32>0,R32>0),(((N32+R32))*M32/100),(IF(N32>0,((N32)*M32/100),(IF(R32>0,((R32)*M32/100),0))))) -> 0
L33: =IFERROR(INDEX(Codes!D2:F13, MATCH(I33, Codes!D2:D13,0), 2),0) -> 0 | M33: =IFERROR(INDEX(Codes!D2:F13, MATCH(I33, Codes!D2:D13,0), 3),0) -> 0 | R33: =P33*Q33 -> 0 | S33: =IF(AND(N33>0,R33>0),(((N33+R33))*L33/100),(IF(N33>0,((N33)*L33/100),(IF(R33>0,((R33)*L33/100),0))))) -> 0 | T33: =IF(AND(N33>0,R33>0),(((N33+R33))*M33/100),(IF(N33>0,((N33)*M33/100),(IF(R33>0,((R33)*M33/100),0))))) -> 0
L34: =IFERROR(INDEX(Codes!D2:F13, MATCH(I34, Codes!D2:D13,0), 2),0) -> 0 | M34: =IFERROR(INDEX(Codes!D2:F13, MATCH(I34, Codes!D2:D13,0), 3),0) -> 0 | R34: =P34*Q34 -> 0 | S34: =IF(AND(N34>0,R34>0),(((N34+R34))*L34/100),(IF(N34>0,((N34)*L34/100),(IF(R34>0,((R34)*L34/100),0))))) -> 0 | T34: =IF(AND(N34>0,R34>0),(((N34+R34))*M34/100),(IF(N34>0,((N34)*M34/100),(IF(R34>0,((R34)*M34/100),0))))) -> 0
L35: =IFERROR(INDEX(Codes!D2:F13, MATCH(I35, Codes!D2:D13,0), 2),0) -> 0 | M35: =IFERROR(INDEX(Codes!D2:F13, MATCH(I35, Codes!D2:D13,0), 3),0) -> 0 | R35: =P35*Q35 -> 0 | S35: =IF(AND(N35>0,R35>0),(((N35+R35))*L35/100),(IF(N35>0,((N35)*L35/100),(IF(R35>0,((R35)*L35/100),0))))) -> 0 | T35: =IF(AND(N35>0,R35>0),(((N35+R35))*M35/100),(IF(N35>0,((N35)*M35/100),(IF(R35>0,((R35)*M35/100),0))))) -> 0
L36: =IFERROR(INDEX(Codes!D2:F13, MATCH(I36, Codes!D2:D13,0), 2),0) -> 0 | M36: =IFERROR(INDEX(Codes!D2:F13, MATCH(I36, Codes!D2:D13,0), 3),0) -> 0 | R36: =P36*Q36 -> 0 | S36: =IF(AND(N36>0,R36>0),(((N36+R36))*L36/100),(IF(N36>0,((N36)*L36/100),(IF(R36>0,((R36)*L36/100),0))))) -> 0 | T36: =IF(AND(N36>0,R36>0),(((N36+R36))*M36/100),(IF(N36>0,((N36)*M36/100),(IF(R36>0,((R36)*M36/100),0))))) -> 0
L37: =IFERROR(INDEX(Codes!D2:F13, MATCH(I37, Codes!D2:D13,0), 2),0) -> 0 | M37: =IFERROR(INDEX(Codes!D2:F13, MATCH(I37, Codes!D2:D13,0), 3),0) -> 0 | R37: =P37*Q37 -> 0 | S37: =IF(AND(N37>0,R37>0),(((N37+R37))*L37/100),(IF(N37>0,((N37)*L37/100),(IF(R37>0,((R37)*L37/100),0))))) -> 0 | T37: =IF(AND(N37>0,R37>0),(((N37+R37))*M37/100),(IF(N37>0,((N37)*M37/100),(IF(R37>0,((R37)*M37/100),0))))) -> 0
L38: =IFERROR(INDEX(Codes!D2:F13, MATCH(I38, Codes!D2:D13,0), 2),0) -> 0 | M38: =IFERROR(INDEX(Codes!D2:F13, MATCH(I38, Codes!D2:D13,0), 3),0) -> 0 | R38: =P38*Q38 -> 0 | S38: =IF(AND(N38>0,R38>0),(((N38+R38))*L38/100),(IF(N38>0,((N38)*L38/100),(IF(R38>0,((R38)*L38/100),0))))) -> 0 | T38: =IF(AND(N38>0,R38>0),(((N38+R38))*M38/100),(IF(N38>0,((N38)*M38/100),(IF(R38>0,((R38)*M38/100),0))))) -> 0
L39: =IFERROR(INDEX(Codes!D2:F13, MATCH(I39, Codes!D2:D13,0), 2),0) -> 0 | M39: =IFERROR(INDEX(Codes!D2:F13, MATCH(I39, Codes!D2:D13,0), 3),0) -> 0 | R39: =P39*Q39 -> 0 | S39: =IF(AND(N39>0,R39>0),(((N39+R39))*L39/100),(IF(N39>0,((N39)*L39/100),(IF(R39>0,((R39)*L39/100),0))))) -> 0 | T39: =IF(AND(N39>0,R39>0),(((N39+R39))*M39/100),(IF(N39>0,((N39)*M39/100),(IF(R39>0,((R39)*M39/100),0))))) -> 0
L40: =IFERROR(INDEX(Codes!D2:F13, MATCH(I40, Codes!D2:D13,0), 2),0) -> 0 | M40: =IFERROR(INDEX(Codes!D2:F13, MATCH(I40, Codes!D2:D13,0), 3),0) -> 0 | R40: =P40*Q40 -> 0 | S40: =IF(AND(N40>0,R40>0),(((N40+R40))*L40/100),(IF(N40>0,((N40)*L40/100),(IF(R40>0,((R40)*L40/100),0))))) -> 0 | T40: =IF(AND(N40>0,R40>0),(((N40+R40))*M40/100),(IF(N40>0,((N40)*M40/100),(IF(R40>0,((R40)*M40/100),0))))) -> 0
L41: =IFERROR(INDEX(Codes!D2:F13, MATCH(I41, Codes!D2:D13,0), 2),0) -> 0 | M41: =IFERROR(INDEX(Codes!D2:F13, MATCH(I41, Codes!D2:D13,0), 3),0) -> 0 | R41: =P41*Q41 -> 0 | S41: =IF(AND(N41>0,R41>0),(((N41+R41))*L41/100),(IF(N41>0,((N41)*L41/100),(IF(R41>0,((R41)*L41/100),0))))) -> 0 | T41: =IF(AND(N41>0,R41>0),(((N41+R41))*M41/100),(IF(N41>0,((N41)*M41/100),(IF(R41>0,((R41)*M41/100),0))))) -> 0
L42: =IFERROR(INDEX(Codes!D2:F13, MATCH(I42, Codes!D2:D13,0), 2),0) -> 0 | M42: =IFERROR(INDEX(Codes!D2:F13, MATCH(I42, Codes!D2:D13,0), 3),0) -> 0 | R42: =P42*Q42 -> 0 | S42: =IF(AND(N42>0,R42>0),(((N42+R42))*L42/100),(IF(N42>0,((N42)*L42/100),(IF(R42>0,((R42)*L42/100),0))))) -> 0 | T42: =IF(AND(N42>0,R42>0),(((N42+R42))*M42/100),(IF(N42>0,((N42)*M42/100),(IF(R42>0,((R42)*M42/100),0))))) -> 0
...

Sheet Codes
C1: Fertilizer Non-Manure | D1: Fertilizer Manure | E1: Total N (lbs/ton) | F1: P205 (lbs/ton) | G1: Citrus | H1: Cow/Calf or Cattle | I1: Dairies | J1: Equine | K1: LOPP | L1: Nurseries | M1: Poultry | N1: Sod | O1: Specialty Fruit and Nut | P1: Vegetable and Agronomic Crop
A2: January | B2: 2018 | C2: Class AA Biosolids (with analysis) | D2: Beef Cow Manure | E2: 7 | F2: 4 | G2: Grapefruit | H2: Alfalfa | I2: Alfalfa | J2: Alfalfa | K2: Alfalfa | L2: Other | M2: Other | N2: Bermuda | O2: Avocado | P2: Alfalfa
A3: February | B3: 2019 | C3: Commercial Fertilizer (with analysis) | D3: Broiler Poultry Manure | E3: 46 | F3: 53 | G3: Honey Tangelo | H3: Bahiagrass, establishment of new plantings | I3: Bahiagrass, establishment of new plantings | J3: Bahiagrass, establishment of new plantings | K3: Avocado | N3: Centipede, Bahia | O3: Blueberry | P3: Bahiagrass, establishment of new plantings
A4: March | B4: 2020 | C4: Composted Material (no analysis) | D4: Calf Manure | E4: 9 | F4: 4 | G4: Oranges (1-3 Year Old) | H4: Bahiagrass, grazed (high) | I4: Bahiagrass, grazed (high) | J4: Bahiagrass, grazed (high) | K4: Bahiagrass, establishment of new plantings | N4: Other | O4: Muscadine Grape | P4: Bahiagrass, grazed (high)
A5: April | B5: 2021 | C5: Other Non-Manure (with analysis) | D5: Composted Poultry Manure | E5: 17 | F5: 39 | G5: Oranges (4-7 Year Old) | H5: Bahiagrass, grazed (low) | I5: Bahiagrass, grazed (low) | J5: Bahiagrass, grazed (low) | K5: Bahiagrass, grazed (high) | N5: Paspalum | O5: Other | P5: Bahiagrass, grazed (low)
A6: May | B6: 2022 | C6: Other Non-Manure (no analysis) | D6: Dairy Cow Manure | E6: 10 | F6: 3 | G6: Oranges (8 Year and Older) | H6: Bahiagrass, grazed (medium) | I6: Bahiagrass, grazed (medium) | J6: Bahiagrass, grazed (medium) | K6: Bahiagrass, grazed (low) | N6: St. Augustine, Zoysia | O6: Peach | P6: Bahiagrass, grazed (medium)
A7: June | B7: 2023 | D7: Dairy Cow Separated Manure | E7: 4 | F7: 1 | G7: Orlando Tangelo | H7: Bermuda | I7: Bermuda | J7: Bermuda | K7: Bahiagrass, grazed (medium) | O7: Pecan | P7: Beet
A8: July | B8: 2024 | D8: Horse Manure | E8: 14 | F8: 4 | G8: Other | H8: Digit | I8: Digit | J8: Digit | K8: Beet | O8: Persimmon | P8: Bermuda
A9: August | B9: 2025 | D9: Layer Poultry Manure | E9: 34 | F9: 51 | H9: Grain sorghum or forage sorghum for silage | I9: Grain sorghum or forage sorghum for silage | J9: Grain sorghum or forage sorghum for silage | K9: Bermuda | P9: Broccoli
A10: September | B10: 2026 | D10: Mill Mud (cachaza) | E10: 1 | F10: 6 | H10: Hay or silage (perennial grass) | I10: Hay or silage (perennial grass) | J10: Hay or silage (perennial grass) | K10: Blueberry | P10: Brussels Sprouts
A11: October | B11: 2027 | D11: Pelletized Poultry Manure | E11: 80 | F11: 104 | H11: Limpograss (Hemarthria) | I11: Limpograss (Hemarthria) | J11: Limpograss (Hemarthria) | K11: Broccoli | P11: Bunching Onion
A12: November | B12: 2028 | D12: Poultry Manure with Litter | E12: 56 | F12: 45 | H12: Other | I12: Other | J12: Other | K12: Brussels Sprouts | P12: Cabbage
A13: December | B13: 2029 | D13: Swine Manure | E13: 10 | F13: 9 | H13: Perennial peanuts | I13: Perennial peanuts | J13: Perennial peanuts | K13: Bunching Onion | P13: Carrots
H14: Rhodesgrass | I14: Rhodesgrass | J14: Rhodesgrass | K14: Cabbage | P14: Cauliflower
H15: Star | I15: Star | J15: Star | K15: Carrots | P15: Celery
H16: Triticale, oats, or rye for grain of silage | I16: Triticale, oats, or rye for grain of silage | J16: Triticale, oats, or rye for grain of silage | K16: Cauliflower | P16: Chinese Cabbage
H17: Wheat for grain | I17: Wheat for grain | J17: Wheat for grain | K17: Celery | P17: Collards
K18: Centipede, Bahia | P18: Cool-season annual grasses
K19: Chinese Cabbage | P19: Cool-season legumes or legume-grass mixtures
K20: Collards | P20: Corn, Irrigated
K21: Cool-season annual grasses | P21: Corn, Non-irrigated
K22: Cool-season legumes or legume-grass mixtures | P22: Cotton
K23: Corn, Irrigated | P23: Crisphead Lettuce
K24: Corn, Non-irrigated | P24: Cucumber
K25: Cotton | P25: Digit
K26: Crisphead Lettuce | P26: Eggplant
K27: Cucumber | P27: Endive
K28: Digit | P28: English Pea
K29: Eggplant | P29: Escarole
... K70: Spinach | P70: Wheat for grain
K71: Squash
K72: St. Augustine, Zoysia
K73: Star
K74: Strawberry
K75: Sugarcane for syrup
K76: Summer annual grasses
K77: Sweet Bulb Onion
K78: Sweet corn
K79: Sweet Potato
K80: Tomato
...
