Workbook

Sheet Instructions
A2: If you use this STATE and LOCAL COMBINED workbook - you do NOT have to use the other workbooks (STATE only or LOCAL only). This workbook IS BOTH the STATE and LOCAL workbooks combined.
A4: The Annl Cert. Bud-13617 is where the district will enter their beginning STATE/LOCAL budget amounts
A6: The workbook design is to start with an approved STATE/LOCAL budget;
B7: A district would process EITHER a STATE and/or LOCAL amendment to make changes to the budget (if needed - if NOT needed - skip the amendments);
B8: and enter your STATE and/or LOCAL receipts and expenditures into the monthly financials.
B10: AFTER a STATE and/or LOCAL monthly financial is filed, you would use the next available STATE and/or LOCAL amendment form (as needed) to make adjustments to the budget.
B11: DO NOT use an EARLIER amendment tab than the latest monthly financial - (ex - IF you have filed December State and Local Monthly financials, DO NOT use either
C12: budget amendment tabs #1, 2, or 3…. Use budget amendment tab #4 for December adjustments)
A14: The workbook has embedded comments at certain cells that provide information on some budget restrictions/constraints.
B15: Look for the red cell corner | F15: (rest your cursor in the cell to the left to see an example comment.)
A17: TO UPDATE FISCAL YEAR
B18: Modify cell E9 on Annl Cert. Bud-13617 tab (long format required - ex. OCTOBER 1, 2013 - SEPTEMBER 30, 2014)
B19: Modify cell E10 on State Bud Amnd(1)-13613 tab (this will be carried throughout all other tabs in worksheet - ex. 2013-2014)
A22: Revisions
A23: 41508 | B23: New Department seal/logo; Created ability for users to modify fiscal year
A24: 42003 | B24: Updated addresses due to reorg
A25: 42038 | B25: Updated address in Submit To box, form revision date, and program title.
A26: 43675 | B26: Updated address in Submit To box, updated Commissioner and rule reference

Sheet Annl Cert. Bud-13617
C2: Florida Department of Agriculture and Consumer Services
C3: Division of Agricultural Environmental Services
C4: ANNUAL CERTIFIED BUDGET FOR ARTHROPOD CONTROL
C6: Rule 5E-13.027, F.A.C.
C7: Telephone: (850) 617-7911; Fax (850) 617-7939
A9: County or District | D9: FISCAL YEAR: | E9: 2018-2019
A10: RECEIPTS
A11: Acct # | B11: Description | D11: TOTAL | E11: LOCAL | F11: STATE
A12: 311 | B12: Ad Valorem (Current/Delinquent) | D12: =SUM(E12:F12) -> 0 | E12: 0 | F12: 0
A13: 334.1 | B13: State Grant | D13: =SUM(E13:F13) -> 0 | E13: 0 | F13: 0
A14: 362 | B14: Equipment Rentals | D14: =SUM(E14:F14) -> 0 | E14: 0 | F14: 0
A15: 337 | B15: Grants and Donations | D15: =SUM(E15:F15) -> 0 | E15: 0 | F15: 0
A16: 361 | B16: Interest Earnings | D16: =SUM(E16:F16) -> 0 | E16: 0 | F16: 0
A17: 364 | B17: Equipment and/or Other Sales | D17: =SUM(E17:F17) -> 0 | E17: 0 | F17: 0
A18: 369 | B18: Misc./Refunds (prior yr expenditures) | D18: =SUM(E18:F18) -> 0 | E18: 0 | F18: 0
A19: 380 | B19: Other Sources | D19: =SUM(E19:F19) -> 0 | E19: 0 | F19: 0
A20: 389 | B20: Loans | D20: =SUM(E20:F20) -> 0 | E20: 0 | F20: 0
A21: TOTAL RECEIPTS | D21: =SUM(D12:D20) -> 0 | E21: =SUM(E12:E20) -> 0 | F21: =SUM(F12:F20) -> 0
A22: Beginning Fund Balance | D22: =SUM(E22:F22) -> 0 | E22: 0 | F22: 0
A23: Total Budgetary Receipts & Balances | D23: =SUM(D21:D22) -> 0 | E23: =SUM(E21:E22) -> 0 | F23: =SUM(F21:F22) -> 0
A24: EXPENDITURES
A25: Acct # | B25: Uniform Accounting System Transaction | D25: TOTAL | E25: LOCAL | F25: STATE
A26: 10 | B26: Personal Services | D26: =SUM(E26:F26) -> 0 | E26: 0 | F26: 0
A27: 20 | B27: Personal Services Benefits | D27: =SUM(E27:F27) -> 0 | E27: 0 | F27: 0
A28: 30 | B28: Operating Expense | D28: =SUM(E28:F28) -> 0 | E28: 0 | F28: 0
A29: 40 | B29: Travel & Per Diem | D29: =SUM(E29:F29) -> 0 | E29: 0 | F29: 0
A30: 41 | B30: Communication Serv | D30: =SUM(E30:F30) -> 0 | E30: 0 | F30: 0
A31: 42 | B31: Freight Services | D31: =SUM(E31:F31) -> 0 | E31: 0 | F31: 0
A32: 43 | B32: Utility Service | D32: =SUM(E32:F32) -> 0 | E32: 0 | F32: 0
A33: 44 | B33: Rentals & Leases | D33: =SUM(E33:F33) -> 0 | E33: 0 | F33: 0
A34: 45 | B34: Insurance | D34: =SUM(E34:F34) -> 0 | E34: 0 | F34: 0
A35: 46 | B35: Repairs & Maintenance | D35: =SUM(E35:F35) -> 0 | E35: 0 | F35: 0
A36: 47 | B36: Printing and Binding | D36: =SUM(E36:F36) -> 0 | E36: 0 | F36: 0
A37: 48 | B37: Promotional Activities | D37: =SUM(E37:F37) -> 0 | E37: 0 | F37: 0
... A53: 99 | B53: Payment of Prior Year Accounts | D53: =SUM(E53:F53) -> 0 | E53: 0 | F53: 0
A54: TOTAL BUDGET AND CHANGES | D54: =SUM(D26:D53) -> 0 | E54: =SUM(E26:E53) -> 0 | F54: =SUM(F26:F53) -> 0
A55: 0.001 | B55: Reserves - Future Capital Outlay | D55: =SUM(E55:F55) -> 0 | E55: 0 | F55: 0
A56: 0.002 | B56: Reserves - Self-Insurance | D56: =SUM(E56:F56) -> 0 | E56: 0 | F56: 0
A57: 0.003 | B57: Reserves - Cash Balance to be Carried Forward | D57: =SUM(E57:F57) -> 0 | E57: 0 | F57: 0
A58: 0.004 | B58: Reserves - Sick and Annual Leave Trans Out | D58: =SUM(E58:F58) -> 0 | E58: 0 | F58: 0
...

Sheet Local Bud Amnd(1)-13613
C1: Florida Department of Agriculture and Consumer Services
C2: Division of Agricultural Environmental Services
C4: ARTHROPOD CONTROL BUDGET AMENDMENT
C6: Rule 5E-13.027, F.A.C.
C7: Telephone: (850) 617-7911; Fax (850) 617-7939
A9: A STATEMENT EXPLAINING AND JUSTIFYING THE PROPOSED CHANGES SHOULD ACCOMPANY EACH APPLICATION FOR BUDGET AMENDMENT. USE PAGE TWO FOR THIS PURPOSE.
A11: Amendment No. | D11: Fiscal Year: | E11: ='Annl Cert. Bud-13617'!E9 -> 2018-2019 | F11: Date:
A12: Amending: Local Funds X State Funds (Check appropriate fund account to be amended. Use a separate form for each fund). The
A13: Board of Commissioners for | C13: ='Annl Cert. Bud-13617'!C9 -> 0 | D13: District hereby submits to the Department of Agriculture and Consumer Services,
A14: for its consideration and approval, the following amendment for the current fiscal year as follows:
A15: ESTIMATED RECEIPTS
A16: NOTE: The budget cannot be amended to show an increase in receipts over the amount budgeted unless authorized.
A17: Total Available Cash and Receipts | C17: Reserves | D17: Present Budget | E17: Increase Request | F17: Decrease Request | G17: Revised Budget
A18: =D34 -> 0 | C18: =D71 -> 0 | D18: =D72 -> 0 | E18: =E72 -> 0 | F18: =F72 -> 0 | G18: =G72 -> 0
A19: NAME SOURCE OF INCREASE: (Explain Decrease)
A21: BUDGETED RECEIPTS
A22: ACCT NO | B22: Description | D22: Present Budget | E22: Increase Request | F22: Decrease Request | G22: Revised Budget
A23: 311 | B23: Ad Valorem (Current/Delinquent) | D23: ='Annl Cert. Bud-13617'!E12 -> 0 | E23: 0 | F23: 0 | G23: =D23+E23-F23 -> 0
A24: 334.1 | B24: State Grant | D24: ='Annl Cert. Bud-13617'!E13 -> 0 | E24: 0 | F24: 0 | G24: =D24+E24-F24 -> 0
A25: 362 | B25: Equipment Rentals | D25: ='Annl Cert. Bud-13617'!E14 -> 0 | E25: 0 | F25: 0 | G25: =D25+E25-F25 -> 0
A26: 337 | B26: Grants and Donations | D26: ='Annl Cert. Bud-13617'!E15 -> 0 | E26: 0 | F26: 0 | G26: =D26+E26-F26 -> 0
A27: 361 | B27: Interest Earnings | D27: ='Annl Cert. Bud-13617'!E16 -> 0 | E27: 0 | F27: 0 | G27: =D27+E27-F27 -> 0
A28: 364 | B28: Equipment and/or Other Sales | D28: ='Annl Cert. Bud-13617'!E17 -> 0 | E28: 0 | F28: 0 | G28: =D28+E28-F28 -> 0
A29: 369 | B29: Misc./Refunds (prior yr expenditures) | D29: ='Annl Cert. Bud-13617'!E18 -> 0 | E29: 0 | F29: 0 | G29: =D29+E29-F29 -> 0
A30: 380 | B30: Other Sources | D30: ='Annl Cert. Bud-13617'!E19 -> 0 | E30: 0 | F30: 0 | G30: =D30+E30-F30 -> 0
A31: 389 | B31: Loans | D31: ='Annl Cert. Bud-13617'!E20 -> 0 | E31: 0 | F31: 0 | G31: =D31+E31-F31 -> 0
A32: TOTAL RECEIPTS | D32: =SUM(D23:D31) -> 0 | E32: =SUM(E23:E31) -> 0 | F32: =SUM(F23:F31) -> 0 | G32: =SUM(G23:G31) -> 0
A33: Beginning Fund Balance | D33: ='Annl Cert. Bud-13617'!E22 -> 0 | E33: 0 | F33: 0 | G33: =D33+E33-F33 -> 0
A34: Total Budgetary Receipts & Balances | D34: =SUM(D32:D33) -> 0 | E34: =SUM(E32:E33) -> 0 | F34: =SUM(F32:F33) -> 0 | G34: =SUM(G32:G33) -> 0
A35: BUDGETED EXPENDITURES
A36: NOTE: Total increase must equal total decrease, unless the total "Present Budget" is revised.
A37: ACCT NO | B37: Uniform Accounting System Transaction | D37: Present Budget | E37: Increase Request | F37: Decrease Request | G37: Revised Budget
A38: 10 | B38: Personal Services | D38: ='Annl Cert. Bud-13617'!E26 -> 0 | E38: 0 | F38: 0 | G38: =D38+E38-F38 -> 0
A39: 20 | B39: Personal Services Benefits | D39: ='Annl Cert. Bud-13617'!E27 -> 0 | E39: 0 | F39: 0 | G39: =D39+E39-F39 -> 0
A40: 30 | B40: Operating Expense | D40: ='Annl Cert. Bud-13617'!E28 -> 0 | E40: 0 | F40: 0 | G40: =D40+E40-F40 -> 0
A41: 40 | B41: Travel & Per Diem | D41: ='Annl Cert. Bud-13617'!E29 -> 0 | E41: 0 | F41: 0 | G41: =D41+E41-F41 -> 0
A42: 41 | B42: Communication Services | D42: ='Annl Cert. Bud-13617'!E30 -> 0 | E42: 0 | F42: 0 | G42: =D42+E42-F42 -> 0
A43: 42 | B43: Freight Services | D43: ='Annl Cert. Bud-13617'!E31 -> 0 | E43: 0 | F43: 0 | G43: =D43+E43-F43 -> 0
A44: 43 | B44: Utility Service | D44: ='Annl Cert. Bud-13617'!E32 -> 0 | E44: 0 | F44: 0 | G44: =D44+E44-F44 -> 0
A45: 44 | B45: Rentals & Leases | D45: ='Annl Cert. Bud-13617'!E33 -> 0 | E45: 0 | F45: 0 | G45: =D45+E45-F45 -> 0
...

Sheet (Oct) Local Fin-13663
C1: Florida Department of Agriculture and Consumer Services
C2: Division of Agricultural Environmental Services
C4: MOSQUITO CONTROL MONTHLY REPORT - LOCAL FUNDS
C6: Rule 5E-13.027, F.A.C.
C7: Telephone: (850) 617-7911; Fax (850) 617-7939
A9: COUNTY/ DISTRICT | C9: ='Annl Cert. Bud-13617'!C9 -> 0 | D9: FISCAL YEAR: | E9: ='Annl Cert. Bud-13617'!E9 -> 2018-2019 | F9: MONTH: | G9: October
A11: LOCAL FUNDS RECEIPTS AND BALANCES
A12: ACCT NO | B12: DESCRIPTION | D12: Budgeted | E12: Monthly | F12: Receipts Year | G12: Balance to Be
D13: Receipts | E13: Receipts | F13: to Date | G13: Collected
A14: 311 | B14: Ad Valorem (Current/Delinquent) | D14: ='Local Bud Amnd(1)-13613'!G23 -> 0 | E14: 0 | F14: =E14 -> 0 | G14: =D14-F14 -> 0
A15: 334.1 | B15: State Grant | D15: ='Local Bud Amnd(1)-13613'!G24 -> 0 | E15: 0 | F15: =E15 -> 0 | G15: =D15-F15 -> 0
A16: 362 | B16: Equipment Rentals | D16: ='Local Bud Amnd(1)-13613'!G25 -> 0 | E16: 0 | F16: =E16 -> 0 | G16: =D16-F16 -> 0
A17: 337 | B17: Grants and Donations | D17: ='Local Bud Amnd(1)-13613'!G26 -> 0 | E17: 0 | F17: =E17 -> 0 | G17: =D17-F17 -> 0
A18: 361 | B18: Interest Earnings | D18: ='Local Bud Amnd(1)-13613'!G27 -> 0 | E18: 0 | F18: =E18 -> 0 | G18: =D18-F18 -> 0
A19: 364 | B19: Equipment and/or Other Sales | D19: ='Local Bud Amnd(1)-13613'!G28 -> 0 | E19: 0 | F19: =E19 -> 0 | G19: =D19-F19 -> 0
A20: 369 | B20: Misc./Refunds (prior yr expenditures) | D20: ='Local Bud Amnd(1)-13613'!G29 -> 0 | E20: 0 | F20: =E20 -> 0 | G20: =D20-F20 -> 0
A21: 380 | B21: Other Sources | D21: ='Local Bud Amnd(1)-13613'!G30 -> 0 | E21: 0 | F21: =E21 -> 0 | G21: =D21-F21 -> 0
A22: 389 | B22: Loans | D22: ='Local Bud Amnd(1)-13613'!G31 -> 0 | E22: 0 | F22: =E22 -> 0 | G22: =D22-F22 -> 0
A23: TOTAL RECEIPTS | D23: =SUM(D14:D22) -> 0 | E23: =SUM(E14:E22) -> 0 | F23: =SUM(F14:F22) -> 0 | G23: =SUM(G14:G22) -> 0
A24: BEGINNING FUND BALANCE | D24: ='Local Bud Amnd(1)-13613'!G33 -> 0 | E24: 0 | F24: =E24 -> 0 | G24: =D24-F24 -> 0
A25: Total Receipts & Balance | D25: =SUM(D23:D24) -> 0 | E25: =SUM(E23:E24) -> 0 | F25: =SUM(F23:F24) -> 0 | G25: =SUM(G23:G24) -> 0
A27: LOCAL FUNDS EXPENDITURES AND BALANCES
A28: ACCT NO | B28: Uniform Accounting System Transaction Code | D28: Budgeted | E28: Monthly | F28: Expenditures Year | G28: Balance to Be
D29: Expenditures | E29: Expenditures | F29: to Date | G29: Expended
A30: 10 | B30: Personal Services | D30: ='Local Bud Amnd(1)-13613'!G38 -> 0 | E30: 0 | F30: =E30 -> 0 | G30: =D30-F30 -> 0
A31: 20 | B31: Personal Services Benefits | D31: ='Local Bud Amnd(1)-13613'!G39 -> 0 | E31: 0 | F31: =E31 -> 0 | G31: =D31-F31 -> 0
A32: 30 | B32: Operating Expense | D32: ='Local Bud Amnd(1)-13613'!G40 -> 0 | E32: 0 | F32: =E32 -> 0 | G32: =D32-F32 -> 0
A33: 40 | B33: Travel & Per Diem | D33: ='Local Bud Amnd(1)-13613'!G41 -> 0 | E33: 0 | F33: =E33 -> 0 | G33: =D33-F33 -> 0
A34: 41 | B34: Communication Services | D34: ='Local Bud Amnd(1)-13613'!G42 -> 0 | E34: 0 | F34: =E34 -> 0 | G34: =D34-F34 -> 0
A35: 42 | B35: Freight Services | D35: ='Local Bud Amnd(1)-13613'!G43 -> 0 | E35: 0 | F35: =E35 -> 0 | G35: =D35-F35 -> 0
A36: 43 | B36: Utility Service | D36: ='Local Bud Amnd(1)-13613'!G44 -> 0 | E36: 0 | F36: =E36 -> 0 | G36: =D36-F36 -> 0
A37: 44 | B37: Rentals & Leases | D37: ='Local Bud Amnd(1)-13613'!G45 -> 0 | E37: 0 | F37: =E37 -> 0 | G37: =D37-F37 -> 0
A38: 45 | B38: Insurance | D38: ='Local Bud Amnd(1)-13613'!G46 -> 0 | E38: 0 | F38: =E38 -> 0 | G38: =D38-F38 -> 0
A39: 46 | B39: Repairs & Maintenance | D39: ='Local Bud Amnd(1)-13613'!G47 -> 0 | E39: 0 | F39: =E39 -> 0 | G39: =D39-F39 -> 0
A40: 47 | B40: Printing and Binding | D40: ='Local Bud Amnd(1)-13613'!G48 -> 0 | E40: 0 | F40: =E40 -> 0 | G40: =D40-F40 -> 0
A41: 48 | B41: Promotional Activities | D41: ='Local Bud Amnd(1)-13613'!G49 -> 0 | E41: 0 | F41: =E41 -> 0 | G41: =D41-F41 -> 0
... A57: 99 | B57: Payment of Prior Year Accounts | D57: ='Local Bud Amnd(1)-13613'!G65 -> 0 | E57: 0 | F57: =E57 -> 0 | G57: =D57-F57 -> 0
A58: TOTAL BUDGET AND CHARGES | D58: =SUM(D30:D57) -> 0 | E58: =SUM(E30:E57) -> 0 | F58: =SUM(F30:F57) -> 0 | G58: =SUM(G30:G57) -> 0
A59: 0.001 | B59: Reserves - Future Capital Outlay | D59: ='Local Bud Amnd(1)-13613'!G67 -> 0 | E59: 0 | F59: =E59 -> 0 | G59: =D59-F59 -> 0
A60: 0.002 | B60: Reserves - Self-Insurance | D60: ='Local Bud Amnd(1)-13613'!G68 -> 0 | E60: 0 | F60: =E60 -> 0 | G60: =D60-F60 -> 0
...

Sheet Local Bud Amnd(2)-13613
C1: Florida Department of Agriculture and Consumer Services
C2: Division of Agricultural Environmental Services
C4: ARTHROPOD CONTROL BUDGET AMENDMENT
C6: Rule 5E-13.027, F.A.C.
C7: Telephone: (850) 617-7911; Fax (850) 617-7939
A9: A STATEMENT EXPLAINING AND JUSTIFYING THE PROPOSED CHANGES SHOULD ACCOMPANY EACH APPLICATION FOR BUDGET AMENDMENT. USE PAGE TWO FOR THIS PURPOSE.
A11: Amendment No. | D11: Fiscal Year: | E11: ='Annl Cert. Bud-13617'!E9 -> 2018-2019 | F11: Date:
A12: Amending: Local Funds X State Funds (Check appropriate fund account to be amended. Use a separate form for each fund). The
A13: Board of Commissioners for | C13: ='Annl Cert. Bud-13617'!C9 -> 0 | D13: District hereby submits to the Department of Agriculture and Consumer Services,
A14: for its consideration and approval, the following amendment for the current fiscal year as follows:
A15: ESTIMATED RECEIPTS
A16: NOTE: The budget cannot be amended to show an increase in receipts over the amount budgeted unless authorized.
A17: Total Available Cash and Receipts | C17: Reserves | D17: Present Budget | E17: Increase Request | F17: Decrease Request | G17: Revised Budget
A18: =D34 -> 0 | C18: =D71 -> 0 | D18: =D72 -> 0 | E18: =E72 -> 0 | F18: =F72 -> 0 | G18: =G72 -> 0
A19: NAME SOURCE OF INCREASE: (Explain Decrease)
A21: BUDGETED RECEIPTS
A22: ACCT NO | B22: Description | D22: Present Budget | E22: Increase Request | F22: Decrease Request | G22: Revised Budget
A23: 311 | B23: Ad Valorem (Current/Delinquent) | D23: ='Local Bud Amnd(1)-13613'!G23 -> 0 | E23: 0 | F23: 0 | G23: =D23+E23-F23 -> 0
A24: 334.1 | B24: State Grant | D24: ='Local Bud Amnd(1)-13613'!G24 -> 0 | E24: 0 | F24: 0 | G24: =D24+E24-F24 -> 0
A25: 362 | B25: Equipment Rentals | D25: ='Local Bud Amnd(1)-13613'!G25 -> 0 | E25: 0 | F25: 0 | G25: =D25+E25-F25 -> 0
A26: 337 | B26: Grants and Donations | D26: ='Local Bud Amnd(1)-13613'!G26 -> 0 | E26: 0 | F26: 0 | G26: =D26+E26-F26 -> 0
A27: 361 | B27: Interest Earnings | D27: ='Local Bud Amnd(1)-13613'!G27 -> 0 | E27: 0 | F27: 0 | G27: =D27+E27-F27 -> 0
A28: 364 | B28: Equipment and/or Other Sales | D28: ='Local Bud Amnd(1)-13613'!G28 -> 0 | E28: 0 | F28: 0 | G28: =D28+E28-F28 -> 0
A29: 369 | B29: Misc./Refunds (prior yr expenditures) | D29: ='Local Bud Amnd(1)-13613'!G29 -> 0 | E29: 0 | F29: 0 | G29: =D29+E29-F29 -> 0
A30: 380 | B30: Other Sources | D30: ='Local Bud Amnd(1)-13613'!G30 -> 0 | E30: 0 | F30: 0 | G30: =D30+E30-F30 -> 0
A31: 389 | B31: Loans | D31: ='Local Bud Amnd(1)-13613'!G31 -> 0 | E31: 0 | F31: 0 | G31: =D31+E31-F31 -> 0
A32: TOTAL RECEIPTS | D32: =SUM(D23:D31) -> 0 | E32: =SUM(E23:E31) -> 0 | F32: =SUM(F23:F31) -> 0 | G32: =SUM(G23:G31) -> 0
A33: Beginning Fund Balance | D33: ='Local Bud Amnd(1)-13613'!G33 -> 0 | E33: 0 | F33: 0 | G33: =D33+E33-F33 -> 0
A34: Total Budgetary Receipts & Balances | D34: =SUM(D32:D33) -> 0 | E34: =SUM(E32:E33) -> 0 | F34: =SUM(F32:F33) -> 0 | G34: =SUM(G32:G33) -> 0
A35: BUDGETED EXPENDITURES
A36: NOTE: Total increase must equal total decrease, unless the total "Present Budget" is revised.
A37: ACCT NO | B37: Uniform Accounting System Transaction | D37: Present Budget | E37: Increase Request | F37: Decrease Request | G37: Revised Budget
A38: 10 | B38: Personal Services | D38: ='Local Bud Amnd(1)-13613'!G38 -> 0 | E38: 0 | F38: 0 | G38: =D38+E38-F38 -> 0
A39: 20 | B39: Personal Services Benefits | D39: ='Local Bud Amnd(1)-13613'!G39 -> 0 | E39: 0 | F39: 0 | G39: =D39+E39-F39 -> 0
A40: 30 | B40: Operating Expense | D40: ='Local Bud Amnd(1)-13613'!G40 -> 0 | E40: 0 | F40: 0 | G40: =D40+E40-F40 -> 0
A41: 40 | B41: Travel & Per Diem | D41: ='Local Bud Amnd(1)-13613'!G41 -> 0 | E41: 0 | F41: 0 | G41: =D41+E41-F41 -> 0
A42: 41 | B42: Communication Services | D42: ='Local Bud Amnd(1)-13613'!G42 -> 0 | E42: 0 | F42: 0 | G42: =D42+E42-F42 -> 0
A43: 42 | B43: Freight Services | D43: ='Local Bud Amnd(1)-13613'!G43 -> 0 | E43: 0 | F43: 0 | G43: =D43+E43-F43 -> 0
A44: 43 | B44: Utility Service | D44: ='Local Bud Amnd(1)-13613'!G44 -> 0 | E44: 0 | F44: 0 | G44: =D44+E44-F44 -> 0
A45: 44 | B45: Rentals & Leases | D45: ='Local Bud Amnd(1)-13613'!G45 -> 0 | E45: 0 | F45: 0 | G45: =D45+E45-F45 -> 0
...

Sheet (Nov) Local Fin-13663
C1: Florida Department of Agriculture and Consumer Services
C2: Division of Agricultural Environmental Services
C4: MOSQUITO CONTROL MONTHLY REPORT - LOCAL FUNDS
C6: Rule 5E-13.027, F.A.C.
C7: Telephone: (850) 617-7911; Fax (850) 617-7939
A9: COUNTY/ DISTRICT | C9: ='Annl Cert. Bud-13617'!C9 -> 0 | D9: FISCAL YEAR: | E9: ='Annl Cert. Bud-13617'!E9 -> 2018-2019 | F9: MONTH: | G9: November
A11: LOCAL FUNDS RECEIPTS AND BALANCES
A12: ACCT NO | B12: DESCRIPTION | D12: Budgeted | E12: Monthly | F12: Receipts Year | G12: Balance to Be
D13: Receipts | E13: Receipts | F13: to Date | G13: Collected
A14: 311 | B14: Ad Valorem (Current/Delinquent) | D14: ='Local Bud Amnd(2)-13613'!G23 -> 0 | E14: 0 | F14: =E14+'(Oct) Local Fin-13663'!F14 -> 0 | G14: =D14-F14 -> 0
A15: 334.1 | B15: State Grant | D15: ='Local Bud Amnd(2)-13613'!G24 -> 0 | E15: 0 | F15: =E15+'(Oct) Local Fin-13663'!F15 -> 0 | G15: =D15-F15 -> 0
A16: 362 | B16: Equipment Rentals | D16: ='Local Bud Amnd(2)-13613'!G25 -> 0 | E16: 0 | F16: =E16+'(Oct) Local Fin-13663'!F16 -> 0 | G16: =D16-F16 -> 0
A17: 337 | B17: Grants and Donations | D17: ='Local Bud Amnd(2)-13613'!G26 -> 0 | E17: 0 | F17: =E17+'(Oct) Local Fin-13663'!F17 -> 0 | G17: =D17-F17 -> 0
A18: 361 | B18: Interest Earnings | D18: ='Local Bud Amnd(2)-13613'!G27 -> 0 | E18: 0 | F18: =E18+'(Oct) Local Fin-13663'!F18 -> 0 | G18: =D18-F18 -> 0
A19: 364 | B19: Equipment and/or Other Sales | D19: ='Local Bud Amnd(2)-13613'!G28 -> 0 | E19: 0 | F19: =E19+'(Oct) Local Fin-13663'!F19 -> 0 | G19: =D19-F19 -> 0
A20: 369 | B20: Misc./Refunds (prior yr expenditures) | D20: ='Local Bud Amnd(2)-13613'!G29 -> 0 | E20: 0 | F20: =E20+'(Oct) Local Fin-13663'!F20 -> 0 | G20: =D20-F20 -> 0
A21: 380 | B21: Other Sources | D21: ='Local Bud Amnd(2)-13613'!G30 -> 0 | E21: 0 | F21: =E21+'(Oct) Local Fin-13663'!F21 -> 0 | G21: =D21-F21 -> 0
A22: 389 | B22: Loans | D22: ='Local Bud Amnd(2)-13613'!G31 -> 0 | E22: 0 | F22: =E22+'(Oct) Local Fin-13663'!F22 -> 0 | G22: =D22-F22 -> 0
A23: TOTAL RECEIPTS | D23: =SUM(D14:D22) -> 0 | E23: =SUM(E14:E22) -> 0 | F23: =SUM(F14:F22) -> 0 | G23: =SUM(G14:G22) -> 0
A24: BEGINNING FUND BALANCE | D24: ='Local Bud Amnd(2)-13613'!G33 -> 0 | E24: 0 | F24: =E24+'(Oct) Local Fin-13663'!F24 -> 0 | G24: =D24-F24 -> 0
A25: Total Receipts & Balance | D25: =SUM(D23:D24) -> 0 | E25: =SUM(E23:E24) -> 0 | F25: =SUM(F23:F24) -> 0 | G25: =SUM(G23:G24) -> 0
A27: LOCAL FUNDS EXPENDITURES AND BALANCES
A28: ACCT NO | B28: Uniform Accounting System Transaction Code | D28: Budgeted | E28: Monthly | F28: Expenditures Year | G28: Balance to Be
D29: Expenditures | E29: Expenditures | F29: to Date | G29: Expended
A30: 10 | B30: Personal Services | D30: ='Local Bud Amnd(2)-13613'!G38 -> 0 | E30: 0 | F30: =E30+'(Oct) Local Fin-13663'!F30 -> 0 | G30: =D30-F30 -> 0
A31: 20 | B31: Personal Services Benefits | D31: ='Local Bud Amnd(2)-13613'!G39 -> 0 | E31: 0 | F31: =E31+'(Oct) Local Fin-13663'!F31 -> 0 | G31: =D31-F31 -> 0
A32: 30 | B32: Operating Expense | D32: ='Local Bud Amnd(2)-13613'!G40 -> 0 | E32: 0 | F32: =E32+'(Oct) Local Fin-13663'!F32 -> 0 | G32: =D32-F32 -> 0
A33: 40 | B33: Travel & Per Diem | D33: ='Local Bud Amnd(2)-13613'!G41 -> 0 | E33: 0 | F33: =E33+'(Oct) Local Fin-13663'!F33 -> 0 | G33: =D33-F33 -> 0
A34: 41 | B34: Communication Services | D34: ='Local Bud Amnd(2)-13613'!G42 -> 0 | E34: 0 | F34: =E34+'(Oct) Local Fin-13663'!F34 -> 0 | G34: =D34-F34 -> 0
A35: 42 | B35: Freight Services | D35: ='Local Bud Amnd(2)-13613'!G43 -> 0 | E35: 0 | F35: =E35+'(Oct) Local Fin-13663'!F35 -> 0 | G35: =D35-F35 -> 0
A36: 43 | B36: Utility Service | D36: ='Local Bud Amnd(2)-13613'!G44 -> 0 | E36: 0 | F36: =E36+'(Oct) Local Fin-13663'!F36 -> 0 | G36: =D36-F36 -> 0
A37: 44 | B37: Rentals & Leases | D37: ='Local Bud Amnd(2)-13613'!G45 -> 0 | E37: 0 | F37: =E37+'(Oct) Local Fin-13663'!F37 -> 0 | G37: =D37-F37 -> 0
A38: 45 | B38: Insurance | D38: ='Local Bud Amnd(2)-13613'!G46 -> 0 | E38: 0 | F38: =E38+'(Oct) Local Fin-13663'!F38 -> 0 | G38: =D38-F38 -> 0
A39: 46 | B39: Repairs & Maintenance | D39: ='Local Bud Amnd(2)-13613'!G47 -> 0 | E39: 0 | F39: =E39+'(Oct) Local Fin-13663'!F39 -> 0 | G39: =D39-F39 -> 0
A40: 47 | B40: Printing and Binding | D40: ='Local Bud Amnd(2)-13613'!G48 -> 0 | E40: 0 | F40: =E40+'(Oct) Local Fin-13663'!F40 -> 0 | G40: =D40-F40 -> 0
A41: 48 | B41: Promotional Activities | D41: ='Local Bud Amnd(2)-13613'!G49 -> 0 | E41: 0 | F41: =E41+'(Oct) Local Fin-13663'!F41 -> 0 | G41: =D41-F41 -> 0
... A57: 99 | B57: Payment of Prior Year Accounts | D57: ='Local Bud Amnd(2)-13613'!G65 -> 0 | E57: 0 | F57: =E57+'(Oct) Local Fin-13663'!F57 -> 0 | G57: =D57-F57 -> 0
A58: TOTAL BUDGET AND CHARGES | D58: =SUM(D30:D57) -> 0 | E58: =SUM(E30:E57) -> 0 | F58: =SUM(F30:F57) -> 0 | G58: =SUM(G30:G57) -> 0
A59: 0.001 | B59: Reserves - Future Capital Outlay | D59: ='Local Bud Amnd(2)-13613'!G67 -> 0 | E59: 0 | F59: =E59+'(Oct) Local Fin-13663'!F59 -> 0 | G59: =D59-F59 -> 0
A60: 0.002 | B60: Reserves - Self-Insurance | D60: ='Local Bud Amnd(2)-13613'!G68 -> 0 | E60: 0 | F60: =E60+'(Oct) Local Fin-13663'!F60 -> 0 | G60: =D60-F60 -> 0
...

Sheet Local Bud Amnd(3)-13613
C1: Florida Department of Agriculture and Consumer Services
C2: Division of Agricultural Environmental Services
C4: ARTHROPOD CONTROL BUDGET AMENDMENT
C6: Rule 5E-13.027, F.A.C.
C7: Telephone: (850) 617-7911; Fax (850) 617-7939
A9: A STATEMENT EXPLAINING AND JUSTIFYING THE PROPOSED CHANGES SHOULD ACCOMPANY EACH APPLICATION FOR BUDGET AMENDMENT. USE PAGE TWO FOR THIS PURPOSE.
A11: Amendment No. | D11: Fiscal Year: | E11: ='Annl Cert. Bud-13617'!E9 -> 2018-2019 | F11: Date:
A12: Amending: Local Funds X State Funds (Check appropriate fund account to be amended. Use a separate form for each fund). The
A13: Board of Commissioners for | C13: ='Annl Cert. Bud-13617'!C9 -> 0 | D13: District hereby submits to the Department of Agriculture and Consumer Services,
A14: for its consideration and approval, the following amendment for the current fiscal year as follows:
A15: ESTIMATED RECEIPTS
A16: NOTE: The budget cannot be amended to show an increase in receipts over the amount budgeted unless authorized.
A17: Total Available Cash and Receipts | C17: Reserves | D17: Present Budget | E17: Increase Request | F17: Decrease Request | G17: Revised Budget
A18: =D34 -> 0 | C18: =D71 -> 0 | D18: =D72 -> 0 | E18: =E72 -> 0 | F18: =F72 -> 0 | G18: =G72 -> 0
A19: NAME SOURCE OF INCREASE: (Explain Decrease)
A21: BUDGETED RECEIPTS
A22: ACCT NO | B22: Description | D22: Present Budget | E22: Increase Request | F22: Decrease Request | G22: Revised Budget
A23: 311 | B23: Ad Valorem (Current/Delinquent) | D23: ='Local Bud Amnd(2)-13613'!G23 -> 0 | E23: 0 | F23: 0 | G23: =D23+E23-F23 -> 0
A24: 334.1 | B24: State Grant | D24: ='Local Bud Amnd(2)-13613'!G24 -> 0 | E24: 0 | F24: 0 | G24: =D24+E24-F24 -> 0
A25: 362 | B25: Equipment Rentals | D25: ='Local Bud Amnd(2)-13613'!G25 -> 0 | E25: 0 | F25: 0 | G25: =D25+E25-F25 -> 0
A26: 337 | B26: Grants and Donations | D26: ='Local Bud Amnd(2)-13613'!G26 -> 0 | E26: 0 | F26: 0 | G26: =D26+E26-F26 -> 0
A27: 361 | B27: Interest Earnings | D27: ='Local Bud Amnd(2)-13613'!G27 -> 0 | E27: 0 | F27: 0 | G27: =D27+E27-F27 -> 0
A28: 364 | B28: Equipment and/or Other Sales | D28: ='Local Bud Amnd(2)-13613'!G28 -> 0 | E28: 0 | F28: 0 | G28: =D28+E28-F28 -> 0
A29: 369 | B29: Misc./Refunds (prior yr expenditures) | D29: ='Local Bud Amnd(2)-13613'!G29 -> 0 | E29: 0 | F29: 0 | G29: =D29+E29-F29 -> 0
A30: 380 | B30: Other Sources | D30: ='Local Bud Amnd(2)-13613'!G30 -> 0 | E30: 0 | F30: 0 | G30: =D30+E30-F30 -> 0
A31: 389 | B31: Loans | D31: ='Local Bud Amnd(2)-13613'!G31 -> 0 | E31: 0 | F31: 0 | G31: =D31+E31-F31 -> 0
A32: TOTAL RECEIPTS | D32: =SUM(D23:D31) -> 0 | E32: =SUM(E23:E31) -> 0 | F32: =SUM(F23:F31) -> 0 | G32: =SUM(G23:G31) -> 0
A33: Beginning Fund Balance | D33: ='Local Bud Amnd(2)-13613'!G33 -> 0 | E33: 0 | F33: 0 | G33: =D33+E33-F33 -> 0
A34: Total Budgetary Receipts & Balances | D34: =SUM(D32:D33) -> 0 | E34: =SUM(E32:E33) -> 0 | F34: =SUM(F32:F33) -> 0 | G34: =SUM(G32:G33) -> 0
A35: BUDGETED EXPENDITURES
A36: NOTE: Total increase must equal total decrease, unless the total "Present Budget" is revised.
A37: ACCT NO | B37: Uniform Accounting System Transaction | D37: Present Budget | E37: Increase Request | F37: Decrease Request | G37: Revised Budget
A38: 10 | B38: Personal Services | D38: ='Local Bud Amnd(2)-13613'!G38 -> 0 | E38: 0 | F38: 0 | G38: =D38+E38-F38 -> 0
A39: 20 | B39: Personal Services Benefits | D39: ='Local Bud Amnd(2)-13613'!G39 -> 0 | E39: 0 | F39: 0 | G39: =D39+E39-F39 -> 0
A40: 30 | B40: Operating Expense | D40: ='Local Bud Amnd(2)-13613'!G40 -> 0 | E40: 0 | F40: 0 | G40: =D40+E40-F40 -> 0
A41: 40 | B41: Travel & Per Diem | D41: ='Local Bud Amnd(2)-13613'!G41 -> 0 | E41: 0 | F41: 0 | G41: =D41+E41-F41 -> 0
A42: 41 | B42: Communication Services | D42: ='Local Bud Amnd(2)-13613'!G42 -> 0 | E42: 0 | F42: 0 | G42: =D42+E42-F42 -> 0
A43: 42 | B43: Freight Services | D43: ='Local Bud Amnd(2)-13613'!G43 -> 0 | E43: 0 | F43: 0 | G43: =D43+E43-F43 -> 0
A44: 43 | B44: Utility Service | D44: ='Local Bud Amnd(2)-13613'!G44 -> 0 | E44: 0 | F44: 0 | G44: =D44+E44-F44 -> 0
A45: 44 | B45: Rentals & Leases | D45: ='Local Bud Amnd(2)-13613'!G45 -> 0 | E45: 0 | F45: 0 | G45: =D45+E45-F45 -> 0
...

Sheet (Dec) Local Fin-13663
C1: Florida Department of Agriculture and Consumer Services
C2: Division of Agricultural Environmental Services
C4: MOSQUITO CONTROL MONTHLY REPORT - LOCAL FUNDS
C6: Rule 5E-13.027, F.A.C.
C7: Telephone: (850) 617-7911; Fax (850) 617-7939
A9: COUNTY/ DISTRICT | C9: ='Annl Cert. Bud-13617'!C9 -> 0 | D9: FISCAL YEAR: | E9: ='Annl Cert. Bud-13617'!E9 -> 2018-2019 | F9: MONTH: | G9: December
A11: LOCAL FUNDS RECEIPTS AND BALANCES
A12: ACCT NO | B12: DESCRIPTION | D12: Budgeted | E12: Monthly | F12: Receipts Year | G12: Balance to Be
D13: Receipts | E13: Receipts | F13: to Date | G13: Collected
A14: 311 | B14: Ad Valorem (Current/Delinquent) | D14: ='Local Bud Amnd(3)-13613'!G23 -> 0 | E14: 0 | F14: =E14+'(Nov) Local Fin-13663'!F14 -> 0 | G14: =D14-F14 -> 0
A15: 334.1 | B15: State Grant | D15: ='Local Bud Amnd(3)-13613'!G24 -> 0 | E15: 0 | F15: =E15+'(Nov) Local Fin-13663'!F15 -> 0 | G15: =D15-F15 -> 0
A16: 362 | B16: Equipment Rentals | D16: ='Local Bud Amnd(3)-13613'!G25 -> 0 | E16: 0 | F16: =E16+'(Nov) Local Fin-13663'!F16 -> 0 | G16: =D16-F16 -> 0
A17: 337 | B17: Grants and Donations | D17: ='Local Bud Amnd(3)-13613'!G26 -> 0 | E17: 0 | F17: =E17+'(Nov) Local Fin-13663'!F17 -> 0 | G17: =D17-F17 -> 0
A18: 361 | B18: Interest Earnings | D18: ='Local Bud Amnd(3)-13613'!G27 -> 0 | E18: 0 | F18: =E18+'(Nov) Local Fin-13663'!F18 -> 0 | G18: =D18-F18 -> 0
A19: 364 | B19: Equipment and/or Other Sales | D19: ='Local Bud Amnd(3)-13613'!G28 -> 0 | E19: 0 | F19: =E19+'(Nov) Local Fin-13663'!F19 -> 0 | G19: =D19-F19 -> 0
A20: 369 | B20: Misc./Refunds (prior yr expenditures) | D20: ='Local Bud Amnd(3)-13613'!G29 -> 0 | E20: 0 | F20: =E20+'(Nov) Local Fin-13663'!F20 -> 0 | G20: =D20-F20 -> 0
A21: 380 | B21: Other Sources | D21: ='Local Bud Amnd(3)-13613'!G30 -> 0 | E21: 0 | F21: =E21+'(Nov) Local Fin-13663'!F21 -> 0 | G21: =D21-F21 -> 0
A22: 389 | B22: Loans | D22: ='Local Bud Amnd(3)-13613'!G31 -> 0 | E22: 0 | F22: =E22+'(Nov) Local Fin-13663'!F22 -> 0 | G22: =D22-F22 -> 0
A23: TOTAL RECEIPTS | D23: =SUM(D14:D22) -> 0 | E23: =SUM(E14:E22) -> 0 | F23: =SUM(F14:F22) -> 0 | G23: =SUM(G14:G22) -> 0
A24: BEGINNING FUND BALANCE | D24: ='Local Bud Amnd(3)-13613'!G33 -> 0 | E24: 0 | F24: =E24+'(Nov) Local Fin-13663'!F24 -> 0 | G24: =D24-F24 -> 0
A25: Total Receipts & Balance | D25: =SUM(D23:D24) -> 0 | E25: =SUM(E23:E24) -> 0 | F25: =SUM(F23:F24) -> 0 | G25: =SUM(G23:G24) -> 0
A27: LOCAL FUNDS EXPENDITURES AND BALANCES
A28: ACCT NO | B28: Uniform Accounting System Transaction Code | D28: Budgeted | E28: Monthly | F28: Expenditures Year | G28: Balance to Be
D29: Expenditures | E29: Expenditures | F29: to Date | G29: Expended
A30: 10 | B30: Personal Services | D30: ='Local Bud Amnd(3)-13613'!G38 -> 0 | E30: 0 | F30: =E30+'(Nov) Local Fin-13663'!F30 -> 0 | G30: =D30-F30 -> 0
A31: 20 | B31: Personal Services Benefits | D31: ='Local Bud Amnd(3)-13613'!G39 -> 0 | E31: 0 | F31: =E31+'(Nov) Local Fin-13663'!F31 -> 0 | G31: =D31-F31 -> 0
A32: 30 | B32: Operating Expense | D32: ='Local Bud Amnd(3)-13613'!G40 -> 0 | E32: 0 | F32: =E32+'(Nov) Local Fin-13663'!F32 -> 0 | G32: =D32-F32 -> 0
A33: 40 | B33: Travel & Per Diem | D33: ='Local Bud Amnd(3)-13613'!G41 -> 0 | E33: 0 | F33: =E33+'(Nov) Local Fin-13663'!F33 -> 0 | G33: =D33-F33 -> 0
A34: 41 | B34: Communication Services | D34: ='Local Bud Amnd(3)-13613'!G42 -> 0 | E34: 0 | F34: =E34+'(Nov) Local Fin-13663'!F34 -> 0 | G34: =D34-F34 -> 0
A35: 42 | B35: Freight Services | D35: ='Local Bud Amnd(3)-13613'!G43 -> 0 | E35: 0 | F35: =E35+'(Nov) Local Fin-13663'!F35 -> 0 | G35: =D35-F35 -> 0
A36: 43 | B36: Utility Service | D36: ='Local Bud Amnd(3)-13613'!G44 -> 0 | E36: 0 | F36: =E36+'(Nov) Local Fin-13663'!F36 -> 0 | G36: =D36-F36 -> 0
A37: 44 | B37: Rentals & Leases | D37: ='Local Bud Amnd(3)-13613'!G45 -> 0 | E37: 0 | F37: =E37+'(Nov) Local Fin-13663'!F37 -> 0 | G37: =D37-F37 -> 0
A38: 45 | B38: Insurance | D38: ='Local Bud Amnd(3)-13613'!G46 -> 0 | E38: 0 | F38: =E38+'(Nov) Local Fin-13663'!F38 -> 0 | G38: =D38-F38 -> 0
A39: 46 | B39: Repairs & Maintenance | D39: ='Local Bud Amnd(3)-13613'!G47 -> 0 | E39: 0 | F39: =E39+'(Nov) Local Fin-13663'!F39 -> 0 | G39: =D39-F39 -> 0
A40: 47 | B40: Printing and Binding | D40: ='Local Bud Amnd(3)-13613'!G48 -> 0 | E40: 0 | F40: =E40+'(Nov) Local Fin-13663'!F40 -> 0 | G40: =D40-F40 -> 0
A41: 48 | B41: Promotional Activities | D41: ='Local Bud Amnd(3)-13613'!G49 -> 0 | E41: 0 | F41: =E41+'(Nov) Local Fin-13663'!F41 -> 0 | G41: =D41-F41 -> 0
... A57: 99 | B57: Payment of Prior Year Accounts | D57: ='Local Bud Amnd(3)-13613'!G65 -> 0 | E57: 0 | F57: =E57+'(Nov) Local Fin-13663'!F57 -> 0 | G57: =D57-F57 -> 0
A58: TOTAL BUDGET AND CHARGES | D58: =SUM(D30:D57) -> 0 | E58: =SUM(E30:E57) -> 0 | F58: =SUM(F30:F57) -> 0 | G58: =SUM(G30:G57) -> 0
A59: 0.001 | B59: Reserves - Future Capital Outlay | D59: ='Local Bud Amnd(3)-13613'!G67 -> 0 | E59: 0 | F59: =E59+'(Nov) Local Fin-13663'!F59 -> 0 | G59: =D59-F59 -> 0
A60: 0.002 | B60: Reserves - Self-Insurance | D60: ='Local Bud Amnd(3)-13613'!G68 -> 0 | E60: 0 | F60: =E60+'(Nov) Local Fin-13663'!F60 -> 0 | G60: =D60-F60 -> 0
...

Sheet Local Bud Amnd(4)-13613
C1: Florida Department of Agriculture and Consumer Services
C2: Division of Agricultural Environmental Services
C4: ARTHROPOD CONTROL BUDGET AMENDMENT
C6: Rule 5E-13.027, F.A.C.
C7: Telephone: (850) 617-7911; Fax (850) 617-7939
A9: A STATEMENT EXPLAINING AND JUSTIFYING THE PROPOSED CHANGES SHOULD ACCOMPANY EACH APPLICATION FOR BUDGET AMENDMENT. USE PAGE TWO FOR THIS PURPOSE.
A11: Amendment No. | D11: Fiscal Year: | E11: ='Annl Cert. Bud-13617'!E9 -> 2018-2019 | F11: Date:
A12: Amending: Local Funds X State Funds (Check appropriate fund account to be amended. Use a separate form for each fund). The
A13: Board of Commissioners for | C13: ='Annl Cert. Bud-13617'!C9 -> 0 | D13: District hereby submits to the Department of Agriculture and Consumer Services,
A14: for its consideration and approval, the following amendment for the current fiscal year as follows:
A15: ESTIMATED RECEIPTS
A16: NOTE: The budget cannot be amended to show an increase in receipts over the amount budgeted unless authorized.
A17: Total Available Cash and Receipts | C17: Reserves | D17: Present Budget | E17: Increase Request | F17: Decrease Request | G17: Revised Budget
A18: =D34 -> 0 | C18: =D71 -> 0 | D18: =D72 -> 0 | E18: =E72 -> 0 | F18: =F72 -> 0 | G18: =G72 -> 0
A19: NAME SOURCE OF INCREASE: (Explain Decrease)
A21: BUDGETED RECEIPTS
A22: ACCT NO | B22: Description | D22: Present Budget | E22: Increase Request | F22: Decrease Request | G22: Revised Budget
A23: 311 | B23: Ad Valorem (Current/Delinquent) | D23: ='Local Bud Amnd(3)-13613'!G23 -> 0 | E23: 0 | F23: 0 | G23: =D23+E23-F23 -> 0
A24: 334.1 | B24: State Grant | D24: ='Local Bud Amnd(3)-13613'!G24 -> 0 | E24: 0 | F24: 0 | G24: =D24+E24-F24 -> 0
A25: 362 | B25: Equipment Rentals | D25: ='Local Bud Amnd(3)-13613'!G25 -> 0 | E25: 0 | F25: 0 | G25: =D25+E25-F25 -> 0
A26: 337 | B26: Grants and Donations | D26: ='Local Bud Amnd(3)-13613'!G26 -> 0 | E26: 0 | F26: 0 | G26: =D26+E26-F26 -> 0
A27: 361 | B27: Interest Earnings | D27: ='Local Bud Amnd(3)-13613'!G27 -> 0 | E27: 0 | F27: 0 | G27: =D27+E27-F27 -> 0
A28: 364 | B28: Equipment and/or Other Sales | D28: ='Local Bud Amnd(3)-13613'!G28 -> 0 | E28: 0 | F28: 0 | G28: =D28+E28-F28 -> 0
A29: 369 | B29: Misc./Refunds (prior yr expenditures) | D29: ='Local Bud Amnd(3)-13613'!G29 -> 0 | E29: 0 | F29: 0 | G29: =D29+E29-F29 -> 0
A30: 380 | B30: Other Sources | D30: ='Local Bud Amnd(3)-13613'!G30 -> 0 | E30: 0 | F30: 0 | G30: =D30+E30-F30 -> 0
A31: 389 | B31: Loans | D31: ='Local Bud Amnd(3)-13613'!G31 -> 0 | E31: 0 | F31: 0 | G31: =D31+E31-F31 -> 0
A32: TOTAL RECEIPTS | D32: =SUM(D23:D31) -> 0 | E32: =SUM(E23:E31) -> 0 | F32: =SUM(F23:F31) -> 0 | G32: =SUM(G23:G31) -> 0
A33: Beginning Fund Balance | D33: ='Local Bud Amnd(3)-13613'!G33 -> 0 | E33: 0 | F33: 0 | G33: =D33+E33-F33 -> 0
A34: Total Budgetary Receipts & Balances | D34: ='Local Bud Amnd(3)-13613'!G34 -> 0 | E34: =SUM(E32:E33) -> 0 | F34: =SUM(F32:F33) -> 0 | G34: =SUM(G32:G33) -> 0
A35: BUDGETED EXPENDITURES
A36: NOTE: Total increase must equal total decrease, unless the total "Present Budget" is revised.
A37: ACCT NO | B37: Uniform Accounting System Transaction | D37: Present Budget | E37: Increase Request | F37: Decrease Request | G37: Revised Budget
A38: 10 | B38: Personal Services | D38: ='Local Bud Amnd(3)-13613'!G38 -> 0 | E38: 0 | F38: 0 | G38: =D38+E38-F38 -> 0
A39: 20 | B39: Personal Services Benefits | D39: ='Local Bud Amnd(3)-13613'!G39 -> 0 | E39: 0 | F39: 0 | G39: =D39+E39-F39 -> 0
A40: 30 | B40: Operating Expense | D40: ='Local Bud Amnd(3)-13613'!G40 -> 0 | E40: 0 | F40: 0 | G40: =D40+E40-F40 -> 0
A41: 40 | B41: Travel & Per Diem | D41: ='Local Bud Amnd(3)-13613'!G41 -> 0 | E41: 0 | F41: 0 | G41: =D41+E41-F41 -> 0
A42: 41 | B42: Communication Services | D42: ='Local Bud Amnd(3)-13613'!G42 -> 0 | E42: 0 | F42: 0 | G42: =D42+E42-F42 -> 0
A43: 42 | B43: Freight Services | D43: ='Local Bud Amnd(3)-13613'!G43 -> 0 | E43: 0 | F43: 0 | G43: =D43+E43-F43 -> 0
A44: 43 | B44: Utility Service | D44: ='Local Bud Amnd(3)-13613'!G44 -> 0 | E44: 0 | F44: 0 | G44: =D44+E44-F44 -> 0
A45: 44 | B45: Rentals & Leases | D45: ='Local Bud Amnd(3)-13613'!G45 -> 0 | E45: 0 | F45: 0 | G45: =D45+E45-F45 -> 0
...

Sheet (Jan) Local Fin-13663
C1: Florida Department of Agriculture and Consumer Services
C2: Division of Agricultural Environmental Services
C4: MOSQUITO CONTROL MONTHLY REPORT - LOCAL FUNDS
C6: Rule 5E-13.027, F.A.C.
C7: Telephone: (850) 617-7911; Fax (850) 617-7939
A9: COUNTY/ DISTRICT | C9: ='Annl Cert. Bud-13617'!C9 -> 0 | D9: FISCAL YEAR: | E9: ='Annl Cert. Bud-13617'!E9 -> 2018-2019 | F9: MONTH: | G9: January
A11: LOCAL FUNDS RECEIPTS AND BALANCES
A12: ACCT NO | B12: DESCRIPTION | D12: Budgeted | E12: Monthly | F12: Receipts Year | G12: Balance to Be
D13: Receipts | E13: Receipts | F13: to Date | G13: Collected
A14: 311 | B14: Ad Valorem (Current/Delinquent) | D14: ='Local Bud Amnd(4)-13613'!G23 -> 0 | E14: 0 | F14: =E14+'(Dec) Local Fin-13663'!F14 -> 0 | G14: =D14-F14 -> 0
A15: 334.1 | B15: State Grant | D15: ='Local Bud Amnd(4)-13613'!G24 -> 0 | E15: 0 | F15: =E15+'(Dec) Local Fin-13663'!F15 -> 0 | G15: =D15-F15 -> 0
A16: 362 | B16: Equipment Rentals | D16: ='Local Bud Amnd(4)-13613'!G25 -> 0 | E16: 0 | F16: =E16+'(Dec) Local Fin-13663'!F16 -> 0 | G16: =D16-F16 -> 0
A17: 337 | B17: Grants and Donations | D17: ='Local Bud Amnd(4)-13613'!G26 -> 0 | E17: 0 | F17: =E17+'(Dec) Local Fin-13663'!F17 -> 0 | G17: =D17-F17 -> 0
A18: 361 | B18: Interest Earnings | D18: ='Local Bud Amnd(4)-13613'!G27 -> 0 | E18: 0 | F18: =E18+'(Dec) Local Fin-13663'!F18 -> 0 | G18: =D18-F18 -> 0
A19: 364 | B19: Equipment and/or Other Sales | D19: ='Local Bud Amnd(4)-13613'!G28 -> 0 | E19: 0 | F19: =E19+'(Dec) Local Fin-13663'!F19 -> 0 | G19: =D19-F19 -> 0
A20: 369 | B20: Misc./Refunds (prior yr expenditures) | D20: ='Local Bud Amnd(4)-13613'!G29 -> 0 | E20: 0 | F20: =E20+'(Dec) Local Fin-13663'!F20 -> 0 | G20: =D20-F20 -> 0
A21: 380 | B21: Other Sources | D21: ='Local Bud Amnd(4)-13613'!G30 -> 0 | E21: 0 | F21: =E21+'(Dec) Local Fin-13663'!F21 -> 0 | G21: =D21-F21 -> 0
A22: 389 | B22: Loans | D22: ='Local Bud Amnd(4)-13613'!G31 -> 0 | E22: 0 | F22: =E22+'(Dec) Local Fin-13663'!F22 -> 0 | G22: =D22-F22 -> 0
A23: TOTAL RECEIPTS | D23: =SUM(D14:D22) -> 0 | E23: =SUM(E14:E22) -> 0 | F23: =SUM(F14:F22) -> 0 | G23: =SUM(G14:G22) -> 0
A24: BEGINNING FUND BALANCE | D24: ='Local Bud Amnd(4)-13613'!G33 -> 0 | E24: 0 | F24: =E24+'(Dec) Local Fin-13663'!F24 -> 0 | G24: =D24-F24 -> 0
A25: Total Receipts & Balance | D25: =SUM(D23:D24) -> 0 | E25: =SUM(E23:E24) -> 0 | F25: =SUM(F23:F24) -> 0 | G25: =SUM(G23:G24) -> 0
A27: LOCAL FUNDS EXPENDITURES AND BALANCES
A28: ACCT NO | B28: Uniform Accounting System Transaction Code | D28: Budgeted | E28: Monthly | F28: Expenditures Year | G28: Balance to Be
D29: Expenditures | E29: Expenditures | F29: to Date | G29: Expended
A30: 10 | B30: Personal Services | D30: ='Local Bud Amnd(4)-13613'!G38 -> 0 | E30: 0 | F30: =E30+'(Dec) Local Fin-13663'!F30 -> 0 | G30: =D30-F30 -> 0
A31: 20 | B31: Personal Services Benefits | D31: ='Local Bud Amnd(4)-13613'!G39 -> 0 | E31: 0 | F31: =E31+'(Dec) Local Fin-13663'!F31 -> 0 | G31: =D31-F31 -> 0
A32: 30 | B32: Operating Expense | D32: ='Local Bud Amnd(4)-13613'!G40 -> 0 | E32: 0 | F32: =E32+'(Dec) Local Fin-13663'!F32 -> 0 | G32: =D32-F32 -> 0
A33: 40 | B33: Travel & Per Diem | D33: ='Local Bud Amnd(4)-13613'!G41 -> 0 | E33: 0 | F33: =E33+'(Dec) Local Fin-13663'!F33 -> 0 | G33: =D33-F33 -> 0
A34: 41 | B34: Communication Services | D34: ='Local Bud Amnd(4)-13613'!G42 -> 0 | E34: 0 | F34: =E34+'(Dec) Local Fin-13663'!F34 -> 0 | G34: =D34-F34 -> 0
A35: 42 | B35: Freight Services | D35: ='Local Bud Amnd(4)-13613'!G43 -> 0 | E35: 0 | F35: =E35+'(Dec) Local Fin-13663'!F35 -> 0 | G35: =D35-F35 -> 0
A36: 43 | B36: Utility Service | D36: ='Local Bud Amnd(4)-13613'!G44 -> 0 | E36: 0 | F36: =E36+'(Dec) Local Fin-13663'!F36 -> 0 | G36: =D36-F36 -> 0
A37: 44 | B37: Rentals & Leases | D37: ='Local Bud Amnd(4)-13613'!G45 -> 0 | E37: 0 | F37: =E37+'(Dec) Local Fin-13663'!F37 -> 0 | G37: =D37-F37 -> 0
A38: 45 | B38: Insurance | D38: ='Local Bud Amnd(4)-13613'!G46 -> 0 | E38: 0 | F38: =E38+'(Dec) Local Fin-13663'!F38 -> 0 | G38: =D38-F38 -> 0
A39: 46 | B39: Repairs & Maintenance | D39: ='Local Bud Amnd(4)-13613'!G47 -> 0 | E39: 0 | F39: =E39+'(Dec) Local Fin-13663'!F39 -> 0 | G39: =D39-F39 -> 0
A40: 47 | B40: Printing and Binding | D40: ='Local Bud Amnd(4)-13613'!G48 -> 0 | E40: 0 | F40: =E40+'(Dec) Local Fin-13663'!F40 -> 0 | G40: =D40-F40 -> 0
A41: 48 | B41: Promotional Activities | D41: ='Local Bud Amnd(4)-13613'!G49 -> 0 | E41: 0 | F41: =E41+'(Dec) Local Fin-13663'!F41 -> 0 | G41: =D41-F41 -> 0
... A57: 99 | B57: Payment of Prior Year Accounts | D57: ='Local Bud Amnd(4)-13613'!G65 -> 0 | E57: 0 | F57: =E57+'(Dec) Local Fin-13663'!F57 -> 0 | G57: =D57-F57 -> 0
A58: TOTAL BUDGET AND CHARGES | D58: =SUM(D30:D57) -> 0 | E58: =SUM(E30:E57) -> 0 | F58: =SUM(F30:F57) -> 0 | G58: =SUM(G30:G57) -> 0
A59: 0.001 | B59: Reserves - Future Capital Outlay | D59: ='Local Bud Amnd(4)-13613'!G67 -> 0 | E59: 0 | F59: =E59+'(Dec) Local Fin-13663'!F59 -> 0 | G59: =D59-F59 -> 0
A60: 0.002 | B60: Reserves - Self-Insurance | D60: ='Local Bud Amnd(4)-13613'!G68 -> 0 | E60: 0 | F60: =E60+'(Dec) Local Fin-13663'!F60 -> 0 | G60: =D60-F60 -> 0
...

Sheet Local Bud Amnd(5)-13613
C1: Florida Department of Agriculture and Consumer Services
C2: Division of Agricultural Environmental Services
C4: ARTHROPOD CONTROL BUDGET AMENDMENT
C6: Rule 5E-13.027, F.A.C.
C7: Telephone: (850) 617-7911; Fax (850) 617-7939
A9: A STATEMENT EXPLAINING AND JUSTIFYING THE PROPOSED CHANGES SHOULD ACCOMPANY EACH APPLICATION FOR BUDGET AMENDMENT. USE PAGE TWO FOR THIS PURPOSE.
A11: Amendment No. | D11: Fiscal Year: | E11: ='Annl Cert. Bud-13617'!E9 -> 2018-2019 | F11: Date:
A12: Amending: Local Funds X State Funds (Check appropriate fund account to be amended. Use a separate form for each fund). The
A13: Board of Commissioners for | C13: ='Annl Cert. Bud-13617'!C9 -> 0 | D13: District hereby submits to the Department of Agriculture and Consumer Services,
A14: for its consideration and approval, the following amendment for the current fiscal year as follows:
A15: ESTIMATED RECEIPTS
A16: NOTE: The budget cannot be amended to show an increase in receipts over the amount budgeted unless authorized.
A17: Total Available Cash and Receipts | C17: Reserves | D17: Present Budget | E17: Increase Request | F17: Decrease Request | G17: Revised Budget
A18: =D34 -> 0 | C18: =D71 -> 0 | D18: =D72 -> 0 | E18: =E72 -> 0 | F18: =F72 -> 0 | G18: =G72 -> 0
A19: NAME SOURCE OF INCREASE: (Explain Decrease)
A21: BUDGETED RECEIPTS
A22: ACCT NO | B22: Description | D22: Present Budget | E22: Increase Request | F22: Decrease Request | G22: Revised Budget
A23: 311 | B23: Ad Valorem (Current/Delinquent) | D23: ='Local Bud Amnd(4)-13613'!G23 -> 0 | E23: 0 | F23: 0 | G23: =D23+E23-F23 -> 0
A24: 334.1 | B24: State Grant | D24: ='Local Bud Amnd(4)-13613'!G24 -> 0 | E24: 0 | F24: 0 | G24: =D24+E24-F24 -> 0
A25: 362 | B25: Equipment Rentals | D25: ='Local Bud Amnd(4)-13613'!G25 -> 0 | E25: 0 | F25: 0 | G25: =D25+E25-F25 -> 0
A26: 337 | B26: Grants and Donations | D26: ='Local Bud Amnd(4)-13613'!G26 -> 0 | E26: 0 | F26: 0 | G26: =D26+E26-F26 -> 0
A27: 361 | B27: Interest Earnings | D27: ='Local Bud Amnd(4)-13613'!G27 -> 0 | E27: 0 | F27: 0 | G27: =D27+E27-F27 -> 0
A28: 364 | B28: Equipment and/or Other Sales | D28: ='Local Bud Amnd(4)-13613'!G28 -> 0 | E28: 0 | F28: 0 | G28: =D28+E28-F28 -> 0
A29: 369 | B29: Misc./Refunds (prior yr expenditures) | D29: ='Local Bud Amnd(4)-13613'!G29 -> 0 | E29: 0 | F29: 0 | G29: =D29+E29-F29 -> 0
A30: 380 | B30: Other Sources | D30: ='Local Bud Amnd(4)-13613'!G30 -> 0 | E30: 0 | F30: 0 | G30: =D30+E30-F30 -> 0
A31: 389 | B31: Loans | D31: ='Local Bud Amnd(4)-13613'!G31 -> 0 | E31: 0 | F31: 0 | G31: =D31+E31-F31 -> 0
A32: TOTAL RECEIPTS | D32: =SUM(D23:D31) -> 0 | E32: =SUM(E23:E31) -> 0 | F32: =SUM(F23:F31) -> 0 | G32: =SUM(G23:G31) -> 0
A33: Beginning Fund Balance | D33: ='Local Bud Amnd(4)-13613'!G33 -> 0 | E33: 0 | F33: 0 | G33: =D33+E33-F33 -> 0
A34: Total Budgetary Receipts & Balances | D34: =SUM(D32:D33) -> 0 | E34: =SUM(E32:E33) -> 0 | F34: =SUM(F32:F33) -> 0 | G34: =SUM(G32:G33) -> 0
A35: BUDGETED EXPENDITURES
A36: NOTE: Total increase must equal total decrease, unless the total "Present Budget" is revised.
A37: ACCT NO | B37: Uniform Accounting System Transaction | D37: Present Budget | E37: Increase Request | F37: Decrease Request | G37: Revised Budget
A38: 10 | B38: Personal Services | D38: ='Local Bud Amnd(4)-13613'!G38 -> 0 | E38: 0 | F38: 0 | G38: =D38+E38-F38 -> 0
A39: 20 | B39: Personal Services Benefits | D39: ='Local Bud Amnd(4)-13613'!G39 -> 0 | E39: 0 | F39: 0 | G39: =D39+E39-F39 -> 0
A40: 30 | B40: Operating Expense | D40: ='Local Bud Amnd(4)-13613'!G40 -> 0 | E40: 0 | F40: 0 | G40: =D40+E40-F40 -> 0
A41: 40 | B41: Travel & Per Diem | D41: ='Local Bud Amnd(4)-13613'!G41 -> 0 | E41: 0 | F41: 0 | G41: =D41+E41-F41 -> 0
A42: 41 | B42: Communication Services | D42: ='Local Bud Amnd(4)-13613'!G42 -> 0 | E42: 0 | F42: 0 | G42: =D42+E42-F42 -> 0
A43: 42 | B43: Freight Services | D43: ='Local Bud Amnd(4)-13613'!G43 -> 0 | E43: 0 | F43: 0 | G43: =D43+E43-F43 -> 0
A44: 43 | B44: Utility Service | D44: ='Local Bud Amnd(4)-13613'!G44 -> 0 | E44: 0 | F44: 0 | G44: =D44+E44-F44 -> 0
A45: 44 | B45: Rentals & Leases | D45: ='Local Bud Amnd(4)-13613'!G45 -> 0 | E45: 0 | F45: 0 | G45: =D45+E45-F45 -> 0
...

Sheet (Feb) Local Fin-13663
C1: Florida Department of Agriculture and Consumer Services
C2: Division of Agricultural Environmental Services
C4: MOSQUITO CONTROL MONTHLY REPORT - LOCAL FUNDS
C6: Rule 5E-13.027, F.A.C.
C7: Telephone: (850) 617-7911; Fax (850) 617-7939
A9: COUNTY/ DISTRICT | C9: ='Annl Cert. Bud-13617'!C9 -> 0 | D9: FISCAL YEAR: | E9: ='Annl Cert. Bud-13617'!E9 -> 2018-2019 | F9: MONTH: | G9: February
A11: LOCAL FUNDS RECEIPTS AND BALANCES
A12: ACCT NO | B12: DESCRIPTION | D12: Budgeted | E12: Monthly | F12: Receipts Year | G12: Balance to Be
D13: Receipts | E13: Receipts | F13: to Date | G13: Collected
A14: 311 | B14: Ad Valorem (Current/Delinquent) | D14: ='Local Bud Amnd(5)-13613'!G23 -> 0 | E14: 0 | F14: =E14+'(Jan) Local Fin-13663'!F14 -> 0 | G14: =D14-F14 -> 0
A15: 334.1 | B15: State Grant | D15: ='Local Bud Amnd(5)-13613'!G24 -> 0 | E15: 0 | F15: =E15+'(Jan) Local Fin-13663'!F15 -> 0 | G15: =D15-F15 -> 0
A16: 362 | B16: Equipment Rentals | D16: ='Local Bud Amnd(5)-13613'!G25 -> 0 | E16: 0 | F16: =E16+'(Jan) Local Fin-13663'!F16 -> 0 | G16: =D16-F16 -> 0
A17: 337 | B17: Grants and Donations | D17: ='Local Bud Amnd(5)-13613'!G26 -> 0 | E17: 0 | F17: =E17+'(Jan) Local Fin-13663'!F17 -> 0 | G17: =D17-F17 -> 0
A18: 361 | B18: Interest Earnings | D18: ='Local Bud Amnd(5)-13613'!G27 -> 0 | E18: 0 | F18: =E18+'(Jan) Local Fin-13663'!F18 -> 0 | G18: =D18-F18 -> 0
A19: 364 | B19: Equipment and/or Other Sales | D19: ='Local Bud Amnd(5)-13613'!G28 -> 0 | E19: 0 | F19: =E19+'(Jan) Local Fin-13663'!F19 -> 0 | G19: =D19-F19 -> 0
A20: 369 | B20: Misc./Refunds (prior yr expenditures) | D20: ='Local Bud Amnd(5)-13613'!G29 -> 0 | E20: 0 | F20: =E20+'(Jan) Local Fin-13663'!F20 -> 0 | G20: =D20-F20 -> 0
A21: 380 | B21: Other Sources | D21: ='Local Bud Amnd(5)-13613'!G30 -> 0 | E21: 0 | F21: =E21+'(Jan) Local Fin-13663'!F21 -> 0 | G21: =D21-F21 -> 0
A22: 389 | B22: Loans | D22: ='Local Bud Amnd(5)-13613'!G31 -> 0 | E22: 0 | F22: =E22+'(Jan) Local Fin-13663'!F22 -> 0 | G22: =D22-F22 -> 0
A23: TOTAL RECEIPTS | D23: =SUM(D14:D22) -> 0 | E23: =SUM(E14:E22) -> 0 | F23: =SUM(F14:F22) -> 0 | G23: =SUM(G14:G22) -> 0
A24: BEGINNING FUND BALANCE | D24: ='Local Bud Amnd(5)-13613'!G33 -> 0 | E24: 0 | F24: =E24+'(Jan) Local Fin-13663'!F24 -> 0 | G24: =D24-F24 -> 0
A25: Total Receipts & Balance | D25: =SUM(D23:D24) -> 0 | E25: =SUM(E23:E24) -> 0 | F25: =SUM(F23:F24) -> 0 | G25: =SUM(G23:G24) -> 0
A27: LOCAL FUNDS EXPENDITURES AND BALANCES
A28: ACCT NO | B28: Uniform Accounting System Transaction Code | D28: Budgeted | E28: Monthly | F28: Expenditures Year | G28: Balance to Be
D29: Expenditures | E29: Expenditures | F29: to Date | G29: Expended
A30: 10 | B30: Personal Services | D30: ='Local Bud Amnd(5)-13613'!G38 -> 0 | E30: 0 | F30: =E30+'(Jan) Local Fin-13663'!F30 -> 0 | G30: =D30-F30 -> 0
A31: 20 | B31: Personal Services Benefits | D31: ='Local Bud Amnd(5)-13613'!G39 -> 0 | E31: 0 | F31: =E31+'(Jan) Local Fin-13663'!F31 -> 0 | G31: =D31-F31 -> 0
A32: 30 | B32: Operating Expense | D32: ='Local Bud Amnd(5)-13613'!G40 -> 0 | E32: 0 | F32: =E32+'(Jan) Local Fin-13663'!F32 -> 0 | G32: =D32-F32 -> 0
A33: 40 | B33: Travel & Per Diem | D33: ='Local Bud Amnd(5)-13613'!G41 -> 0 | E33: 0 | F33: =E33+'(Jan) Local Fin-13663'!F33 -> 0 | G33: =D33-F33 -> 0
A34: 41 | B34: Communication Services | D34: ='Local Bud Amnd(5)-13613'!G42 -> 0 | E34: 0 | F34: =E34+'(Jan) Local Fin-13663'!F34 -> 0 | G34: =D34-F34 -> 0
A35: 42 | B35: Freight Services | D35: ='Local Bud Amnd(5)-13613'!G43 -> 0 | E35: 0 | F35: =E35+'(Jan) Local Fin-13663'!F35 -> 0 | G35: =D35-F35 -> 0
A36: 43 | B36: Utility Service | D36: ='Local Bud Amnd(5)-13613'!G44 -> 0 | E36: 0 | F36: =E36+'(Jan) Local Fin-13663'!F36 -> 0 | G36: =D36-F36 -> 0
A37: 44 | B37: Rentals & Leases | D37: ='Local Bud Amnd(5)-13613'!G45 -> 0 | E37: 0 | F37: =E37+'(Jan) Local Fin-13663'!F37 -> 0 | G37: =D37-F37 -> 0
A38: 45 | B38: Insurance | D38: ='Local Bud Amnd(5)-13613'!G46 -> 0 | E38: 0 | F38: =E38+'(Jan) Local Fin-13663'!F38 -> 0 | G38: =D38-F38 -> 0
A39: 46 | B39: Repairs & Maintenance | D39: ='Local Bud Amnd(5)-13613'!G47 -> 0 | E39: 0 | F39: =E39+'(Jan) Local Fin-13663'!F39 -> 0 | G39: =D39-F39 -> 0
A40: 47 | B40: Printing and Binding | D40: ='Local Bud Amnd(5)-13613'!G48 -> 0 | E40: 0 | F40: =E40+'(Jan) Local Fin-13663'!F40 -> 0 | G40: =D40-F40 -> 0
A41: 48 | B41: Promotional Activities | D41: ='Local Bud Amnd(5)-13613'!G49 -> 0 | E41: 0 | F41: =E41+'(Jan) Local Fin-13663'!F41 -> 0 | G41: =D41-F41 -> 0
... A57: 99 | B57: Payment of Prior Year Accounts | D57: ='Local Bud Amnd(5)-13613'!G65 -> 0 | E57: 0 | F57: =E57+'(Jan) Local Fin-13663'!F57 -> 0 | G57: =D57-F57 -> 0
A58: TOTAL BUDGET AND CHARGES | D58: =SUM(D30:D57) -> 0 | E58: =SUM(E30:E57) -> 0 | F58: =SUM(F30:F57) -> 0 | G58: =SUM(G30:G57) -> 0
A59: 0.001 | B59: Reserves - Future Capital Outlay | D59: ='Local Bud Amnd(5)-13613'!G67 -> 0 | E59: 0 | F59: =E59+'(Jan) Local Fin-13663'!F59 -> 0 | G59: =D59-F59 -> 0
A60: 0.002 | B60: Reserves - Self-Insurance | D60: ='Local Bud Amnd(5)-13613'!G68 -> 0 | E60: 0 | F60: =E60+'(Jan) Local Fin-13663'!F60 -> 0 | G60: =D60-F60 -> 0
...

Sheet Local Bud Amnd(6)-13613
C1: Florida Department of Agriculture and Consumer Services
C2: Division of Agricultural Environmental Services
C4: ARTHROPOD CONTROL BUDGET AMENDMENT
C6: Rule 5E-13.027, F.A.C.
C7: Telephone: (850) 617-7911; Fax (850) 617-7939
A9: A STATEMENT EXPLAINING AND JUSTIFYING THE PROPOSED CHANGES SHOULD ACCOMPANY EACH APPLICATION FOR BUDGET AMENDMENT. USE PAGE TWO FOR THIS PURPOSE.
A11: Amendment No. | D11: Fiscal Year: | E11: ='Annl Cert. Bud-13617'!E9 -> 2018-2019 | F11: Date:
A12: Amending: Local Funds X State Funds (Check appropriate fund account to be amended. Use a separate form for each fund). The
A13: Board of Commissioners for | C13: ='Annl Cert. Bud-13617'!C9 -> 0 | D13: District hereby submits to the Department of Agriculture and Consumer Services,
A14: for its consideration and approval, the following amendment for the current fiscal year as follows:
A15: ESTIMATED RECEIPTS
A16: NOTE: The budget cannot be amended to show an increase in receipts over the amount budgeted unless authorized.
A17: Total Available Cash and Receipts | C17: Reserves | D17: Present Budget | E17: Increase Request | F17: Decrease Request | G17: Revised Budget
A18: =D34 -> 0 | C18: =D71 -> 0 | D18: =D72 -> 0 | E18: =E72 -> 0 | F18: =F72 -> 0 | G18: =G72 -> 0
A19: NAME SOURCE OF INCREASE: (Explain Decrease)
A21: BUDGETED RECEIPTS
A22: ACCT NO | B22: Description | D22: Present Budget | E22: Increase Request | F22: Decrease Request | G22: Revised Budget
A23: 311 | B23: Ad Valorem (Current/Delinquent) | D23: ='Local Bud Amnd(5)-13613'!G23 -> 0 | E23: 0 | F23: 0 | G23: =D23+E23-F23 -> 0
A24: 334.1 | B24: State Grant | D24: ='Local Bud Amnd(5)-13613'!G24 -> 0 | E24: 0 | F24: 0 | G24: =D24+E24-F24 -> 0
A25: 362 | B25: Equipment Rentals | D25: ='Local Bud Amnd(5)-13613'!G25 -> 0 | E25: 0 | F25: 0 | G25: =D25+E25-F25 -> 0
A26: 337 | B26: Grants and Donations | D26: ='Local Bud Amnd(5)-13613'!G26 -> 0 | E26: 0 | F26: 0 | G26: =D26+E26-F26 -> 0
A27: 361 | B27: Interest Earnings | D27: ='Local Bud Amnd(5)-13613'!G27 -> 0 | E27: 0 | F27: 0 | G27: =D27+E27-F27 -> 0
A28: 364 | B28: Equipment and/or Other Sales | D28: ='Local Bud Amnd(5)-13613'!G28 -> 0 | E28: 0 | F28: 0 | G28: =D28+E28-F28 -> 0
A29: 369 | B29: Misc./Refunds (prior yr expenditures) | D29: ='Local Bud Amnd(5)-13613'!G29 -> 0 | E29: 0 | F29: 0 | G29: =D29+E29-F29 -> 0
A30: 380 | B30: Other Sources | D30: ='Local Bud Amnd(5)-13613'!G30 -> 0 | E30: 0 | F30: 0 | G30: =D30+E30-F30 -> 0
A31: 389 | B31: Loans | D31: ='Local Bud Amnd(5)-13613'!G31 -> 0 | E31: 0 | F31: 0 | G31: =D31+E31-F31 -> 0
A32: TOTAL RECEIPTS | D32: =SUM(D23:D31) -> 0 | E32: =SUM(E23:E31) -> 0 | F32: =SUM(F23:F31) -> 0 | G32: =SUM(G23:G31) -> 0
A33: Beginning Fund Balance | D33: ='Local Bud Amnd(5)-13613'!G33 -> 0 | E33: 0 | F33: 0 | G33: =D33+E33-F33 -> 0
A34: Total Budgetary Receipts & Balances | D34: =SUM(D32:D33) -> 0 | E34: =SUM(E32:E33) -> 0 | F34: =SUM(F32:F33) -> 0 | G34: =SUM(G32:G33) -> 0
A35: BUDGETED EXPENDITURES
A36: NOTE: Total increase must equal total decrease, unless the total "Present Budget" is revised.
A37: ACCT NO | B37: Uniform Accounting System Transaction | D37: Present Budget | E37: Increase Request | F37: Decrease Request | G37: Revised Budget
A38: 10 | B38: Personal Services | D38: ='Local Bud Amnd(5)-13613'!G38 -> 0 | E38: 0 | F38: 0 | G38: =D38+E38-F38 -> 0
A39: 20 | B39: Personal Services Benefits | D39: ='Local Bud Amnd(5)-13613'!G39 -> 0 | E39: 0 | F39: 0 | G39: =D39+E39-F39 -> 0
A40: 30 | B40: Operating Expense | D40: ='Local Bud Amnd(5)-13613'!G40 -> 0 | E40: 0 | F40: 0 | G40: =D40+E40-F40 -> 0
A41: 40 | B41: Travel & Per Diem | D41: ='Local Bud Amnd(5)-13613'!G41 -> 0 | E41: 0 | F41: 0 | G41: =D41+E41-F41 -> 0
A42: 41 | B42: Communication Services | D42: ='Local Bud Amnd(5)-13613'!G42 -> 0 | E42: 0 | F42: 0 | G42: =D42+E42-F42 -> 0
A43: 42 | B43: Freight Services | D43: ='Local Bud Amnd(5)-13613'!G43 -> 0 | E43: 0 | F43: 0 | G43: =D43+E43-F43 -> 0
A44: 43 | B44: Utility Service | D44: ='Local Bud Amnd(5)-13613'!G44 -> 0 | E44: 0 | F44: 0 | G44: =D44+E44-F44 -> 0
A45: 44 | B45: Rentals & Leases | D45: ='Local Bud Amnd(5)-13613'!G45 -> 0 | E45: 0 | F45: 0 | G45: =D45+E45-F45 -> 0
...

Sheet (Mar) Local Fin-13663
C1: Florida Department of Agriculture and Consumer Services
C2: Division of Agricultural Environmental Services
C4: MOSQUITO CONTROL MONTHLY REPORT - LOCAL FUNDS
C6: Rule 5E-13.027, F.A.C.
C7: Telephone: (850) 617-7911; Fax (850) 617-7939
A9: COUNTY/ DISTRICT | C9: ='Annl Cert. Bud-13617'!C9 -> 0 | D9: FISCAL YEAR: | E9: ='Annl Cert. Bud-13617'!E9 -> 2018-2019 | F9: MONTH: | G9: March
A11: LOCAL FUNDS RECEIPTS AND BALANCES
A12: ACCT NO | B12: DESCRIPTION | D12: Budgeted | E12: Monthly | F12: Receipts Year | G12: Balance to Be
D13: Receipts | E13: Receipts | F13: to Date | G13: Collected
A14: 311 | B14: Ad Valorem (Current/Delinquent) | D14: ='Local Bud Amnd(6)-13613'!G23 -> 0 | E14: 0 | F14: =E14+'(Feb) Local Fin-13663'!F14 -> 0 | G14: =D14-F14 -> 0
A15: 334.1 | B15: State Grant | D15: ='Local Bud Amnd(6)-13613'!G24 -> 0 | E15: 0 | F15: =E15+'(Feb) Local Fin-13663'!F15 -> 0 | G15: =D15-F15 -> 0
A16: 362 | B16: Equipment Rentals | D16: ='Local Bud Amnd(6)-13613'!G25 -> 0 | E16: 0 | F16: =E16+'(Feb) Local Fin-13663'!F16 -> 0 | G16: =D16-F16 -> 0
A17: 337 | B17: Grants and Donations | D17: ='Local Bud Amnd(6)-13613'!G26 -> 0 | E17: 0 | F17: =E17+'(Feb) Local Fin-13663'!F17 -> 0 | G17: =D17-F17 -> 0
A18: 361 | B18: Interest Earnings | D18: ='Local Bud Amnd(6)-13613'!G27 -> 0 | E18: 0 | F18: =E18+'(Feb) Local Fin-13663'!F18 -> 0 | G18: =D18-F18 -> 0
A19: 364 | B19: Equipment and/or Other Sales | D19: ='Local Bud Amnd(6)-13613'!G28 -> 0 | E19: 0 | F19: =E19+'(Feb) Local Fin-13663'!F19 -> 0 | G19: =D19-F19 -> 0
A20: 369 | B20: Misc./Refunds (prior yr expenditures) | D20: ='Local Bud Amnd(6)-13613'!G29 -> 0 | E20: 0 | F20: =E20+'(Feb) Local Fin-13663'!F20 -> 0 | G20: =D20-F20 -> 0
A21: 380 | B21: Other Sources | D21: ='Local Bud Amnd(6)-13613'!G30 -> 0 | E21: 0 | F21: =E21+'(Feb) Local Fin-13663'!F21 -> 0 | G21: =D21-F21 -> 0
A22: 389 | B22: Loans | D22: ='Local Bud Amnd(6)-13613'!G31 -> 0 | E22: 0 | F22: =E22+'(Feb) Local Fin-13663'!F22 -> 0 | G22: =D22-F22 -> 0
A23: TOTAL RECEIPTS | D23: =SUM(D14:D22) -> 0 | E23: =SUM(E14:E22) -> 0 | F23: =SUM(F14:F22) -> 0 | G23: =SUM(G14:G22) -> 0
A24: BEGINNING FUND BALANCE | D24: ='Local Bud Amnd(6)-13613'!G33 -> 0 | E24: 0 | F24: =E24+'(Feb) Local Fin-13663'!F24 -> 0 | G24: =D24-F24 -> 0
A25: Total Receipts & Balance | D25: =SUM(D23:D24) -> 0 | E25: =SUM(E23:E24) -> 0 | F25: =SUM(F23:F24) -> 0 | G25: =SUM(G23:G24) -> 0
A27: LOCAL FUNDS EXPENDITURES AND BALANCES
A28: ACCT NO | B28: Uniform Accounting System Transaction Code | D28: Budgeted | E28: Monthly | F28: Expenditures Year | G28: Balance to Be
D29: Expenditures | E29: Expenditures | F29: to Date | G29: Expended
A30: 10 | B30: Personal Services | D30: ='Local Bud Amnd(6)-13613'!G38 -> 0 | E30: 0 | F30: =E30+'(Feb) Local Fin-13663'!F30 -> 0 | G30: =D30-F30 -> 0
A31: 20 | B31: Personal Services Benefits | D31: ='Local Bud Amnd(6)-13613'!G39 -> 0 | E31: 0 | F31: =E31+'(Feb) Local Fin-13663'!F31 -> 0 | G31: =D31-F31 -> 0
A32: 30 | B32: Operating Expense | D32: ='Local Bud Amnd(6)-13613'!G40 -> 0 | E32: 0 | F32: =E32+'(Feb) Local Fin-13663'!F32 -> 0 | G32: =D32-F32 -> 0
A33: 40 | B33: Travel & Per Diem | D33: ='Local Bud Amnd(6)-13613'!G41 -> 0 | E33: 0 | F33: =E33+'(Feb) Local Fin-13663'!F33 -> 0 | G33: =D33-F33 -> 0
A34: 41 | B34: Communication Services | D34: ='Local Bud Amnd(6)-13613'!G42 -> 0 | E34: 0 | F34: =E34+'(Feb) Local Fin-13663'!F34 -> 0 | G34: =D34-F34 -> 0
A35: 42 | B35: Freight Services | D35: ='Local Bud Amnd(6)-13613'!G43 -> 0 | E35: 0 | F35: =E35+'(Feb) Local Fin-13663'!F35 -> 0 | G35: =D35-F35 -> 0
A36: 43 | B36: Utility Service | D36: ='Local Bud Amnd(6)-13613'!G44 -> 0 | E36: 0 | F36: =E36+'(Feb) Local Fin-13663'!F36 -> 0 | G36: =D36-F36 -> 0
A37: 44 | B37: Rentals & Leases | D37: ='Local Bud Amnd(6)-13613'!G45 -> 0 | E37: 0 | F37: =E37+'(Feb) Local Fin-13663'!F37 -> 0 | G37: =D37-F37 -> 0
A38: 45 | B38: Insurance | D38: ='Local Bud Amnd(6)-13613'!G46 -> 0 | E38: 0 | F38: =E38+'(Feb) Local Fin-13663'!F38 -> 0 | G38: =D38-F38 -> 0
A39: 46 | B39: Repairs & Maintenance | D39: ='Local Bud Amnd(6)-13613'!G47 -> 0 | E39: 0 | F39: =E39+'(Feb) Local Fin-13663'!F39 -> 0 | G39: =D39-F39 -> 0
A40: 47 | B40: Printing and Binding | D40: ='Local Bud Amnd(6)-13613'!G48 -> 0 | E40: 0 | F40: =E40+'(Feb) Local Fin-13663'!F40 -> 0 | G40: =D40-F40 -> 0
A41: 48 | B41: Promotional Activities | D41: ='Local Bud Amnd(6)-13613'!G49 -> 0 | E41: 0 | F41: =E41+'(Feb) Local Fin-13663'!F41 -> 0 | G41: =D41-F41 -> 0
... A57: 99 | B57: Payment of Prior Year Accounts | D57: ='Local Bud Amnd(6)-13613'!G65 -> 0 | E57: 0 | F57: =E57+'(Feb) Local Fin-13663'!F57 -> 0 | G57: =D57-F57 -> 0
