Workbook

Sheet Instructions
A1: INITIAL SETTINGS - OCTOBER TAB
A2: October is the only tab where you can enter your county or district program name and the fiscal year.
A3: October is the only tab where you can enter adulticide and larvicide product information.
B4: If you begin using a new product during the year, you will add it to the October tab and then go to the month you first began use to enter the monthly quantities.
A5: October is the only tab where you can enter the Mix Ratio or Formulation - please use the calculation tab to calculate the mix ratio and enter that into column G
B6: If the product name, active ingredient and EPA number will not fit in column A use the next row to complete the entry.
A8: For Adulticides:
B9: For November and subsequent months, you can only enter the Acres Treated Monthly and Total Output Monthly (gallons) - all other fields are locked and utilize formulas.
A11: For Larvicides:
B12: For November and subsequent months, you can only enter the Acres Treated Monthly and Total Output Monthly (Gal/lb/Units) - all other fields are locked and utilize formulas.
A14: CALCULATIONS TAB
B15: We have provided a tab that will calculate the "number" to use for the Mix Ratio/Formula area (column G). This number can only be entered in Column G in the October tab and will be carried forward from there.
B16: Presently, the number defaults to 1 so it will not interfere with any of the amounts entered into the worksheet until the correct number is entered.
A18: WORKSHEET FORMULAS
A20: October's Acres Treated Yearly for adulticides does not use a formula - they are the same as the initial entries.
B21: For November and subsequent months, the Acres Treated Yearly for adulticides uses the formula - Column J (previous month's Column J) plus Column H
A23: October's Total Yearly Output for adulticides does not use a formula - they are the same as the initial entries.
B24: For November and subsequent months, the Total Yearly Output for adulticides uses the formula - Column I multiplied by Column G plus (previous month's Column K)
A26: October's Acres Treated Yearly for larvicides does not have a formula - they are the same as the initial entries
B27: For November and subsequent months, the Acres Treated Yearly for larvicides uses the formula - (previous month's Column J) plus Column H
A29: October's Total Yearly Output for larvicides uses the formula - Column I multiplied by Column G -
B30: For November and subsequent months, the Total Yearly Output for larvicides uses the formula - Column I multiplied by Column G plus (previous month column K)
A32: TO CHANGE FISCAL YEAR
B33: Modify cell K9 using year format - (ex. 2013-2014)
A35: Revisions
A36: 41507 | B36: Added new Department seal/logo; corrected fiscal year carry through to all tabs
A37: 42003 | B37: Corrected Address due to reorg
A38: 42038 | B38: Updated address in Submit To box, form revision date, and program title.
A39: 43675 | B39: Updated address in Submit To box, updated Commissioner and rule reference
A40: 44459 | B40: Added in Larvicide Unit Weights/Mix Ratios table

Sheet Calculations
B1: **Use these calculations to determine what the "Mix Ratio" will be in Column G.**
B3: Adulticide Mix Ratio Calculation
B5: Unmixed adulticides applied straight: Mix Ratio = | H5: 1
B7: Adulticide Mix Ratio Calculator | H7: Mix ratio
B8: Enter Parts Pesticide | D8: to | E8: Enter Parts Diluent | G8: = | H8: =IFERROR(B9/(B9+E9),0) -> 0
B9: 0 | E9: 0
B11: Larvicide Mix Ratio Calculation
B13: Dry granular product that are unmixed: Mix Ratio = | H13: 1
B14: Liquid larvicides applied unmixed: Mix Ratio = | H14: 1
B15: Liquid Larvicides Mix Ratio Calculator | H15: Mix ratio
B16: Enter Parts Larvicide | D16: to | E16: Enter Parts Diluent | G16: = | H16: =IFERROR(B17/(B17+E17),0) -> 0
B17: 0 | E17: 0
B19: Individual Larvicide Unit Calculation (use for individual briquets, packets, tablets, etc.)
B21: Weight of Container (lbs.) **Must be in Pounds** | H21: 0 | I21: lbs.
B22: Number of Individual Units Per Container | H22: 0 | I22: pieces
E23: Mix Ratio = | H23: =IFERROR(H21/H22, 0) -> 0

Sheet October
B1: Florida Department of Agriculture and Consumer Services
B2: Division of Agricultural Environmental Services
B4: MOSQUITO CONTROL MONTHLY ACTIVITY REPORT
B6: Rule 5E-13.022, F.A.C.
B7: Telephone: (850) 617-7911; FAX (850) 617-7939
A9: COUNTY OR DISTRICT: | I9: MONTH: October | J9: FISCAL: | K9: 2018 - 2019
A10: CHEMICAL ADULTICIDE | C10: T | D10: U | E10: G | F10: A | G10: MIX RATIO | H10: ACRES | I10: TOTAL | J10: ACRES | K10: TOTAL
A11: * Show Chemical NAME | C11: H | D11: L | E11: R | F11: I | G11: OR | H11: TREATED | I11: OUTPUT | J11: TREATED | K11: OUTPUT
A12: * % of Active Ingredient (a.i.) | C12: R | D12: V | E12: N | F12: R | G12: FORMULA | H12: MONTHLY | I12: MONTHLY | J12: YEARLY | K12: YEARLY
A13: * EPA Number | C13: M | E13: D | G13: (see Calculation tab) | I13: Gallons | K13: Gallons
C14: FALSE | D14: FALSE | G14: 1 | H14: 0 | I14: 0 | J14: =H14 -> 0 | K14: =I14*G14 -> 0
G15: 1 | H15: 0 | I15: 0 | J15: =H15 -> 0 | K15: =I15*G15 -> 0
G16: 1 | H16: 0 | I16: 0 | J16: =H16 -> 0 | K16: =I16*G16 -> 0
G17: 1 | H17: 0 | I17: 0 | J17: =H17 -> 0 | K17: =I17*G17 -> 0
G18: 1 | H18: 0 | I18: 0 | J18: =H18 -> 0 | K18: =I18*G18 -> 0
G19: 1 | H19: 0 | I19: 0 | J19: =H19 -> 0 | K19: =I19*G19 -> 0
G20: 1 | H20: 0 | I20: 0 | J20: =H20 -> 0 | K20: =I20*G20 -> 0
G21: 1 | H21: 0 | I21: 0 | J21: =H21 -> 0 | K21: =I21*G21 -> 0
G22: 1 | H22: 0 | I22: 0 | J22: =H22 -> 0 | K22: =I22*G22 -> 0
G23: 1 | H23: 0 | I23: 0 | J23: =H23 -> 0 | K23: =I23*G23 -> 0
G24: 1 | H24: 0 | I24: 0 | J24: =H24 -> 0 | K24: =I24*G24 -> 0
G25: 1 | H25: 0 | I25: 0 | J25: =H25 -> 0 | K25: =I25*G25 -> 0
G26: 1 | H26: 0 | I26: 0 | J26: =H26 -> 0 | K26: =I26*G26 -> 0
... G30: 1 | H30: 0 | I30: 0 | J30: =H30 -> 0 | K30: =I30*G30 -> 0
F31: FALSE | G31: 1 | H31: 0 | I31: 0 | J31: =H31 -> 0 | K31: =I31*G31 -> 0
G32: 1 | H32: 0 | I32: 0 | J32: =H32 -> 0 | K32: =I32*G32 -> 0
G33: 1 | H33: 0 | I33: 0 | J33: =H33 -> 0 | K33: =I33*G33 -> 0
G34: 1 | H34: 0 | I34: 0 | J34: =H34 -> 0 | K34: =I34*G34 -> 0
G35: 1 | H35: 0 | I35: 0 | J35: =H35 -> 0 | K35: =I35*G35 -> 0
G36: 1 | H36: 0 | I36: 0 | J36: =H36 -> 0 | K36: =I36*G36 -> 0
A37: CHEMICAL LARVICIDE | E37: G | F37: A | G37: MIX RATIO | H37: ACRES | I37: TOTAL | J37: ACRES | K37: TOTAL
A38: * Show Chemical NAME | E38: R | F38: I | G38: OR | H38: TREATED | I38: OUTPUT | J38: TREATED | K38: OUTPUT
A39: * % of Active Ingredient (a.i.) | E39: N | F39: R | G39: FORMULA PER | H39: MONTHLY | I39: MONTHLY | J39: YEARLY | K39: YEARLY
A40: * EPA Number | E40: D | G40: (see Calculation tab) | I40: Gal, lb, or Units | K40: Gal, lb
E41: FALSE | G41: 1 | H41: 0 | I41: 0 | J41: =H41 -> 0 | K41: =I41*G41 -> 0
F42: FALSE | G42: 1 | H42: 0 | I42: 0 | J42: =H42 -> 0 | K42: =I42*G42 -> 0
G43: 1 | H43: 0 | I43: 0 | J43: =H43 -> 0 | K43: =I43*G43 -> 0
G44: 1 | H44: 0 | I44: 0 | J44: =H44 -> 0 | K44: =I44*G44 -> 0
G45: 1 | H45: 0 | I45: 0 | J45: =H45 -> 0 | K45: =I45*G45 -> 0
G46: 1 | H46: 0 | I46: 0 | J46: =H46 -> 0 | K46: =I46*G46 -> 0
...

Sheet November
B1: Florida Department of Agriculture and Consumer Services
B2: Division of Agricultural Environmental Services
B4: MOSQUITO CONTROL MONTHLY ACTIVITY REPORT
B6: Rule 5E-13.022, F.A.C.
B7: Telephone: (850) 617-7911; FAX (850) 617-7939
A9: COUNTY OR DISTRICT: | B9: =October!B9 -> 0 | I9: MONTH: November | J9: FISCAL: | K9: =October!K9 -> 2018 - 2019
A10: CHEMICAL ADULTICIDE | C10: T | D10: U | E10: G | F10: A | G10: MIX RATIO | H10: ACRES | I10: TOTAL | J10: ACRES | K10: TOTAL
A11: * Show Chemical NAME | C11: H | D11: L | E11: R | F11: I | G11: OR | H11: TREATED | I11: OUTPUT | J11: TREATED | K11: OUTPUT
A12: * % of Active Ingredient (a.i.) | C12: R | D12: V | E12: N | F12: R | G12: FORMULA | H12: MONTHLY | I12: MONTHLY | J12: YEARLY | K12: YEARLY
A13: * EPA Number | C13: M | E13: D | G13: (see Calculation tab) | I13: Gallons | K13: Gallons
A14: =October!A14 -> 0 | C14: FALSE | G14: =October!G14 -> 1 | H14: 0 | I14: 0 | J14: =October!J14+H14 -> 0 | K14: =I14*G14+October!K14 -> 0
A15: =October!A15 -> 0 | G15: =October!G15 -> 1 | H15: 0 | I15: 0 | J15: =October!J15+H15 -> 0 | K15: =I15*G15+October!K15 -> 0
A16: =October!A16 -> 0 | G16: =October!G16 -> 1 | H16: 0 | I16: 0 | J16: =October!J16+H16 -> 0 | K16: =I16*G16+October!K16 -> 0
A17: =October!A17 -> 0 | G17: =October!G17 -> 1 | H17: 0 | I17: 0 | J17: =October!J17+H17 -> 0 | K17: =I17*G17+October!K17 -> 0
A18: =October!A18 -> 0 | G18: =October!G18 -> 1 | H18: 0 | I18: 0 | J18: =October!J18+H18 -> 0 | K18: =I18*G18+October!K18 -> 0
A19: =October!A19 -> 0 | G19: =October!G19 -> 1 | H19: 0 | I19: 0 | J19: =October!J19+H19 -> 0 | K19: =I19*G19+October!K19 -> 0
A20: =October!A20 -> 0 | G20: =October!G20 -> 1 | H20: 0 | I20: 0 | J20: =October!J20+H20 -> 0 | K20: =I20*G20+October!K20 -> 0
A21: =October!A21 -> 0 | C21: FALSE | G21: =October!G21 -> 1 | H21: 0 | I21: 0 | J21: =October!J21+H21 -> 0 | K21: =I21*G21+October!K21 -> 0
A22: =October!A22 -> 0 | G22: =October!G22 -> 1 | H22: 0 | I22: 0 | J22: =October!J22+H22 -> 0 | K22: =I22*G22+October!K22 -> 0
A23: =October!A23 -> 0 | G23: =October!G23 -> 1 | H23: 0 | I23: 0 | J23: =October!J23+H23 -> 0 | K23: =I23*G23+October!K23 -> 0
A24: =October!A24 -> 0 | E24: FALSE | G24: =October!G24 -> 1 | H24: 0 | I24: 0 | J24: =October!J24+H24 -> 0 | K24: =I24*G24+October!K24 -> 0
A25: =October!A25 -> 0 | G25: =October!G25 -> 1 | H25: 0 | I25: 0 | J25: =October!J25+H25 -> 0 | K25: =I25*G25+October!K25 -> 0
A26: =October!A26 -> 0 | G26: =October!G26 -> 1 | H26: 0 | I26: 0 | J26: =October!J26+H26 -> 0 | K26: =I26*G26+October!K26 -> 0
A27: =October!A27 -> 0 | G27: =October!G27 -> 1 | H27: 0 | I27: 0 | J27: =October!J27+H27 -> 0 | K27: =I27*G27+October!K27 -> 0
A28: =October!A28 -> 0 | G28: =October!G28 -> 1 | H28: 0 | I28: 0 | J28: =October!J28+H28 -> 0 | K28: =I28*G28+October!K28 -> 0
A29: =October!A29 -> 0 | G29: =October!G29 -> 1 | H29: 0 | I29: 0 | J29: =October!J29+H29 -> 0 | K29: =I29*G29+October!K29 -> 0
A30: =October!A30 -> 0 | G30: =October!G30 -> 1 | H30: 0 | I30: 0 | J30: =October!J30+H30 -> 0 | K30: =I30*G30+October!K30 -> 0
A31: =October!A31 -> 0 | G31: =October!G31 -> 1 | H31: 0 | I31: 0 | J31: =October!J31+H31 -> 0 | K31: =I31*G31+October!K31 -> 0
A32: =October!A32 -> 0 | G32: =October!G32 -> 1 | H32: 0 | I32: 0 | J32: =October!J32+H32 -> 0 | K32: =I32*G32+October!K32 -> 0
A33: =October!A33 -> 0 | G33: =October!G33 -> 1 | H33: 0 | I33: 0 | J33: =October!J33+H33 -> 0 | K33: =I33*G33+October!K33 -> 0
A34: =October!A34 -> 0 | G34: =October!G34 -> 1 | H34: 0 | I34: 0 | J34: =October!J34+H34 -> 0 | K34: =I34*G34+October!K34 -> 0
A35: =October!A35 -> 0 | G35: =October!G35 -> 1 | H35: 0 | I35: 0 | J35: =October!J35+H35 -> 0 | K35: =I35*G35+October!K35 -> 0
A36: =October!A36 -> 0 | G36: =October!G36 -> 1 | H36: 0 | I36: 0 | J36: =October!J36+H36 -> 0 | K36: =I36*G36+October!K36 -> 0
A37: CHEMICAL LARVICIDE | E37: G | F37: A | G37: MIX RATIO | H37: ACRES | I37: TOTAL | J37: ACRES | K37: TOTAL
A38: * Show Chemical NAME | E38: R | F38: I | G38: OR | H38: TREATED | I38: OUTPUT | J38: TREATED | K38: OUTPUT
A39: * % of Active Ingredient (a.i.) | E39: N | F39: R | G39: FORMULA PER | H39: MONTHLY | I39: MONTHLY | J39: YEARLY | K39: YEARLY
A40: * EPA Number | E40: D | G40: (see Calculation tab) | I40: Gal/lb/Units | K40: Gal/lb
A41: =October!A41 -> 0 | C41: =October!C41 -> 0 | G41: =October!G41 -> 1 | H41: 0 | I41: 0 | J41: =October!J41+H41 -> 0 | K41: =I41*G41+October!K41 -> 0
A42: =October!A42 -> 0 | C42: =October!C42 -> 0 | G42: =October!G42 -> 1 | H42: 0 | I42: 0 | J42: =October!J42+H42 -> 0 | K42: =I42*G42+October!K42 -> 0
A43: =October!A43 -> 0 | C43: =October!C43 -> 0 | G43: =October!G43 -> 1 | H43: 0 | I43: 0 | J43: =October!J43+H43 -> 0 | K43: =I43*G43+October!K43 -> 0
...

Sheet December
B1: Florida Department of Agriculture and Consumer Services
B2: Division of Agricultural Environmental Services
B4: MOSQUITO CONTROL MONTHLY ACTIVITY REPORT
B6: Rule 5E-13.022, F.A.C.
B7: Telephone: (850) 617-7911; FAX (850) 617-7939
A9: COUNTY OR DISTRICT: | B9: =November!B9 -> 0 | I9: MONTH: December | J9: FISCAL: | K9: =October!K9 -> 2018 - 2019
A10: CHEMICAL ADULTICIDE | C10: T | D10: U | E10: G | F10: A | G10: MIX RATIO | H10: ACRES | I10: TOTAL | J10: ACRES | K10: TOTAL
A11: * Show Chemical NAME | C11: H | D11: L | E11: R | F11: I | G11: OR | H11: TREATED | I11: OUTPUT | J11: TREATED | K11: OUTPUT
A12: * % of Active Ingredient (a.i.) | C12: R | D12: V | E12: N | F12: R | G12: FORMULA | H12: MONTHLY | I12: MONTHLY | J12: YEARLY | K12: YEARLY
A13: * EPA Number | C13: M | E13: D | G13: (see Calculation tab) | I13: Gallons | K13: Gallons
A14: =November!A14 -> 0 | C14: FALSE | G14: =November!G14 -> 1 | H14: 0 | I14: 0 | J14: =November!J14+H14 -> 0 | K14: =I14*G14+November!K14 -> 0
A15: =November!A15 -> 0 | G15: =November!G15 -> 1 | H15: 0 | I15: 0 | J15: =November!J15+H15 -> 0 | K15: =I15*G15+November!K15 -> 0
A16: =November!A16 -> 0 | G16: =November!G16 -> 1 | H16: 0 | I16: 0 | J16: =November!J16+H16 -> 0 | K16: =I16*G16+November!K16 -> 0
A17: =November!A17 -> 0 | G17: =November!G17 -> 1 | H17: 0 | I17: 0 | J17: =November!J17+H17 -> 0 | K17: =I17*G17+November!K17 -> 0
A18: =November!A18 -> 0 | G18: =November!G18 -> 1 | H18: 0 | I18: 0 | J18: =November!J18+H18 -> 0 | K18: =I18*G18+November!K18 -> 0
A19: =November!A19 -> 0 | G19: =November!G19 -> 1 | H19: 0 | I19: 0 | J19: =November!J19+H19 -> 0 | K19: =I19*G19+November!K19 -> 0
A20: =November!A20 -> 0 | G20: =November!G20 -> 1 | H20: 0 | I20: 0 | J20: =November!J20+H20 -> 0 | K20: =I20*G20+November!K20 -> 0
A21: =November!A21 -> 0 | C21: FALSE | G21: =November!G21 -> 1 | H21: 0 | I21: 0 | J21: =November!J21+H21 -> 0 | K21: =I21*G21+November!K21 -> 0
A22: =November!A22 -> 0 | G22: =November!G22 -> 1 | H22: 0 | I22: 0 | J22: =November!J22+H22 -> 0 | K22: =I22*G22+November!K22 -> 0
A23: =November!A23 -> 0 | G23: =November!G23 -> 1 | H23: 0 | I23: 0 | J23: =November!J23+H23 -> 0 | K23: =I23*G23+November!K23 -> 0
A24: =November!A24 -> 0 | E24: FALSE | G24: =November!G24 -> 1 | H24: 0 | I24: 0 | J24: =November!J24+H24 -> 0 | K24: =I24*G24+November!K24 -> 0
A25: =November!A25 -> 0 | G25: =November!G25 -> 1 | H25: 0 | I25: 0 | J25: =November!J25+H25 -> 0 | K25: =I25*G25+November!K25 -> 0
A26: =November!A26 -> 0 | G26: =November!G26 -> 1 | H26: 0 | I26: 0 | J26: =November!J26+H26 -> 0 | K26: =I26*G26+November!K26 -> 0
A27: =November!A27 -> 0 | G27: =November!G27 -> 1 | H27: 0 | I27: 0 | J27: =November!J27+H27 -> 0 | K27: =I27*G27+November!K27 -> 0
A28: =November!A28 -> 0 | G28: =November!G28 -> 1 | H28: 0 | I28: 0 | J28: =November!J28+H28 -> 0 | K28: =I28*G28+November!K28 -> 0
A29: =November!A29 -> 0 | G29: =November!G29 -> 1 | H29: 0 | I29: 0 | J29: =November!J29+H29 -> 0 | K29: =I29*G29+November!K29 -> 0
A30: =November!A30 -> 0 | G30: =November!G30 -> 1 | H30: 0 | I30: 0 | J30: =November!J30+H30 -> 0 | K30: =I30*G30+November!K30 -> 0
A31: =November!A31 -> 0 | G31: =November!G31 -> 1 | H31: 0 | I31: 0 | J31: =November!J31+H31 -> 0 | K31: =I31*G31+November!K31 -> 0
A32: =November!A32 -> 0 | G32: =November!G32 -> 1 | H32: 0 | I32: 0 | J32: =November!J32+H32 -> 0 | K32: =I32*G32+November!K32 -> 0
A33: =November!A33 -> 0 | G33: =November!G33 -> 1 | H33: 0 | I33: 0 | J33: =November!J33+H33 -> 0 | K33: =I33*G33+November!K33 -> 0
A34: =November!A34 -> 0 | G34: =November!G34 -> 1 | H34: 0 | I34: 0 | J34: =November!J34+H34 -> 0 | K34: =I34*G34+November!K34 -> 0
A35: =November!A35 -> 0 | G35: =November!G35 -> 1 | H35: 0 | I35: 0 | J35: =November!J35+H35 -> 0 | K35: =I35*G35+November!K35 -> 0
A36: =November!A36 -> 0 | G36: =November!G36 -> 1 | H36: 0 | I36: 0 | J36: =November!J36+H36 -> 0 | K36: =I36*G36+November!K36 -> 0
A37: CHEMICAL LARVICIDE | E37: G | F37: A | G37: MIX RATIO | H37: ACRES | I37: TOTAL | J37: ACRES | K37: TOTAL
A38: * Show Chemical NAME | E38: R | F38: I | G38: OR | H38: TREATED | I38: OUTPUT | J38: TREATED | K38: OUTPUT
A39: * % of Active Ingredient (a.i.) | E39: N | F39: R | G39: FORMULA PER | H39: MONTHLY | I39: MONTHLY | J39: YEARLY | K39: YEARLY
A40: * EPA Number | E40: D | G40: (see Calculation tab) | I40: Gal/lb/Units | K40: Gal/lb
A41: =November!A41 -> 0 | C41: =October!C41 -> 0 | G41: =November!G41 -> 1 | H41: 0 | I41: 0 | J41: =November!J41+H41 -> 0 | K41: =I41*G41+November!K41 -> 0
A42: =November!A42 -> 0 | C42: =October!C42 -> 0 | G42: =November!G42 -> 1 | H42: 0 | I42: 0 | J42: =November!J42+H42 -> 0 | K42: =I42*G42+November!K42 -> 0
A43: =November!A43 -> 0 | C43: =October!C43 -> 0 | G43: =November!G43 -> 1 | H43: 0 | I43: 0 | J43: =November!J43+H43 -> 0 | K43: =I43*G43+November!K43 -> 0
...

Sheet January
B1: Florida Department of Agriculture and Consumer Services
B2: Division of Agricultural Environmental Services
B4: MOSQUITO CONTROL MONTHLY ACTIVITY REPORT
B6: Rule 5E-13.022, F.A.C.
B7: Telephone: (850) 617-7911; FAX (850) 617-7939
A9: COUNTY OR DISTRICT: | B9: =December!B9 -> 0 | I9: MONTH: January | J9: FISCAL: | K9: =October!K9 -> 2018 - 2019
A10: CHEMICAL ADULTICIDE | C10: T | D10: U | E10: G | F10: A | G10: MIX RATIO | H10: ACRES | I10: TOTAL | J10: ACRES | K10: TOTAL
A11: * Show Chemical NAME | C11: H | D11: L | E11: R | F11: I | G11: OR | H11: TREATED | I11: OUTPUT | J11: TREATED | K11: OUTPUT
A12: * % of Active Ingredient (a.i.) | C12: R | D12: V | E12: N | F12: R | G12: FORMULA | H12: MONTHLY | I12: MONTHLY | J12: YEARLY | K12: YEARLY
A13: * EPA Number | C13: M | E13: D | G13: (see Calculation tab) | I13: Gallons | K13: Gallons
A14: =December!A14 -> 0 | C14: FALSE | G14: =December!G14 -> 1 | H14: 0 | I14: 0 | J14: =December!J14+H14 -> 0 | K14: =I14*G14+December!K14 -> 0
A15: =December!A15 -> 0 | G15: =December!G15 -> 1 | H15: 0 | I15: 0 | J15: =December!J15+H15 -> 0 | K15: =I15*G15+December!K15 -> 0
A16: =December!A16 -> 0 | G16: =December!G16 -> 1 | H16: 0 | I16: 0 | J16: =December!J16+H16 -> 0 | K16: =I16*G16+December!K16 -> 0
A17: =December!A17 -> 0 | G17: =December!G17 -> 1 | H17: 0 | I17: 0 | J17: =December!J17+H17 -> 0 | K17: =I17*G17+December!K17 -> 0
A18: =December!A18 -> 0 | G18: =December!G18 -> 1 | H18: 0 | I18: 0 | J18: =December!J18+H18 -> 0 | K18: =I18*G18+December!K18 -> 0
A19: =December!A19 -> 0 | G19: =December!G19 -> 1 | H19: 0 | I19: 0 | J19: =December!J19+H19 -> 0 | K19: =I19*G19+December!K19 -> 0
A20: =December!A20 -> 0 | G20: =December!G20 -> 1 | H20: 0 | I20: 0 | J20: =December!J20+H20 -> 0 | K20: =I20*G20+December!K20 -> 0
A21: =December!A21 -> 0 | C21: FALSE | G21: =December!G21 -> 1 | H21: 0 | I21: 0 | J21: =December!J21+H21 -> 0 | K21: =I21*G21+December!K21 -> 0
A22: =December!A22 -> 0 | G22: =December!G22 -> 1 | H22: 0 | I22: 0 | J22: =December!J22+H22 -> 0 | K22: =I22*G22+December!K22 -> 0
A23: =December!A23 -> 0 | G23: =December!G23 -> 1 | H23: 0 | I23: 0 | J23: =December!J23+H23 -> 0 | K23: =I23*G23+December!K23 -> 0
A24: =December!A24 -> 0 | E24: FALSE | G24: =December!G24 -> 1 | H24: 0 | I24: 0 | J24: =December!J24+H24 -> 0 | K24: =I24*G24+December!K24 -> 0
A25: =December!A25 -> 0 | G25: =December!G25 -> 1 | H25: 0 | I25: 0 | J25: =December!J25+H25 -> 0 | K25: =I25*G25+December!K25 -> 0
A26: =December!A26 -> 0 | G26: =December!G26 -> 1 | H26: 0 | I26: 0 | J26: =December!J26+H26 -> 0 | K26: =I26*G26+December!K26 -> 0
A27: =December!A27 -> 0 | G27: =December!G27 -> 1 | H27: 0 | I27: 0 | J27: =December!J27+H27 -> 0 | K27: =I27*G27+December!K27 -> 0
A28: =December!A28 -> 0 | G28: =December!G28 -> 1 | H28: 0 | I28: 0 | J28: =December!J28+H28 -> 0 | K28: =I28*G28+December!K28 -> 0
A29: =December!A29 -> 0 | G29: =December!G29 -> 1 | H29: 0 | I29: 0 | J29: =December!J29+H29 -> 0 | K29: =I29*G29+December!K29 -> 0
A30: =December!A30 -> 0 | G30: =December!G30 -> 1 | H30: 0 | I30: 0 | J30: =December!J30+H30 -> 0 | K30: =I30*G30+December!K30 -> 0
A31: =December!A31 -> 0 | G31: =December!G31 -> 1 | H31: 0 | I31: 0 | J31: =December!J31+H31 -> 0 | K31: =I31*G31+December!K31 -> 0
A32: =December!A32 -> 0 | G32: =December!G32 -> 1 | H32: 0 | I32: 0 | J32: =December!J32+H32 -> 0 | K32: =I32*G32+December!K32 -> 0
A33: =December!A33 -> 0 | G33: =December!G33 -> 1 | H33: 0 | I33: 0 | J33: =December!J33+H33 -> 0 | K33: =I33*G33+December!K33 -> 0
A34: =December!A34 -> 0 | G34: =December!G34 -> 1 | H34: 0 | I34: 0 | J34: =December!J34+H34 -> 0 | K34: =I34*G34+December!K34 -> 0
A35: =December!A35 -> 0 | G35: =December!G35 -> 1 | H35: 0 | I35: 0 | J35: =December!J35+H35 -> 0 | K35: =I35*G35+December!K35 -> 0
A36: =December!A36 -> 0 | G36: =December!G36 -> 1 | H36: 0 | I36: 0 | J36: =December!J36+H36 -> 0 | K36: =I36*G36+December!K36 -> 0
A37: CHEMICAL LARVICIDE | E37: G | F37: A | G37: MIX RATIO | H37: ACRES | I37: TOTAL | J37: ACRES | K37: TOTAL
A38: * Show Chemical NAME | E38: R | F38: I | G38: OR | H38: TREATED | I38: OUTPUT | J38: TREATED | K38: OUTPUT
A39: * % of Active Ingredient (a.i.) | E39: N | F39: R | G39: FORMULA PER | H39: MONTHLY | I39: MONTHLY | J39: YEARLY | K39: YEARLY
A40: * EPA Number | E40: D | G40: (see Calculation tab) | I40: Gal/lb/Units | K40: Gal/lb
A41: =December!A41 -> 0 | C41: =October!C41 -> 0 | G41: =December!G41 -> 1 | H41: 0 | I41: 0 | J41: =December!J41+H41 -> 0 | K41: =I41*G41+December!K41 -> 0
A42: =December!A42 -> 0 | C42: =October!C42 -> 0 | G42: =December!G42 -> 1 | H42: 0 | I42: 0 | J42: =December!J42+H42 -> 0 | K42: =I42*G42+December!K42 -> 0
A43: =December!A43 -> 0 | C43: =October!C43 -> 0 | G43: =December!G43 -> 1 | H43: 0 | I43: 0 | J43: =December!J43+H43 -> 0 | K43: =I43*G43+December!K43 -> 0
...

Sheet February
B1: Florida Department of Agriculture and Consumer Services
B2: Division of Agricultural Environmental Services
B4: MOSQUITO CONTROL MONTHLY ACTIVITY REPORT
B6: Rule 5E-13.022, F.A.C.
B7: Telephone: (850) 617-7911; FAX (850) 617-7939
A9: COUNTY OR DISTRICT: | B9: =January!B9 -> 0 | I9: MONTH: February | J9: FISCAL: | K9: =October!K9 -> 2018 - 2019
A10: CHEMICAL ADULTICIDE | C10: T | D10: U | E10: G | F10: A | G10: MIX RATIO | H10: ACRES | I10: TOTAL | J10: ACRES | K10: TOTAL
A11: * Show Chemical NAME | C11: H | D11: L | E11: R | F11: I | G11: OR | H11: TREATED | I11: OUTPUT | J11: TREATED | K11: OUTPUT
A12: * % of Active Ingredient (a.i.) | C12: R | D12: V | E12: N | F12: R | G12: FORMULA | H12: MONTHLY | I12: MONTHLY | J12: YEARLY | K12: YEARLY
A13: * EPA Number | C13: M | E13: D | G13: (see Calculation tab) | I13: Gallons | K13: Gallons
A14: =January!A14 -> 0 | C14: FALSE | G14: =January!G14 -> 1 | H14: 0 | I14: 0 | J14: =January!J14+H14 -> 0 | K14: =I14*G14+January!K14 -> 0
A15: =January!A15 -> 0 | G15: =January!G15 -> 1 | H15: 0 | I15: 0 | J15: =January!J15+H15 -> 0 | K15: =I15*G15+January!K15 -> 0
A16: =January!A16 -> 0 | G16: =January!G16 -> 1 | H16: 0 | I16: 0 | J16: =January!J16+H16 -> 0 | K16: =I16*G16+January!K16 -> 0
A17: =January!A17 -> 0 | G17: =January!G17 -> 1 | H17: 0 | I17: 0 | J17: =January!J17+H17 -> 0 | K17: =I17*G17+January!K17 -> 0
A18: =January!A18 -> 0 | G18: =January!G18 -> 1 | H18: 0 | I18: 0 | J18: =January!J18+H18 -> 0 | K18: =I18*G18+January!K18 -> 0
A19: =January!A19 -> 0 | G19: =January!G19 -> 1 | H19: 0 | I19: 0 | J19: =January!J19+H19 -> 0 | K19: =I19*G19+January!K19 -> 0
A20: =January!A20 -> 0 | G20: =January!G20 -> 1 | H20: 0 | I20: 0 | J20: =January!J20+H20 -> 0 | K20: =I20*G20+January!K20 -> 0
A21: =January!A21 -> 0 | C21: FALSE | G21: =January!G21 -> 1 | H21: 0 | I21: 0 | J21: =January!J21+H21 -> 0 | K21: =I21*G21+January!K21 -> 0
A22: =January!A22 -> 0 | G22: =January!G22 -> 1 | H22: 0 | I22: 0 | J22: =January!J22+H22 -> 0 | K22: =I22*G22+January!K22 -> 0
A23: =January!A23 -> 0 | G23: =January!G23 -> 1 | H23: 0 | I23: 0 | J23: =January!J23+H23 -> 0 | K23: =I23*G23+January!K23 -> 0
A24: =January!A24 -> 0 | E24: FALSE | G24: =January!G24 -> 1 | H24: 0 | I24: 0 | J24: =January!J24+H24 -> 0 | K24: =I24*G24+January!K24 -> 0
A25: =January!A25 -> 0 | G25: =January!G25 -> 1 | H25: 0 | I25: 0 | J25: =January!J25+H25 -> 0 | K25: =I25*G25+January!K25 -> 0
A26: =January!A26 -> 0 | G26: =January!G26 -> 1 | H26: 0 | I26: 0 | J26: =January!J26+H26 -> 0 | K26: =I26*G26+January!K26 -> 0
A27: =January!A27 -> 0 | G27: =January!G27 -> 1 | H27: 0 | I27: 0 | J27: =January!J27+H27 -> 0 | K27: =I27*G27+January!K27 -> 0
A28: =January!A28 -> 0 | G28: =January!G28 -> 1 | H28: 0 | I28: 0 | J28: =January!J28+H28 -> 0 | K28: =I28*G28+January!K28 -> 0
A29: =January!A29 -> 0 | G29: =January!G29 -> 1 | H29: 0 | I29: 0 | J29: =January!J29+H29 -> 0 | K29: =I29*G29+January!K29 -> 0
A30: =January!A30 -> 0 | G30: =January!G30 -> 1 | H30: 0 | I30: 0 | J30: =January!J30+H30 -> 0 | K30: =I30*G30+January!K30 -> 0
A31: =January!A31 -> 0 | G31: =January!G31 -> 1 | H31: 0 | I31: 0 | J31: =January!J31+H31 -> 0 | K31: =I31*G31+January!K31 -> 0
A32: =January!A32 -> 0 | G32: =January!G32 -> 1 | H32: 0 | I32: 0 | J32: =January!J32+H32 -> 0 | K32: =I32*G32+January!K32 -> 0
A33: =January!A33 -> 0 | G33: =January!G33 -> 1 | H33: 0 | I33: 0 | J33: =January!J33+H33 -> 0 | K33: =I33*G33+January!K33 -> 0
A34: =January!A34 -> 0 | G34: =January!G34 -> 1 | H34: 0 | I34: 0 | J34: =January!J34+H34 -> 0 | K34: =I34*G34+January!K34 -> 0
A35: =January!A35 -> 0 | G35: =January!G35 -> 1 | H35: 0 | I35: 0 | J35: =January!J35+H35 -> 0 | K35: =I35*G35+January!K35 -> 0
A36: =January!A36 -> 0 | G36: =January!G36 -> 1 | H36: 0 | I36: 0 | J36: =January!J36+H36 -> 0 | K36: =I36*G36+January!K36 -> 0
A37: CHEMICAL LARVICIDE | E37: G | F37: A | G37: MIX RATIO | H37: ACRES | I37: TOTAL | J37: ACRES | K37: TOTAL
A38: * Show Chemical NAME | E38: R | F38: I | G38: OR | H38: TREATED | I38: OUTPUT | J38: TREATED | K38: OUTPUT
A39: * % of Active Ingredient (a.i.) | E39: N | F39: R | G39: FORMULA PER | H39: MONTHLY | I39: MONTHLY | J39: YEARLY | K39: YEARLY
A40: * EPA Number | E40: D | G40: (see Calculation tab) | I40: Gal/lb/Units | K40: Gal/lb
A41: =January!A41 -> 0 | C41: =October!C41 -> 0 | G41: =January!G41 -> 1 | H41: 0 | I41: 0 | J41: =January!J41+H41 -> 0 | K41: =I41*G41+January!K41 -> 0
A42: =January!A42 -> 0 | C42: =October!C42 -> 0 | G42: =January!G42 -> 1 | H42: 0 | I42: 0 | J42: =January!J42+H42 -> 0 | K42: =I42*G42+January!K42 -> 0
A43: =January!A43 -> 0 | C43: =October!C43 -> 0 | G43: =January!G43 -> 1 | H43: 0 | I43: 0 | J43: =January!J43+H43 -> 0 | K43: =I43*G43+January!K43 -> 0
...

Sheet March
B1: Florida Department of Agriculture and Consumer Services
B2: Division of Agricultural Environmental Services
B4: MOSQUITO CONTROL MONTHLY ACTIVITY REPORT
B6: Rule 5E-13.022, F.A.C.
B7: Telephone: (850) 617-7911; FAX (850) 617-7939
A9: COUNTY OR DISTRICT: | B9: =February!B9 -> 0 | I9: MONTH: March | J9: FISCAL: | K9: =October!K9 -> 2018 - 2019
A10: CHEMICAL ADULTICIDE | C10: T | D10: U | E10: G | F10: A | G10: MIX RATIO | H10: ACRES | I10: TOTAL | J10: ACRES | K10: TOTAL
A11: * Show Chemical NAME | C11: H | D11: L | E11: R | F11: I | G11: OR | H11: TREATED | I11: OUTPUT | J11: TREATED | K11: OUTPUT
A12: * % of Active Ingredient (a.i.) | C12: R | D12: V | E12: N | F12: R | G12: FORMULA | H12: MONTHLY | I12: MONTHLY | J12: YEARLY | K12: YEARLY
A13: * EPA Number | C13: M | E13: D | G13: (see Calculation tab) | I13: Gallons | K13: Gallons
A14: =February!A14 -> 0 | C14: FALSE | G14: =February!G14 -> 1 | H14: 0 | I14: 0 | J14: =February!J14+H14 -> 0 | K14: =I14*G14+February!K14 -> 0
A15: =February!A15 -> 0 | G15: =February!G15 -> 1 | H15: 0 | I15: 0 | J15: =February!J15+H15 -> 0 | K15: =I15*G15+February!K15 -> 0
A16: =February!A16 -> 0 | G16: =February!G16 -> 1 | H16: 0 | I16: 0 | J16: =February!J16+H16 -> 0 | K16: =I16*G16+February!K16 -> 0
A17: =February!A17 -> 0 | G17: =February!G17 -> 1 | H17: 0 | I17: 0 | J17: =February!J17+H17 -> 0 | K17: =I17*G17+February!K17 -> 0
A18: =February!A18 -> 0 | G18: =February!G18 -> 1 | H18: 0 | I18: 0 | J18: =February!J18+H18 -> 0 | K18: =I18*G18+February!K18 -> 0
A19: =February!A19 -> 0 | G19: =February!G19 -> 1 | H19: 0 | I19: 0 | J19: =February!J19+H19 -> 0 | K19: =I19*G19+February!K19 -> 0
A20: =February!A20 -> 0 | G20: =February!G20 -> 1 | H20: 0 | I20: 0 | J20: =February!J20+H20 -> 0 | K20: =I20*G20+February!K20 -> 0
A21: =February!A21 -> 0 | C21: FALSE | G21: =February!G21 -> 1 | H21: 0 | I21: 0 | J21: =February!J21+H21 -> 0 | K21: =I21*G21+February!K21 -> 0
A22: =February!A22 -> 0 | G22: =February!G22 -> 1 | H22: 0 | I22: 0 | J22: =February!J22+H22 -> 0 | K22: =I22*G22+February!K22 -> 0
A23: =February!A23 -> 0 | G23: =February!G23 -> 1 | H23: 0 | I23: 0 | J23: =February!J23+H23 -> 0 | K23: =I23*G23+February!K23 -> 0
A24: =February!A24 -> 0 | E24: FALSE | G24: =February!G24 -> 1 | H24: 0 | I24: 0 | J24: =February!J24+H24 -> 0 | K24: =I24*G24+February!K24 -> 0
A25: =February!A25 -> 0 | G25: =February!G25 -> 1 | H25: 0 | I25: 0 | J25: =February!J25+H25 -> 0 | K25: =I25*G25+February!K25 -> 0
A26: =February!A26 -> 0 | G26: =February!G26 -> 1 | H26: 0 | I26: 0 | J26: =February!J26+H26 -> 0 | K26: =I26*G26+February!K26 -> 0
A27: =February!A27 -> 0 | G27: =February!G27 -> 1 | H27: 0 | I27: 0 | J27: =February!J27+H27 -> 0 | K27: =I27*G27+February!K27 -> 0
A28: =February!A28 -> 0 | G28: =February!G28 -> 1 | H28: 0 | I28: 0 | J28: =February!J28+H28 -> 0 | K28: =I28*G28+February!K28 -> 0
A29: =February!A29 -> 0 | G29: =February!G29 -> 1 | H29: 0 | I29: 0 | J29: =February!J29+H29 -> 0 | K29: =I29*G29+February!K29 -> 0
A30: =February!A30 -> 0 | G30: =February!G30 -> 1 | H30: 0 | I30: 0 | J30: =February!J30+H30 -> 0 | K30: =I30*G30+February!K30 -> 0
A31: =February!A31 -> 0 | G31: =February!G31 -> 1 | H31: 0 | I31: 0 | J31: =February!J31+H31 -> 0 | K31: =I31*G31+February!K31 -> 0
A32: =February!A32 -> 0 | G32: =February!G32 -> 1 | H32: 0 | I32: 0 | J32: =February!J32+H32 -> 0 | K32: =I32*G32+February!K32 -> 0
A33: =February!A33 -> 0 | G33: =February!G33 -> 1 | H33: 0 | I33: 0 | J33: =February!J33+H33 -> 0 | K33: =I33*G33+February!K33 -> 0
A34: =February!A34 -> 0 | G34: =February!G34 -> 1 | H34: 0 | I34: 0 | J34: =February!J34+H34 -> 0 | K34: =I34*G34+February!K34 -> 0
A35: =February!A35 -> 0 | G35: =February!G35 -> 1 | H35: 0 | I35: 0 | J35: =February!J35+H35 -> 0 | K35: =I35*G35+February!K35 -> 0
A36: =February!A36 -> 0 | G36: =February!G36 -> 1 | H36: 0 | I36: 0 | J36: =February!J36+H36 -> 0 | K36: =I36*G36+February!K36 -> 0
A37: CHEMICAL LARVICIDE | E37: G | F37: A | G37: MIX RATIO | H37: ACRES | I37: TOTAL | J37: ACRES | K37: TOTAL
A38: * Show Chemical NAME | E38: R | F38: I | G38: OR | H38: TREATED | I38: OUTPUT | J38: TREATED | K38: OUTPUT
A39: * % of Active Ingredient (a.i.) | E39: N | F39: R | G39: FORMULA PER | H39: MONTHLY | I39: MONTHLY | J39: YEARLY | K39: YEARLY
A40: * EPA Number | E40: D | G40: (see Calculation tab) | I40: Gal/lb/Units | K40: Gal/lb
A41: =February!A41 -> 0 | C41: =October!C41 -> 0 | G41: =February!G41 -> 1 | H41: 0 | I41: 0 | J41: =February!J41+H41 -> 0 | K41: =I41*G41+February!K41 -> 0
A42: =February!A42 -> 0 | C42: =October!C42 -> 0 | G42: =February!G42 -> 1 | H42: 0 | I42: 0 | J42: =February!J42+H42 -> 0 | K42: =I42*G42+February!K42 -> 0
A43: =February!A43 -> 0 | C43: =October!C43 -> 0 | G43: =February!G43 -> 1 | H43: 0 | I43: 0 | J43: =February!J43+H43 -> 0 | K43: =I43*G43+February!K43 -> 0
...

Sheet April
B1: Florida Department of Agriculture and Consumer Services
B2: Division of Agricultural Environmental Services
B4: MOSQUITO CONTROL MONTHLY ACTIVITY REPORT
B6: Rule 5E-13.022, F.A.C.
B7: Telephone: (850) 617-7911; FAX (850) 617-7939
A9: COUNTY OR DISTRICT: | B9: =March!B9 -> 0 | I9: MONTH: April | J9: FISCAL: | K9: =October!K9 -> 2018 - 2019
A10: CHEMICAL ADULTICIDE | C10: T | D10: U | E10: G | F10: A | G10: MIX RATIO | H10: ACRES | I10: TOTAL | J10: ACRES | K10: TOTAL
A11: * Show Chemical NAME | C11: H | D11: L | E11: R | F11: I | G11: OR | H11: TREATED | I11: OUTPUT | J11: TREATED | K11: OUTPUT
A12: * % of Active Ingredient (a.i.) | C12: R | D12: V | E12: N | F12: R | G12: FORMULA | H12: MONTHLY | I12: MONTHLY | J12: YEARLY | K12: YEARLY
A13: * EPA Number | C13: M | E13: D | G13: (see Calculation tab) | I13: Gallons | K13: Gallons
A14: =March!A14 -> 0 | C14: FALSE | G14: =March!G14 -> 1 | H14: 0 | I14: 0 | J14: =March!J14+H14 -> 0 | K14: =I14*G14+March!K14 -> 0
A15: =March!A15 -> 0 | G15: =March!G15 -> 1 | H15: 0 | I15: 0 | J15: =March!J15+H15 -> 0 | K15: =I15*G15+March!K15 -> 0
A16: =March!A16 -> 0 | G16: =March!G16 -> 1 | H16: 0 | I16: 0 | J16: =March!J16+H16 -> 0 | K16: =I16*G16+March!K16 -> 0
A17: =March!A17 -> 0 | G17: =March!G17 -> 1 | H17: 0 | I17: 0 | J17: =March!J17+H17 -> 0 | K17: =I17*G17+March!K17 -> 0
A18: =March!A18 -> 0 | G18: =March!G18 -> 1 | H18: 0 | I18: 0 | J18: =March!J18+H18 -> 0 | K18: =I18*G18+March!K18 -> 0
A19: =March!A19 -> 0 | G19: =March!G19 -> 1 | H19: 0 | I19: 0 | J19: =March!J19+H19 -> 0 | K19: =I19*G19+March!K19 -> 0
A20: =March!A20 -> 0 | G20: =March!G20 -> 1 | H20: 0 | I20: 0 | J20: =March!J20+H20 -> 0 | K20: =I20*G20+March!K20 -> 0
A21: =March!A21 -> 0 | C21: FALSE | G21: =March!G21 -> 1 | H21: 0 | I21: 0 | J21: =March!J21+H21 -> 0 | K21: =I21*G21+March!K21 -> 0
A22: =March!A22 -> 0 | G22: =March!G22 -> 1 | H22: 0 | I22: 0 | J22: =March!J22+H22 -> 0 | K22: =I22*G22+March!K22 -> 0
A23: =March!A23 -> 0 | G23: =March!G23 -> 1 | H23: 0 | I23: 0 | J23: =March!J23+H23 -> 0 | K23: =I23*G23+March!K23 -> 0
A24: =March!A24 -> 0 | E24: FALSE | G24: =March!G24 -> 1 | H24: 0 | I24: 0 | J24: =March!J24+H24 -> 0 | K24: =I24*G24+March!K24 -> 0
A25: =March!A25 -> 0 | G25: =March!G25 -> 1 | H25: 0 | I25: 0 | J25: =March!J25+H25 -> 0 | K25: =I25*G25+March!K25 -> 0
A26: =March!A26 -> 0 | G26: =March!G26 -> 1 | H26: 0 | I26: 0 | J26: =March!J26+H26 -> 0 | K26: =I26*G26+March!K26 -> 0
A27: =March!A27 -> 0 | G27: =March!G27 -> 1 | H27: 0 | I27: 0 | J27: =March!J27+H27 -> 0 | K27: =I27*G27+March!K27 -> 0
A28: =March!A28 -> 0 | G28: =March!G28 -> 1 | H28: 0 | I28: 0 | J28: =March!J28+H28 -> 0 | K28: =I28*G28+March!K28 -> 0
A29: =March!A29 -> 0 | G29: =March!G29 -> 1 | H29: 0 | I29: 0 | J29: =March!J29+H29 -> 0 | K29: =I29*G29+March!K29 -> 0
A30: =March!A30 -> 0 | G30: =March!G30 -> 1 | H30: 0 | I30: 0 | J30: =March!J30+H30 -> 0 | K30: =I30*G30+March!K30 -> 0
A31: =March!A31 -> 0 | G31: =March!G31 -> 1 | H31: 0 | I31: 0 | J31: =March!J31+H31 -> 0 | K31: =I31*G31+March!K31 -> 0
A32: =March!A32 -> 0 | G32: =March!G32 -> 1 | H32: 0 | I32: 0 | J32: =March!J32+H32 -> 0 | K32: =I32*G32+March!K32 -> 0
A33: =March!A33 -> 0 | G33: =March!G33 -> 1 | H33: 0 | I33: 0 | J33: =March!J33+H33 -> 0 | K33: =I33*G33+March!K33 -> 0
A34: =March!A34 -> 0 | G34: =March!G34 -> 1 | H34: 0 | I34: 0 | J34: =March!J34+H34 -> 0 | K34: =I34*G34+March!K34 -> 0
A35: =March!A35 -> 0 | G35: =March!G35 -> 1 | H35: 0 | I35: 0 | J35: =March!J35+H35 -> 0 | K35: =I35*G35+March!K35 -> 0
A36: =March!A36 -> 0 | G36: =March!G36 -> 1 | H36: 0 | I36: 0 | J36: =March!J36+H36 -> 0 | K36: =I36*G36+March!K36 -> 0
A37: CHEMICAL LARVICIDE | E37: G | F37: A | G37: MIX RATIO | H37: ACRES | I37: TOTAL | J37: ACRES | K37: TOTAL
A38: * Show Chemical NAME | E38: R | F38: I | G38: OR | H38: TREATED | I38: OUTPUT | J38: TREATED | K38: OUTPUT
A39: * % of Active Ingredient (a.i.) | E39: N | F39: R | G39: FORMULA PER | H39: MONTHLY | I39: MONTHLY | J39: YEARLY | K39: YEARLY
A40: * EPA Number | E40: D | G40: (see Calculation tab) | I40: Gal/lb/Units | K40: Gal/lb
A41: =March!A41 -> 0 | C41: =October!C41 -> 0 | G41: =March!G41 -> 1 | H41: 0 | I41: 0 | J41: =March!J41+H41 -> 0 | K41: =I41*G41+March!K41 -> 0
A42: =March!A42 -> 0 | C42: =October!C42 -> 0 | G42: =March!G42 -> 1 | H42: 0 | I42: 0 | J42: =March!J42+H42 -> 0 | K42: =I42*G42+March!K42 -> 0
A43: =March!A43 -> 0 | C43: =October!C43 -> 0 | G43: =March!G43 -> 1 | H43: 0 | I43: 0 | J43: =March!J43+H43 -> 0 | K43: =I43*G43+March!K43 -> 0
...

Sheet May
B1: Florida Department of Agriculture and Consumer Services
B2: Division of Agricultural Environmental Services
B4: MOSQUITO CONTROL MONTHLY ACTIVITY REPORT
B6: Rule 5E-13.022, F.A.C.
B7: Telephone: (850) 617-7911; FAX (850) 617-7939
A9: COUNTY OR DISTRICT: | B9: =April!B9 -> 0 | I9: MONTH: May | J9: FISCAL: | K9: =October!K9 -> 2018 - 2019
A10: CHEMICAL ADULTICIDE | C10: T | D10: U | E10: G | F10: A | G10: MIX RATIO | H10: ACRES | I10: TOTAL | J10: ACRES | K10: TOTAL
A11: * Show Chemical NAME | C11: H | D11: L | E11: R | F11: I | G11: OR | H11: TREATED | I11: OUTPUT | J11: TREATED | K11: OUTPUT
A12: * % of Active Ingredient (a.i.) | C12: R | D12: V | E12: N | F12: R | G12: FORMULA | H12: MONTHLY | I12: MONTHLY | J12: YEARLY | K12: YEARLY
A13: * EPA Number | C13: M | E13: D | G13: (see Calculation tab) | I13: Gallons | K13: Gallons
A14: =April!A14 -> 0 | C14: FALSE | G14: =April!G14 -> 1 | H14: 0 | I14: 0 | J14: =April!J14+H14 -> 0 | K14: =I14*G14+April!K14 -> 0
A15: =April!A15 -> 0 | G15: =April!G15 -> 1 | H15: 0 | I15: 0 | J15: =April!J15+H15 -> 0 | K15: =I15*G15+April!K15 -> 0
A16: =April!A16 -> 0 | G16: =April!G16 -> 1 | H16: 0 | I16: 0 | J16: =April!J16+H16 -> 0 | K16: =I16*G16+April!K16 -> 0
A17: =April!A17 -> 0 | G17: =April!G17 -> 1 | H17: 0 | I17: 0 | J17: =April!J17+H17 -> 0 | K17: =I17*G17+April!K17 -> 0
A18: =April!A18 -> 0 | G18: =April!G18 -> 1 | H18: 0 | I18: 0 | J18: =April!J18+H18 -> 0 | K18: =I18*G18+April!K18 -> 0
A19: =April!A19 -> 0 | G19: =April!G19 -> 1 | H19: 0 | I19: 0 | J19: =April!J19+H19 -> 0 | K19: =I19*G19+April!K19 -> 0
A20: =April!A20 -> 0 | G20: =April!G20 -> 1 | H20: 0 | I20: 0 | J20: =April!J20+H20 -> 0 | K20: =I20*G20+April!K20 -> 0
A21: =April!A21 -> 0 | C21: FALSE | G21: =April!G21 -> 1 | H21: 0 | I21: 0 | J21: =April!J21+H21 -> 0 | K21: =I21*G21+April!K21 -> 0
A22: =April!A22 -> 0 | G22: =April!G22 -> 1 | H22: 0 | I22: 0 | J22: =April!J22+H22 -> 0 | K22: =I22*G22+April!K22 -> 0
A23: =April!A23 -> 0 | G23: =April!G23 -> 1 | H23: 0 | I23: 0 | J23: =April!J23+H23 -> 0 | K23: =I23*G23+April!K23 -> 0
A24: =April!A24 -> 0 | E24: FALSE | G24: =April!G24 -> 1 | H24: 0 | I24: 0 | J24: =April!J24+H24 -> 0 | K24: =I24*G24+April!K24 -> 0
A25: =April!A25 -> 0 | G25: =April!G25 -> 1 | H25: 0 | I25: 0 | J25: =April!J25+H25 -> 0 | K25: =I25*G25+April!K25 -> 0
A26: =April!A26 -> 0 | G26: =April!G26 -> 1 | H26: 0 | I26: 0 | J26: =April!J26+H26 -> 0 | K26: =I26*G26+April!K26 -> 0
A27: =April!A27 -> 0 | G27: =April!G27 -> 1 | H27: 0 | I27: 0 | J27: =April!J27+H27 -> 0 | K27: =I27*G27+April!K27 -> 0
A28: =April!A28 -> 0 | G28: =April!G28 -> 1 | H28: 0 | I28: 0 | J28: =April!J28+H28 -> 0 | K28: =I28*G28+April!K28 -> 0
A29: =April!A29 -> 0 | G29: =April!G29 -> 1 | H29: 0 | I29: 0 | J29: =April!J29+H29 -> 0 | K29: =I29*G29+April!K29 -> 0
A30: =April!A30 -> 0 | G30: =April!G30 -> 1 | H30: 0 | I30: 0 | J30: =April!J30+H30 -> 0 | K30: =I30*G30+April!K30 -> 0
A31: =April!A31 -> 0 | G31: =April!G31 -> 1 | H31: 0 | I31: 0 | J31: =April!J31+H31 -> 0 | K31: =I31*G31+April!K31 -> 0
A32: =April!A32 -> 0 | G32: =April!G32 -> 1 | H32: 0 | I32: 0 | J32: =April!J32+H32 -> 0 | K32: =I32*G32+April!K32 -> 0
A33: =April!A33 -> 0 | G33: =April!G33 -> 1 | H33: 0 | I33: 0 | J33: =April!J33+H33 -> 0 | K33: =I33*G33+April!K33 -> 0
A34: =April!A34 -> 0 | G34: =April!G34 -> 1 | H34: 0 | I34: 0 | J34: =April!J34+H34 -> 0 | K34: =I34*G34+April!K34 -> 0
A35: =April!A35 -> 0 | G35: =April!G35 -> 1 | H35: 0 | I35: 0 | J35: =April!J35+H35 -> 0 | K35: =I35*G35+April!K35 -> 0
A36: =April!A36 -> 0 | G36: =April!G36 -> 1 | H36: 0 | I36: 0 | J36: =April!J36+H36 -> 0 | K36: =I36*G36+April!K36 -> 0
A37: CHEMICAL LARVICIDE | E37: G | F37: A | G37: MIX RATIO | H37: ACRES | I37: TOTAL | J37: ACRES | K37: TOTAL
A38: * Show Chemical NAME | E38: R | F38: I | G38: OR | H38: TREATED | I38: OUTPUT | J38: TREATED | K38: OUTPUT
A39: * % of Active Ingredient (a.i.) | E39: N | F39: R | G39: FORMULA PER | H39: MONTHLY | I39: MONTHLY | J39: YEARLY | K39: YEARLY
A40: * EPA Number | E40: D | G40: (see Calculation tab) | I40: Gal/lb/Units | K40: Gal/lb
A41: =April!A41 -> 0 | C41: =October!C41 -> 0 | G41: =April!G41 -> 1 | H41: 0 | I41: 0 | J41: =April!J41+H41 -> 0 | K41: =I41*G41+April!K41 -> 0
A42: =April!A42 -> 0 | C42: =October!C42 -> 0 | G42: =April!G42 -> 1 | H42: 0 | I42: 0 | J42: =April!J42+H42 -> 0 | K42: =I42*G42+April!K42 -> 0
A43: =April!A43 -> 0 | C43: =October!C43 -> 0 | G43: =April!G43 -> 1 | H43: 0 | I43: 0 | J43: =April!J43+H43 -> 0 | K43: =I43*G43+April!K43 -> 0
...

Sheet June
B1: Florida Department of Agriculture and Consumer Services
B2: Division of Agricultural Environmental Services
B4: MOSQUITO CONTROL MONTHLY ACTIVITY REPORT
B6: Rule 5E-13.022, F.A.C.
B7: Telephone: (850) 617-7911; FAX (850) 617-7939
A9: COUNTY OR DISTRICT: | B9: =May!B9 -> 0 | I9: MONTH: June | J9: FISCAL: | K9: =October!K9 -> 2018 - 2019
A10: CHEMICAL ADULTICIDE | C10: T | D10: U | E10: G | F10: A | G10: MIX RATIO | H10: ACRES | I10: TOTAL | J10: ACRES | K10: TOTAL
A11: * Show Chemical NAME | C11: H | D11: L | E11: R | F11: I | G11: OR | H11: TREATED | I11: OUTPUT | J11: TREATED | K11: OUTPUT
A12: * % of Active Ingredient (a.i.) | C12: R | D12: V | E12: N | F12: R | G12: FORMULA | H12: MONTHLY | I12: MONTHLY | J12: YEARLY | K12: YEARLY
A13: * EPA Number | C13: M | E13: D | G13: (see Calculation tab) | I13: Gallons | K13: Gallons
A14: =May!A14 -> 0 | C14: FALSE | G14: =May!G14 -> 1 | H14: 0 | I14: 0 | J14: =May!J14+H14 -> 0 | K14: =I14*G14+May!K14 -> 0
A15: =May!A15 -> 0 | G15: =May!G15 -> 1 | H15: 0 | I15: 0 | J15: =May!J15+H15 -> 0 | K15: =I15*G15+May!K15 -> 0
A16: =May!A16 -> 0 | G16: =May!G16 -> 1 | H16: 0 | I16: 0 | J16: =May!J16+H16 -> 0 | K16: =I16*G16+May!K16 -> 0
A17: =May!A17 -> 0 | G17: =May!G17 -> 1 | H17: 0 | I17: 0 | J17: =May!J17+H17 -> 0 | K17: =I17*G17+May!K17 -> 0
A18: =May!A18 -> 0 | G18: =May!G18 -> 1 | H18: 0 | I18: 0 | J18: =May!J18+H18 -> 0 | K18: =I18*G18+May!K18 -> 0
A19: =May!A19 -> 0 | G19: =May!G19 -> 1 | H19: 0 | I19: 0 | J19: =May!J19+H19 -> 0 | K19: =I19*G19+May!K19 -> 0
A20: =May!A20 -> 0 | G20: =May!G20 -> 1 | H20: 0 | I20: 0 | J20: =May!J20+H20 -> 0 | K20: =I20*G20+May!K20 -> 0
A21: =May!A21 -> 0 | C21: FALSE | G21: =May!G21 -> 1 | H21: 0 | I21: 0 | J21: =May!J21+H21 -> 0 | K21: =I21*G21+May!K21 -> 0
A22: =May!A22 -> 0 | G22: =May!G22 -> 1 | H22: 0 | I22: 0 | J22: =May!J22+H22 -> 0 | K22: =I22*G22+May!K22 -> 0
A23: =May!A23 -> 0 | G23: =May!G23 -> 1 | H23: 0 | I23: 0 | J23: =May!J23+H23 -> 0 | K23: =I23*G23+May!K23 -> 0
A24: =May!A24 -> 0 | E24: FALSE | G24: =May!G24 -> 1 | H24: 0 | I24: 0 | J24: =May!J24+H24 -> 0 | K24: =I24*G24+May!K24 -> 0
A25: =May!A25 -> 0 | G25: =May!G25 -> 1 | H25: 0 | I25: 0 | J25: =May!J25+H25 -> 0 | K25: =I25*G25+May!K25 -> 0
A26: =May!A26 -> 0 | G26: =May!G26 -> 1 | H26: 0 | I26: 0 | J26: =May!J26+H26 -> 0 | K26: =I26*G26+May!K26 -> 0
A27: =May!A27 -> 0 | G27: =May!G27 -> 1 | H27: 0 | I27: 0 | J27: =May!J27+H27 -> 0 | K27: =I27*G27+May!K27 -> 0
A28: =May!A28 -> 0 | G28: =May!G28 -> 1 | H28: 0 | I28: 0 | J28: =May!J28+H28 -> 0 | K28: =I28*G28+May!K28 -> 0
A29: =May!A29 -> 0 | G29: =May!G29 -> 1 | H29: 0 | I29: 0 | J29: =May!J29+H29 -> 0 | K29: =I29*G29+May!K29 -> 0
A30: =May!A30 -> 0 | G30: =May!G30 -> 1 | H30: 0 | I30: 0 | J30: =May!J30+H30 -> 0 | K30: =I30*G30+May!K30 -> 0
A31: =May!A31 -> 0 | G31: =May!G31 -> 1 | H31: 0 | I31: 0 | J31: =May!J31+H31 -> 0 | K31: =I31*G31+May!K31 -> 0
A32: =May!A32 -> 0 | G32: =May!G32 -> 1 | H32: 0 | I32: 0 | J32: =May!J32+H32 -> 0 | K32: =I32*G32+May!K32 -> 0
A33: =May!A33 -> 0 | G33: =May!G33 -> 1 | H33: 0 | I33: 0 | J33: =May!J33+H33 -> 0 | K33: =I33*G33+May!K33 -> 0
A34: =May!A34 -> 0 | G34: =May!G34 -> 1 | H34: 0 | I34: 0 | J34: =May!J34+H34 -> 0 | K34: =I34*G34+May!K34 -> 0
A35: =May!A35 -> 0 | G35: =May!G35 -> 1 | H35: 0 | I35: 0 | J35: =May!J35+H35 -> 0 | K35: =I35*G35+May!K35 -> 0
A36: =May!A36 -> 0 | G36: =May!G36 -> 1 | H36: 0 | I36: 0 | J36: =May!J36+H36 -> 0 | K36: =I36*G36+May!K36 -> 0
A37: CHEMICAL LARVICIDE | E37: G | F37: A | G37: MIX RATIO | H37: ACRES | I37: TOTAL | J37: ACRES | K37: TOTAL
A38: * Show Chemical NAME | E38: R | F38: I | G38: OR | H38: TREATED | I38: OUTPUT | J38: TREATED | K38: OUTPUT
A39: * % of Active Ingredient (a.i.) | E39: N | F39: R | G39: FORMULA PER | H39: MONTHLY | I39: MONTHLY | J39: YEARLY | K39: YEARLY
A40: * EPA Number | E40: D | G40: (see Calculation tab) | I40: Gal/lb/Units | K40: Gal/lb
A41: =May!A41 -> 0 | C41: =October!C41 -> 0 | G41: =May!G41 -> 1 | H41: 0 | I41: 0 | J41: =May!J41+H41 -> 0 | K41: =I41*G41+May!K41 -> 0
A42: =May!A42 -> 0 | C42: =October!C42 -> 0 | G42: =May!G42 -> 1 | H42: 0 | I42: 0 | J42: =May!J42+H42 -> 0 | K42: =I42*G42+May!K42 -> 0
A43: =May!A43 -> 0 | C43: =October!C43 -> 0 | G43: =May!G43 -> 1 | H43: 0 | I43: 0 | J43: =May!J43+H43 -> 0 | K43: =I43*G43+May!K43 -> 0
...

Sheet July
B1: Florida Department of Agriculture and Consumer Services
B2: Division of Agricultural Environmental Services
B4: MOSQUITO CONTROL MONTHLY ACTIVITY REPORT
B6: Rule 5E-13.022, F.A.C.
B7: Telephone: (850) 617-7911; FAX (850) 617-7939
A9: COUNTY OR DISTRICT: | B9: =June!B9 -> 0 | I9: MONTH: July | J9: FISCAL: | K9: =October!K9 -> 2018 - 2019
A10: CHEMICAL ADULTICIDE | C10: T | D10: U | E10: G | F10: A | G10: MIX RATIO | H10: ACRES | I10: TOTAL | J10: ACRES | K10: TOTAL
A11: * Show Chemical NAME | C11: H | D11: L | E11: R | F11: I | G11: OR | H11: TREATED | I11: OUTPUT | J11: TREATED | K11: OUTPUT
A12: * % of Active Ingredient (a.i.) | C12: R | D12: V | E12: N | F12: R | G12: FORMULA | H12: MONTHLY | I12: MONTHLY | J12: YEARLY | K12: YEARLY
A13: * EPA Number | C13: M | E13: D | G13: (see Calculation tab) | I13: Gallons | K13: Gallons
A14: =June!A14 -> 0 | C14: FALSE | G14: =June!G14 -> 1 | H14: 0 | I14: 0 | J14: =June!J14+H14 -> 0 | K14: =I14*G14+June!K14 -> 0
A15: =June!A15 -> 0 | G15: =June!G15 -> 1 | H15: 0 | I15: 0 | J15: =June!J15+H15 -> 0 | K15: =I15*G15+June!K15 -> 0
A16: =June!A16 -> 0 | G16: =June!G16 -> 1 | H16: 0 | I16: 0 | J16: =June!J16+H16 -> 0 | K16: =I16*G16+June!K16 -> 0
A17: =June!A17 -> 0 | G17: =June!G17 -> 1 | H17: 0 | I17: 0 | J17: =June!J17+H17 -> 0 | K17: =I17*G17+June!K17 -> 0
A18: =June!A18 -> 0 | G18: =June!G18 -> 1 | H18: 0 | I18: 0 | J18: =June!J18+H18 -> 0 | K18: =I18*G18+June!K18 -> 0
A19: =June!A19 -> 0 | G19: =June!G19 -> 1 | H19: 0 | I19: 0 | J19: =June!J19+H19 -> 0 | K19: =I19*G19+June!K19 -> 0
A20: =June!A20 -> 0 | G20: =June!G20 -> 1 | H20: 0 | I20: 0 | J20: =June!J20+H20 -> 0 | K20: =I20*G20+June!K20 -> 0
A21: =June!A21 -> 0 | C21: FALSE | G21: =June!G21 -> 1 | H21: 0 | I21: 0 | J21: =June!J21+H21 -> 0 | K21: =I21*G21+June!K21 -> 0
A22: =June!A22 -> 0 | G22: =June!G22 -> 1 | H22: 0 | I22: 0 | J22: =June!J22+H22 -> 0 | K22: =I22*G22+June!K22 -> 0
A23: =June!A23 -> 0 | G23: =June!G23 -> 1 | H23: 0 | I23: 0 | J23: =June!J23+H23 -> 0 | K23: =I23*G23+June!K23 -> 0
A24: =June!A24 -> 0 | E24: FALSE | G24: =June!G24 -> 1 | H24: 0 | I24: 0 | J24: =June!J24+H24 -> 0 | K24: =I24*G24+June!K24 -> 0
A25: =June!A25 -> 0 | G25: =June!G25 -> 1 | H25: 0 | I25: 0 | J25: =June!J25+H25 -> 0 | K25: =I25*G25+June!K25 -> 0
A26: =June!A26 -> 0 | G26: =June!G26 -> 1 | H26: 0 | I26: 0 | J26: =June!J26+H26 -> 0 | K26: =I26*G26+June!K26 -> 0
A27: =June!A27 -> 0 | G27: =June!G27 -> 1 | H27: 0 | I27: 0 | J27: =June!J27+H27 -> 0 | K27: =I27*G27+June!K27 -> 0
A28: =June!A28 -> 0 | G28: =June!G28 -> 1 | H28: 0 | I28: 0 | J28: =June!J28+H28 -> 0 | K28: =I28*G28+June!K28 -> 0
A29: =June!A29 -> 0 | G29: =June!G29 -> 1 | H29: 0 | I29: 0 | J29: =June!J29+H29 -> 0 | K29: =I29*G29+June!K29 -> 0
A30: =June!A30 -> 0 | G30: =June!G30 -> 1 | H30: 0 | I30: 0 | J30: =June!J30+H30 -> 0 | K30: =I30*G30+June!K30 -> 0
A31: =June!A31 -> 0 | G31: =June!G31 -> 1 | H31: 0 | I31: 0 | J31: =June!J31+H31 -> 0 | K31: =I31*G31+June!K31 -> 0
A32: =June!A32 -> 0 | G32: =June!G32 -> 1 | H32: 0 | I32: 0 | J32: =June!J32+H32 -> 0 | K32: =I32*G32+June!K32 -> 0
A33: =June!A33 -> 0 | G33: =June!G33 -> 1 | H33: 0 | I33: 0 | J33: =June!J33+H33 -> 0 | K33: =I33*G33+June!K33 -> 0
A34: =June!A34 -> 0 | G34: =June!G34 -> 1 | H34: 0 | I34: 0 | J34: =June!J34+H34 -> 0 | K34: =I34*G34+June!K34 -> 0
A35: =June!A35 -> 0 | G35: =June!G35 -> 1 | H35: 0 | I35: 0 | J35: =June!J35+H35 -> 0 | K35: =I35*G35+June!K35 -> 0
A36: =June!A36 -> 0 | G36: =June!G36 -> 1 | H36: 0 | I36: 0 | J36: =June!J36+H36 -> 0 | K36: =I36*G36+June!K36 -> 0
A37: CHEMICAL LARVICIDE | E37: G | F37: A | G37: MIX RATIO | H37: ACRES | I37: TOTAL | J37: ACRES | K37: TOTAL
A38: * Show Chemical NAME | E38: R | F38: I | G38: OR | H38: TREATED | I38: OUTPUT | J38: TREATED | K38: OUTPUT
A39: * % of Active Ingredient (a.i.) | E39: N | F39: R | G39: FORMULA PER | H39: MONTHLY | I39: MONTHLY | J39: YEARLY | K39: YEARLY
A40: * EPA Number | E40: D | G40: (see Calculation tab) | I40: Gal/lb/Units | K40: Gal/lb
A41: =June!A41 -> 0 | C41: =October!C41 -> 0 | G41: =June!G41 -> 1 | H41: 0 | I41: 0 | J41: =June!J41+H41 -> 0 | K41: =I41*G41+June!K41 -> 0
A42: =June!A42 -> 0 | C42: =October!C42 -> 0 | G42: =June!G42 -> 1 | H42: 0 | I42: 0 | J42: =June!J42+H42 -> 0 | K42: =I42*G42+June!K42 -> 0
A43: =June!A43 -> 0 | C43: =October!C43 -> 0 | G43: =June!G43 -> 1 | H43: 0 | I43: 0 | J43: =June!J43+H43 -> 0 | K43: =I43*G43+June!K43 -> 0
...

Sheet August
B1: Florida Department of Agriculture and Consumer Services
B2: Division of Agricultural Environmental Services
B4: MOSQUITO CONTROL MONTHLY ACTIVITY REPORT
B6: Rule 5E-13.022, F.A.C.
B7: Telephone: (850) 617-7911; FAX (850) 617-7939
A9: COUNTY OR DISTRICT: | B9: =July!B9 -> 0 | I9: MONTH: August | J9: FISCAL: | K9: =October!K9 -> 2018 - 2019
A10: CHEMICAL ADULTICIDE | C10: T | D10: U | E10: G | F10: A | G10: MIX RATIO | H10: ACRES | I10: TOTAL | J10: ACRES | K10: TOTAL
A11: * Show Chemical NAME | C11: H | D11: L | E11: R | F11: I | G11: OR | H11: TREATED | I11: OUTPUT | J11: TREATED | K11: OUTPUT
A12: * % of Active Ingredient (a.i.) | C12: R | D12: V | E12: N | F12: R | G12: FORMULA | H12: MONTHLY | I12: MONTHLY | J12: YEARLY | K12: YEARLY
A13: * EPA Number | C13: M | E13: D | G13: (see Calculation tab) | I13: Gallons | K13: Gallons
A14: =July!A14 -> 0 | C14: FALSE | G14: =July!G14 -> 1 | H14: 0 | I14: 0 | J14: =July!J14+H14 -> 0 | K14: =I14*G14+July!K14 -> 0
A15: =July!A15 -> 0 | G15: =July!G15 -> 1 | H15: 0 | I15: 0 | J15: =July!J15+H15 -> 0 | K15: =I15*G15+July!K15 -> 0
A16: =July!A16 -> 0 | G16: =July!G16 -> 1 | H16: 0 | I16: 0 | J16: =July!J16+H16 -> 0 | K16: =I16*G16+July!K16 -> 0
A17: =July!A17 -> 0 | G17: =July!G17 -> 1 | H17: 0 | I17: 0 | J17: =July!J17+H17 -> 0 | K17: =I17*G17+July!K17 -> 0
A18: =July!A18 -> 0 | G18: =July!G18 -> 1 | H18: 0 | I18: 0 | J18: =July!J18+H18 -> 0 | K18: =I18*G18+July!K18 -> 0
A19: =July!A19 -> 0 | G19: =July!G19 -> 1 | H19: 0 | I19: 0 | J19: =July!J19+H19 -> 0 | K19: =I19*G19+July!K19 -> 0
A20: =July!A20 -> 0 | G20: =July!G20 -> 1 | H20: 0 | I20: 0 | J20: =July!J20+H20 -> 0 | K20: =I20*G20+July!K20 -> 0
A21: =July!A21 -> 0 | C21: FALSE | G21: =July!G21 -> 1 | H21: 0 | I21: 0 | J21: =July!J21+H21 -> 0 | K21: =I21*G21+July!K21 -> 0
A22: =July!A22 -> 0 | G22: =July!G22 -> 1 | H22: 0 | I22: 0 | J22: =July!J22+H22 -> 0 | K22: =I22*G22+July!K22 -> 0
A23: =July!A23 -> 0 | G23: =July!G23 -> 1 | H23: 0 | I23: 0 | J23: =July!J23+H23 -> 0 | K23: =I23*G23+July!K23 -> 0
A24: =July!A24 -> 0 | E24: FALSE | G24: =July!G24 -> 1 | H24: 0 | I24: 0 | J24: =July!J24+H24 -> 0 | K24: =I24*G24+July!K24 -> 0
A25: =July!A25 -> 0 | G25: =July!G25 -> 1 | H25: 0 | I25: 0 | J25: =July!J25+H25 -> 0 | K25: =I25*G25+July!K25 -> 0
A26: =July!A26 -> 0 | G26: =July!G26 -> 1 | H26: 0 | I26: 0 | J26: =July!J26+H26 -> 0 | K26: =I26*G26+July!K26 -> 0
A27: =July!A27 -> 0 | G27: =July!G27 -> 1 | H27: 0 | I27: 0 | J27: =July!J27+H27 -> 0 | K27: =I27*G27+July!K27 -> 0
A28: =July!A28 -> 0 | G28: =July!G28 -> 1 | H28: 0 | I28: 0 | J28: =July!J28+H28 -> 0 | K28: =I28*G28+July!K28 -> 0
A29: =July!A29 -> 0 | G29: =July!G29 -> 1 | H29: 0 | I29: 0 | J29: =July!J29+H29 -> 0 | K29: =I29*G29+July!K29 -> 0
A30: =July!A30 -> 0 | G30: =July!G30 -> 1 | H30: 0 | I30: 0 | J30: =July!J30+H30 -> 0 | K30: =I30*G30+July!K30 -> 0
A31: =July!A31 -> 0 | G31: =July!G31 -> 1 | H31: 0 | I31: 0 | J31: =July!J31+H31 -> 0 | K31: =I31*G31+July!K31 -> 0
A32: =July!A32 -> 0 | G32: =July!G32 -> 1 | H32: 0 | I32: 0 | J32: =July!J32+H32 -> 0 | K32: =I32*G32+July!K32 -> 0
A33: =July!A33 -> 0 | G33: =July!G33 -> 1 | H33: 0 | I33: 0 | J33: =July!J33+H33 -> 0 | K33: =I33*G33+July!K33 -> 0
A34: =July!A34 -> 0 | G34: =July!G34 -> 1 | H34: 0 | I34: 0 | J34: =July!J34+H34 -> 0 | K34: =I34*G34+July!K34 -> 0
A35: =July!A35 -> 0 | G35: =July!G35 -> 1 | H35: 0 | I35: 0 | J35: =July!J35+H35 -> 0 | K35: =I35*G35+July!K35 -> 0
A36: =July!A36 -> 0 | G36: =July!G36 -> 1 | H36: 0 | I36: 0 | J36: =July!J36+H36 -> 0 | K36: =I36*G36+July!K36 -> 0
A37: CHEMICAL LARVICIDE | E37: G | F37: A | G37: MIX RATIO | H37: ACRES | I37: TOTAL | J37: ACRES | K37: TOTAL
A38: * Show Chemical NAME | E38: R | F38: I | G38: OR | H38: TREATED | I38: OUTPUT | J38: TREATED | K38: OUTPUT
A39: * % of Active Ingredient (a.i.) | E39: N | F39: R | G39: FORMULA PER | H39: MONTHLY | I39: MONTHLY | J39: YEARLY | K39: YEARLY
A40: * EPA Number | E40: D | G40: (see Calculation tab) | I40: Gal/lb/Units | K40: Gal/lb
A41: =July!A41 -> 0 | C41: =October!C41 -> 0 | G41: =July!G41 -> 1 | H41: 0 | I41: 0 | J41: =July!J41+H41 -> 0 | K41: =I41*G41+July!K41 -> 0
A42: =July!A42 -> 0 | C42: =October!C42 -> 0 | G42: =July!G42 -> 1 | H42: 0 | I42: 0 | J42: =July!J42+H42 -> 0 | K42: =I42*G42+July!K42 -> 0
A43: =July!A43 -> 0 | C43: =October!C43 -> 0 | G43: =July!G43 -> 1 | H43: 0 | I43: 0 | J43: =July!J43+H43 -> 0 | K43: =I43*G43+July!K43 -> 0
...

Sheet September
B1: Florida Department of Agriculture and Consumer Services
B2: Division of Agricultural Environmental Services
B4: MOSQUITO CONTROL MONTHLY ACTIVITY REPORT
B6: Rule 5E-13.022, F.A.C.
B7: Telephone: (850) 617-7911; FAX (850) 617-7939
A9: COUNTY OR DISTRICT: | B9: =August!B9 -> 0 | I9: MONTH: September | J9: FISCAL: | K9: =October!K9 -> 2018 - 2019
A10: CHEMICAL ADULTICIDE | C10: T | D10: U | E10: G | F10: A | G10: MIX RATIO | H10: ACRES | I10: TOTAL | J10: ACRES | K10: TOTAL
A11: * Show Chemical NAME | C11: H | D11: L | E11: R | F11: I | G11: OR | H11: TREATED | I11: OUTPUT | J11: TREATED | K11: OUTPUT
A12: * % of Active Ingredient (a.i.) | C12: R | D12: V | E12: N | F12: R | G12: FORMULA | H12: MONTHLY | I12: MONTHLY | J12: YEARLY | K12: YEARLY
A13: * EPA Number | C13: M | E13: D | G13: (see Calculation tab) | I13: Gallons | K13: Gallons
A14: =August!A14 -> 0 | C14: FALSE | G14: =August!G14 -> 1 | H14: 0 | I14: 0 | J14: =August!J14+H14 -> 0 | K14: =I14*G14+August!K14 -> 0
A15: =August!A15 -> 0 | G15: =August!G15 -> 1 | H15: 0 | I15: 0 | J15: =August!J15+H15 -> 0 | K15: =I15*G15+August!K15 -> 0
A16: =August!A16 -> 0 | G16: =August!G16 -> 1 | H16: 0 | I16: 0 | J16: =August!J16+H16 -> 0 | K16: =I16*G16+August!K16 -> 0
A17: =August!A17 -> 0 | G17: =August!G17 -> 1 | H17: 0 | I17: 0 | J17: =August!J17+H17 -> 0 | K17: =I17*G17+August!K17 -> 0
A18: =August!A18 -> 0 | G18: =August!G18 -> 1 | H18: 0 | I18: 0 | J18: =August!J18+H18 -> 0 | K18: =I18*G18+August!K18 -> 0
A19: =August!A19 -> 0 | G19: =August!G19 -> 1 | H19: 0 | I19: 0 | J19: =August!J19+H19 -> 0 | K19: =I19*G19+August!K19 -> 0
A20: =August!A20 -> 0 | G20: =August!G20 -> 1 | H20: 0 | I20: 0 | J20: =August!J20+H20 -> 0 | K20: =I20*G20+August!K20 -> 0
A21: =August!A21 -> 0 | C21: FALSE | G21: =August!G21 -> 1 | H21: 0 | I21: 0 | J21: =August!J21+H21 -> 0 | K21: =I21*G21+August!K21 -> 0
A22: =August!A22 -> 0 | G22: =August!G22 -> 1 | H22: 0 | I22: 0 | J22: =August!J22+H22 -> 0 | K22: =I22*G22+August!K22 -> 0
A23: =August!A23 -> 0 | G23: =August!G23 -> 1 | H23: 0 | I23: 0 | J23: =August!J23+H23 -> 0 | K23: =I23*G23+August!K23 -> 0
A24: =August!A24 -> 0 | E24: FALSE | G24: =August!G24 -> 1 | H24: 0 | I24: 0 | J24: =August!J24+H24 -> 0 | K24: =I24*G24+August!K24 -> 0
A25: =August!A25 -> 0 | G25: =August!G25 -> 1 | H25: 0 | I25: 0 | J25: =August!J25+H25 -> 0 | K25: =I25*G25+August!K25 -> 0
A26: =August!A26 -> 0 | G26: =August!G26 -> 1 | H26: 0 | I26: 0 | J26: =August!J26+H26 -> 0 | K26: =I26*G26+August!K26 -> 0
A27: =August!A27 -> 0 | G27: =August!G27 -> 1 | H27: 0 | I27: 0 | J27: =August!J27+H27 -> 0 | K27: =I27*G27+August!K27 -> 0
A28: =August!A28 -> 0 | G28: =August!G28 -> 1 | H28: 0 | I28: 0 | J28: =August!J28+H28 -> 0 | K28: =I28*G28+August!K28 -> 0
A29: =August!A29 -> 0 | G29: =August!G29 -> 1 | H29: 0 | I29: 0 | J29: =August!J29+H29 -> 0 | K29: =I29*G29+August!K29 -> 0
A30: =August!A30 -> 0 | G30: =August!G30 -> 1 | H30: 0 | I30: 0 | J30: =August!J30+H30 -> 0 | K30: =I30*G30+August!K30 -> 0
A31: =August!A31 -> 0 | G31: =August!G31 -> 1 | H31: 0 | I31: 0 | J31: =August!J31+H31 -> 0 | K31: =I31*G31+August!K31 -> 0
A32: =August!A32 -> 0 | G32: =August!G32 -> 1 | H32: 0 | I32: 0 | J32: =August!J32+H32 -> 0 | K32: =I32*G32+August!K32 -> 0
A33: =August!A33 -> 0 | G33: =August!G33 -> 1 | H33: 0 | I33: 0 | J33: =August!J33+H33 -> 0 | K33: =I33*G33+August!K33 -> 0
A34: =August!A34 -> 0 | G34: =August!G34 -> 1 | H34: 0 | I34: 0 | J34: =August!J34+H34 -> 0 | K34: =I34*G34+August!K34 -> 0
A35: =August!A35 -> 0 | G35: =August!G35 -> 1 | H35: 0 | I35: 0 | J35: =August!J35+H35 -> 0 | K35: =I35*G35+August!K35 -> 0
A36: =August!A36 -> 0 | G36: =August!G36 -> 1 | H36: 0 | I36: 0 | J36: =August!J36+H36 -> 0 | K36: =I36*G36+August!K36 -> 0
A37: CHEMICAL LARVICIDE | E37: G | F37: A | G37: MIX RATIO | H37: ACRES | I37: TOTAL | J37: ACRES | K37: TOTAL
A38: * Show Chemical NAME | E38: R | F38: I | G38: OR | H38: TREATED | I38: OUTPUT | J38: TREATED | K38: OUTPUT
A39: * % of Active Ingredient (a.i.) | E39: N | F39: R | G39: FORMULA PER | H39: MONTHLY | I39: MONTHLY | J39: YEARLY | K39: YEARLY
A40: * EPA Number | E40: D | G40: (see Calculation tab) | I40: Gal/lb/Units | K40: Gal/lb
A41: =August!A41 -> 0 | C41: =October!C41 -> 0 | G41: =August!G41 -> 1 | H41: 0 | I41: 0 | J41: =August!J41+H41 -> 0 | K41: =I41*G41+August!K41 -> 0
A42: =August!A42 -> 0 | C42: =October!C42 -> 0 | G42: =August!G42 -> 1 | H42: 0 | I42: 0 | J42: =August!J42+H42 -> 0 | K42: =I42*G42+August!K42 -> 0
A43: =August!A43 -> 0 | C43: =October!C43 -> 0 | G43: =August!G43 -> 1 | H43: 0 | I43: 0 | J43: =August!J43+H43 -> 0 | K43: =I43*G43+August!K43 -> 0
...
