Workbook

Sheet Instructions
A1: INITIAL SETTINGS - OCTOBER TAB
A2: October is the only tab where you can enter your county or district program name and the fiscal year.
A3: October is the only tab where you can enter adulticide and larvicide product information.
B4: If you begin using a new product during the year, you will add it to the October tab and then go to the month you first began use to enter the monthly quantities.
A5: October is the only tab where you can enter the Mix Ratio or Formulation - please use the calculation tab to calculate the mix ratio and enter that into column G
B6: If the product name, active ingredient and EPA number will not fit in column A use the next row to complete the entry.
A8: For Adulticides:
B9: For November and subsequent months, you can only enter the Acres Treated Monthly and Total Output Monthly (gallons) - all other fields are locked and utilize formulas.
A11: For Larvicides:
B12: For November and subsequent months, you can only enter the Acres Treated Monthly and Total Output Monthly (Gal/lb/Units) - all other fields are locked and utilize formulas.
A14: CALCULATIONS TAB
B15: We have provided a tab that will calculate the "number" to use for the Mix Ratio/Formula area (column G). This number can only be entered in Column G in the October tab and will be carried forward from there.
B16: Presently, the number defaults to 1 so it will not interfere with any of the amounts entered into the worksheet until the correct number is entered.
A18: WORKSHEET FORMULAS
A20: October's Acres Treated Yearly for adulticides does not use a formula - they are the same as the initial entries.
B21: For November and subsequent months, the Acres Treated Yearly for adulticides uses the formula - Column J (previous month's Column J) plus Column H
A23: October's Total Yearly Output for adulticides does not use a formula - they are the same as the initial entries.
B24: For November and subsequent months, the Total Yearly Output for adulticides uses the formula - Column I multiplied by Column G plus (previous month's Column K)
A26: October's Acres Treated Yearly for larvicides does not have a formula - they are the same as the initial entries
B27: For November and subsequent months, the Acres Treated Yearly for larvicides uses the formula - (previous month's Column J) plus Column H
A29: October's Total Yearly Output for larvicides uses the formula - Column I multiplied by Column G -
B30: For November and subsequent months, the Total Yearly Output for larvicides uses the formula - Column I multiplied by Column G plus (previous month column K)
A32: TO CHANGE FISCAL YEAR
B33: Modify cell K9 using year format - (ex. 2013-2014)
A35: Revisions
A36: 41507 | B36: Added new Department seal/logo; corrected fiscal year carry through to all tabs
A37: 42003 | B37: Corrected Address due to reorg
A38: 42038 | B38: Updated address in Submit To box, form revision date, and program title.
A39: 43675 | B39: Updated address in Submit To box, updated Commissioner and rule reference
A40: 44459 | B40: Added in Larvicide Unit Weights/Mix Ratios table

Sheet Calculations
B1: **Use these calculations to determine what the "Mix Ratio" will be in Column G.**
B3: Adulticide Mix Ratio Calculation
B5: Unmixed adulticides applied straight: Mix Ratio = | H5: 1
B7: Adulticide Mix Ratio Calculator | H7: Mix ratio
B8: Enter Parts Pesticide | D8: to | E8: Enter Parts Diluent | G8: = | H8: =IFERROR(B9/(B9+E9),0) -> 0
B9: 0 | E9: 0
B11: Larvicide Mix Ratio Calculation
B13: Dry granular product that are unmixed: Mix Ratio = | H13: 1
B14: Liquid larvicides applied unmixed: Mix Ratio = | H14: 1
B15: Liquid Larvicides Mix Ratio Calculator | H15: Mix ratio
B16: Enter Parts Larvicide | D16: to | E16: Enter Parts Diluent | G16: = | H16: =IFERROR(B17/(B17+E17),0) -> 0
B17: 0 | E17: 0
B19: Individual Larvicide Unit Calculation (use for individual briquets, packets, tablets, etc.)
B21: Weight of Container (lbs.) **Must be in Pounds** | H21: 0 | I21: lbs.
B22: Number of Individual Units Per Container | H22: 0 | I22: pieces
E23: Mix Ratio = | H23: =IFERROR(H21/H22, 0) -> 0

Sheet October
B1: Florida Department of Agriculture and Consumer Services
B2: Division of Agricultural Environmental Services
B4: MOSQUITO CONTROL MONTHLY ACTIVITY REPORT
B6: Rule 5E-13.022, F.A.C.
B7: Telephone: (850) 617-7911; FAX (850) 617-7939
A9: COUNTY OR DISTRICT: | I9: MONTH: October | J9: FISCAL: | K9: 2018 - 2019
A10: CHEMICAL ADULTICIDE | C10: T | D10: U | E10: G | F10: A | G10: MIX RATIO | H10: ACRES | I10: TOTAL | J10: ACRES | K10: TOTAL
A11: * Show Chemical NAME | C11: H | D11: L | E11: R | F11: I | G11: OR | H11: TREATED | I11: OUTPUT | J11: TREATED | K11: OUTPUT
A12: * % of Active Ingredient (a.i.) | C12: R | D12: V | E12: N | F12: R | G12: FORMULA | H12: MONTHLY | I12: MONTHLY | J12: YEARLY | K12: YEARLY
A13: * EPA Number | C13: M | E13: D | G13: (see Calculation tab) | I13: Gallons | K13: Gallons
C14: FALSE | D14: FALSE | G14: 1 | H14: 0 | I14: 0 | J14: =H14 -> 0 | K14: =I14*G14 -> 0
G15: 1 | H15: 0 | I15: 0 | J15: =H15 -> 0 | K15: =I15*G15 -> 0
G16: 1 | H16: 0 | I16: 0 | J16: =H16 -> 0 | K16: =I16*G16 -> 0
G17: 1 | H17: 0 | I17: 0 | J17: =H17 -> 0 | K17: =I17*G17 -> 0
G18: 1 | H18: 0 | I18: 0 | J18: =H18 -> 0 | K18: =I18*G18 -> 0
G19: 1 | H19: 0 | I19: 0 | J19: =H19 -> 0 | K19: =I19*G19 -> 0
G20: 1 | H20: 0 | I20: 0 | J20: =H20 -> 0 | K20: =I20*G20 -> 0
G21: 1 | H21: 0 | I21: 0 | J21: =H21 -> 0 | K21: =I21*G21 -> 0
G22: 1 | H22: 0 | I22: 0 | J22: =H22 -> 0 | K22: =I22*G22 -> 0
G23: 1 | H23: 0 | I23: 0 | J23: =H23 -> 0 | K23: =I23*G23 -> 0
G24: 1 | H24: 0 | I24: 0 | J24: =H24 -> 0 | K24: =I24*G24 -> 0
G25: 1 | H25: 0 | I25: 0 | J25: =H25 -> 0 | K25: =I25*G25 -> 0
G26: 1 | H26: 0 | I26: 0 | J26: =H26 -> 0 | K26: =I26*G26 -> 0
... G30: 1 | H30: 0 | I30: 0 | J30: =H30 -> 0 | K30: =I30*G30 -> 0
F31: FALSE | G31: 1 | H31: 0 | I31: 0 | J31: =H31 -> 0 | K31: =I31*G31 -> 0
G32: 1 | H32: 0 | I32: 0 | J32: =H32 -> 0 | K32: =I32*G32 -> 0
G33: 1 | H33: 0 | I33: 0 | J33: =H33 -> 0 | K33: =I33*G33 -> 0
G34: 1 | H34: 0 | I34: 0 | J34: =H34 -> 0 | K34: =I34*G34 -> 0
G35: 1 | H35: 0 | I35: 0 | J35: =H35 -> 0 | K35: =I35*G35 -> 0
G36: 1 | H36: 0 | I36: 0 | J36: =H36 -> 0 | K36: =I36*G36 -> 0
A37: CHEMICAL LARVICIDE | E37: G | F37: A | G37: MIX RATIO | H37: ACRES | I37: TOTAL | J37: ACRES | K37: TOTAL
A38: * Show Chemical NAME | E38: R | F38: I | G38: OR | H38: TREATED | I38: OUTPUT | J38: TREATED | K38: OUTPUT
A39: * % of Active Ingredient (a.i.) | E39: N | F39: R | G39: FORMULA PER | H39: MONTHLY | I39: MONTHLY | J39: YEARLY | K39: YEARLY
A40: * EPA Number | E40: D | G40: (see Calculation tab) | I40: Gal, lb, or Units | K40: Gal, lb
E41: FALSE | G41: 1 | H41: 0 | I41: 0 | J41: =H41 -> 0 | K41: =I41*G41 -> 0
F42: FALSE | G42: 1 | H42: 0 | I42: 0 | J42: =H42 -> 0 | K42: =I42*G42 -> 0
G43: 1 | H43: 0 | I43: 0 | J43: =H43 -> 0 | K43: =I43*G43 -> 0
G44: 1 | H44: 0 | I44: 0 | J44: =H44 -> 0 | K44: =I44*G44 -> 0
G45: 1 | H45: 0 | I45: 0 | J45: =H45 -> 0 | K45: =I45*G45 -> 0
G46: 1 | H46: 0 | I46: 0 | J46: =H46 -> 0 | K46: =I46*G46 -> 0
E47: FALSE | G47: 1 | H47: 0 | I47: 0 | J47: =H47 -> 0 | K47: =I47*G47 -> 0
G48: 1 | H48: 0 | I48: 0 | J48: =H48 -> 0 | K48: =I48*G48 -> 0
G49: 1 | H49: 0 | I49: 0 | J49: =H49 -> 0 | K49: =I49*G49 -> 0
G50: 1 | H50: 0 | I50: 0 | J50: =H50 -> 0 | K50: =I50*G50 -> 0
G51: 1 | H51: 0 | I51: 0 | J51: =H51 -> 0 | K51: =I51*G51 -> 0
G52: 1 | H52: 0 | I52: 0 | J52: =H52 -> 0 | K52: =I52*G52 -> 0
G53: 1 | H53: 0 | I53: 0 | J53: =H53 -> 0 | K53: =I53*G53 -> 0
G54: 1 | H54: 0 | I54: 0 | J54: =H54 -> 0 | K54: =I54*G54 -> 0
G55: 1 | H55: 0 | I55: 0 | J55: =H55 -> 0 | K55: =I55*G55 -> 0
G56: 1 | H56: 0 | I56: 0 | J56: =H56 -> 0 | K56: =I56*G56 -> 0
F57: FALSE | G57: 1 | H57: 0 | I57: 0 | J57: =H57 -> 0 | K57: =I57*G57 -> 0
G58: 1 | H58: 0 | I58: 0 | J58: =H58 -> 0 | K58: =I58*G58 -> 0
G59: 1 | H59: 0 | I59: 0 | J59: =H59 -> 0 | K59: =I59*G59 -> 0
E60: FALSE | G60: 1 | H60: 0 | I60: 0 | J60: =H60 -> 0 | K60: =I60*G60 -> 0
E61: FALSE | G61: 1 | H61: 0 | I61: 0 | J61: =H61 -> 0 | K61: =I61*G61 -> 0
G62: 1 | H62: 0 | I62: 0 | J62: =H62 -> 0 | K62: =I62*G62 -> 0
G63: 1 | H63: 0 | I63: 0 | J63: =H63 -> 0 | K63: =I63*G63 -> 0
G64: 1 | H64: 0 | I64: 0 | J64: =H64 -> 0 | K64: =I64*G64 -> 0
G65: 1 | H65: 0 | I65: 0 | J65: =H65 -> 0 | K65: =I65*G65 -> 0
G66: 1 | H66: 0 | I66: 0 | J66: =H66 -> 0 | K66: =I66*G66 -> 0
E67: FALSE | F67: FALSE | G67: 1 | H67: 0 | I67: 0 | J67: =H67 -> 0 | K67: =I67*G67 -> 0
E68: FALSE | F68: FALSE | G68: 1 | H68: 0 | I68: 0 | J68: =H68 -> 0 | K68: =I68*G68 -> 0
E69: FALSE | F69: FALSE | G69: 1 | H69: 0 | I69: 0 | J69: =H69 -> 0 | K69: =I69*G69 -> 0
E70: FALSE | F70: FALSE | G70: 1 | H70: 0 | I70: 0 | J70: =H70 -> 0 | K70: =I70*G70 -> 0
E71: FALSE | F71: FALSE | G71: 1 | H71: 0 | I71: 0 | J71: =H71 -> 0 | K71: =I71*G71 -> 0
E72: FALSE | F72: FALSE | G72: 1 | H72: 0 | I72: 0 | J72: =H72 -> 0 | K72: =I72*G72 -> 0
E73: FALSE | F73: FALSE | G73: 1 | H73: 0 | I73: 0 | J73: =H73 -> 0 | K73: =I73*G73 -> 0
A75: FDACS-13652 Rev 07/13 | I75: Director Signature | K75: Date

Sheet November
B1: Florida Department of Agriculture and Consumer Services
B2: Division of Agricultural Environmental Services
B4: MOSQUITO CONTROL MONTHLY ACTIVITY REPORT
B6: Rule 5E-13.022, F.A.C.
B7: Telephone: (850) 617-7911; FAX (850) 617-7939
A9: COUNTY OR DISTRICT: | B9: =October!B9 -> 0 | I9: MONTH: November | J9: FISCAL: | K9: =October!K9 -> 2018 - 2019
A10: CHEMICAL ADULTICIDE | C10: T | D10: U | E10: G | F10: A | G10: MIX RATIO | H10: ACRES | I10: TOTAL | J10: ACRES | K10: TOTAL
A11: * Show Chemical NAME | C11: H | D11: L | E11: R | F11: I | G11: OR | H11: TREATED | I11: OUTPUT | J11: TREATED | K11: OUTPUT
A12: * % of Active Ingredient (a.i.) | C12: R | D12: V | E12: N | F12: R | G12: FORMULA | H12: MONTHLY | I12: MONTHLY | J12: YEARLY | K12: YEARLY
A13: * EPA Number | C13: M | E13: D | G13: (see Calculation tab) | I13: Gallons | K13: Gallons
A14: =October!A14 -> 0 | C14: FALSE | G14: =October!G14 -> 1 | H14: 0 | I14: 0 | J14: =October!J14+H14 -> 0 | K14: =I14*G14+October!K14 -> 0
A15: =October!A15 -> 0 | G15: =October!G15 -> 1 | H15: 0 | I15: 0 | J15: =October!J15+H15 -> 0 | K15: =I15*G15+October!K15 -> 0
A16: =October!A16 -> 0 | G16: =October!G16 -> 1 | H16: 0 | I16: 0 | J16: =October!J16+H16 -> 0 | K16: =I16*G16+October!K16 -> 0
A17: =October!A17 -> 0 | G17: =October!G17 -> 1 | H17: 0 | I17: 0 | J17: =October!J17+H17 -> 0 | K17: =I17*G17+October!K17 -> 0
A18: =October!A18 -> 0 | G18: =October!G18 -> 1 | H18: 0 | I18: 0 | J18: =October!J18+H18 -> 0 | K18: =I18*G18+October!K18 -> 0
A19: =October!A19 -> 0 | G19: =October!G19 -> 1 | H19: 0 | I19: 0 | J19: =October!J19+H19 -> 0 | K19: =I19*G19+October!K19 -> 0
A20: =October!A20 -> 0 | G20: =October!G20 -> 1 | H20: 0 | I20: 0 | J20: =October!J20+H20 -> 0 | K20: =I20*G20+October!K20 -> 0
A21: =October!A21 -> 0 | C21: FALSE | G21: =October!G21 -> 1 | H21: 0 | I21: 0 | J21: =October!J21+H21 -> 0 | K21: =I21*G21+October!K21 -> 0
A22: =October!A22 -> 0 | G22: =October!G22 -> 1 | H22: 0 | I22: 0 | J22: =October!J22+H22 -> 0 | K22: =I22*G22+October!K22 -> 0
A23: =October!A23 -> 0 | G23: =October!G23 -> 1 | H23: 0 | I23: 0 | J23: =October!J23+H23 -> 0 | K23: =I23*G23+October!K23 -> 0
A24: =October!A24 -> 0 | E24: FALSE | G24: =October!G24 -> 1 | H24: 0 | I24: 0 | J24: =October!J24+H24 -> 0 | K24: =I24*G24+October!K24 -> 0
A25: =October!A25 -> 0 | G25: =October!G25 -> 1 | H25: 0 | I25: 0 | J25: =October!J25+H25 -> 0 | K25: =I25*G25+October!K25 -> 0
A26: =October!A26 -> 0 | G26: =October!G26 -> 1 | H26: 0 | I26: 0 | J26: =October!J26+H26 -> 0 | K26: =I26*G26+October!K26 -> 0
A27: =October!A27 -> 0 | G27: =October!G27 -> 1 | H27: 0 | I27: 0 | J27: =October!J27+H27 -> 0 | K27: =I27*G27+October!K27 -> 0
A28: =October!A28 -> 0 | G28: =October!G28 -> 1 | H28: 0 | I28: 0 | J28: =October!J28+H28 -> 0 | K28: =I28*G28+October!K28 -> 0
A29: =October!A29 -> 0 | G29: =October!G29 -> 1 | H29: 0 | I29: 0 | J29: =October!J29+H29 -> 0 | K29: =I29*G29+October!K29 -> 0
A30: =October!A30 -> 0 | G30: =October!G30 -> 1 | H30: 0 | I30: 0 | J30: =October!J30+H30 -> 0 | K30: =I30*G30+October!K30 -> 0
A31: =October!A31 -> 0 | G31: =October!G31 -> 1 | H31: 0 | I31: 0 | J31: =October!J31+H31 -> 0 | K31: =I31*G31+October!K31 -> 0
A32: =October!A32 -> 0 | G32: =October!G32 -> 1 | H32: 0 | I32: 0 | J32: =October!J32+H32 -> 0 | K32: =I32*G32+October!K32 -> 0
A33: =October!A33 -> 0 | G33: =October!G33 -> 1 | H33: 0 | I33: 0 | J33: =October!J33+H33 -> 0 | K33: =I33*G33+October!K33 -> 0
A34: =October!A34 -> 0 | G34: =October!G34 -> 1 | H34: 0 | I34: 0 | J34: =October!J34+H34 -> 0 | K34: =I34*G34+October!K34 -> 0
A35: =October!A35 -> 0 | G35: =October!G35 -> 1 | H35: 0 | I35: 0 | J35: =October!J35+H35 -> 0 | K35: =I35*G35+October!K35 -> 0
A36: =October!A36 -> 0 | G36: =October!G36 -> 1 | H36: 0 | I36: 0 | J36: =October!J36+H36 -> 0 | K36: =I36*G36+October!K36 -> 0
A37: CHEMICAL LARVICIDE | E37: G | F37: A | G37: MIX RATIO | H37: ACRES | I37: TOTAL | J37: ACRES | K37: TOTAL
A38: * Show Chemical NAME | E38: R | F38: I | G38: OR | H38: TREATED | I38: OUTPUT | J38: TREATED | K38: OUTPUT
A39: * % of Active Ingredient (a.i.) | E39: N | F39: R | G39: FORMULA PER | H39: MONTHLY | I39: MONTHLY | J39: YEARLY | K39: YEARLY
A40: * EPA Number | E40: D | G40: (see Calculation tab) | I40: Gal/lb/Units | K40: Gal/lb
A41: =October!A41 -> 0 | C41: =October!C41 -> 0 | G41: =October!G41 -> 1 | H41: 0 | I41: 0 | J41: =October!J41+H41 -> 0 | K41: =I41*G41+October!K41 -> 0
A42: =October!A42 -> 0 | C42: =October!C42 -> 0 | G42: =October!G42 -> 1 | H42: 0 | I42: 0 | J42: =October!J42+H42 -> 0 | K42: =I42*G42+October!K42 -> 0
A43: =October!A43 -> 0 | C43: =October!C43 -> 0 | G43: =October!G43 -> 1 | H43: 0 | I43: 0 | J43: =October!J43+H43 -> 0 | K43: =I43*G43+October!K43 -> 0
A44: =October!A44 -> 0 | C44: =October!C44 -> 0 | G44: =October!G44 -> 1 | H44: 0 | I44: 0 | J44: =October!J44+H44 -> 0 | K44: =I44*G44+October!K44 -> 0
A45: =October!A45 -> 0 | C45: =October!C45 -> 0 | G45: =October!G45 -> 1 | H45: 0 | I45: 0 | J45: =October!J45+H45 -> 0 | K45: =I45*G45+October!K45 -> 0
A46: =October!A46 -> 0 | C46: =October!C46 -> 0 | G46: =October!G46 -> 1 | H46: 0 | I46: 0 | J46: =October!J46+H46 -> 0 | K46: =I46*G46+October!K46 -> 0
A47: =October!A47 -> 0 | C47: =October!C47 -> 0 | E47: FALSE | G47: =October!G47 -> 1 | H47: 0 | I47: 0 | J47: =October!J47+H47 -> 0 | K47: =I47*G47+October!K47 -> 0
A48: =October!A48 -> 0 | C48: =October!C48 -> 0 | G48: =October!G48 -> 1 | H48: 0 | I48: 0 | J48: =October!J48+H48 -> 0 | K48: =I48*G48+October!K48 -> 0
A49: =October!A49 -> 0 | C49: =October!C49 -> 0 | G49: =October!G49 -> 1 | H49: 0 | I49: 0 | J49: =October!J49+H49 -> 0 | K49: =I49*G49+October!K49 -> 0
A50: =October!A50 -> 0 | C50: =October!C50 -> 0 | G50: =October!G50 -> 1 | H50: 0 | I50: 0 | J50: =October!J50+H50 -> 0 | K50: =I50*G50+October!K50 -> 0
A51: =October!A51 -> 0 | C51: =October!C51 -> 0 | G51: =October!G51 -> 1 | H51: 0 | I51: 0 | J51: =October!J51+H51 -> 0 | K51: =I51*G51+October!K51 -> 0
A52: =October!A52 -> 0 | C52: =October!C52 -> 0 | G52: =October!G52 -> 1 | H52: 0 | I52: 0 | J52: =October!J52+H52 -> 0 | K52: =I52*G52+October!K52 -> 0
A53: =October!A53 -> 0 | C53: =October!C53 -> 0 | G53: =October!G53 -> 1 | H53: 0 | I53: 0 | J53: =October!J53+H53 -> 0 | K53: =I53*G53+October!K53 -> 0
A54: =October!A54 -> 0 | C54: =October!C54 -> 0 | G54: =October!G54 -> 1 | H54: 0 | I54: 0 | J54: =October!J54+H54 -> 0 | K54: =I54*G54+October!K54 -> 0
A55: =October!A55 -> 0 | C55: =October!C55 -> 0 | G55: =October!G55 -> 1 | H55: 0 | I55: 0 | J55: =October!J55+H55 -> 0 | K55: =I55*G55+October!K55 -> 0
A56: =October!A56 -> 0 | C56: =October!C56 -> 0 | G56: =October!G56 -> 1 | H56: 0 | I56: 0 | J56: =October!J56+H56 -> 0 | K56: =I56*G56+October!K56 -> 0
A57: =October!A57 -> 0 | C57: =October!C57 -> 0 | F57: FALSE | G57: =October!G57 -> 1 | H57: 0 | I57: 0 | J57: =October!J57+H57 -> 0 | K57: =I57*G57+October!K57 -> 0
A58: =October!A58 -> 0 | C58: =October!C58 -> 0 | G58: =October!G58 -> 1 | H58: 0 | I58: 0 | J58: =October!J58+H58 -> 0 | K58: =I58*G58+October!K58 -> 0
A59: =October!A59 -> 0 | C59: =October!C59 -> 0 | G59: =October!G59 -> 1 | H59: 0 | I59: 0 | J59: =October!J59+H59 -> 0 | K59: =I59*G59+October!K59 -> 0
A60: =October!A60 -> 0 | C60: =October!C60 -> 0 | G60: =October!G60 -> 1 | H60: 0 | I60: 0 | J60: =October!J60+H60 -> 0 | K60: =I60*G60+October!K60 -> 0
A61: =October!A61 -> 0 | C61: =October!C61 -> 0 | G61: =October!G61 -> 1 | H61: 0 | I61: 0 | J61: =October!J61+H61 -> 0 | K61: =I61*G61+October!K61 -> 0
A62: =October!A62 -> 0 | C62: =October!C62 -> 0 | G62: =October!G62 -> 1 | H62: 0 | I62: 0 | J62: =October!J62+H62 -> 0 | K62: =I62*G62+October!K62 -> 0
A63: =October!A63 -> 0 | C63: =October!C63 -> 0 | G63: =October!G63 -> 1 | H63: 0 | I63: 0 | J63: =October!J63+H63 -> 0 | K63: =I63*G63+October!K63 -> 0
A64: =October!A64 -> 0 | C64: =October!C64 -> 0 | G64: =October!G64 -> 1 | H64: 0 | I64: 0 | J64: =October!J64+H64 -> 0 | K64: =I64*G64+October!K64 -> 0
A65: =October!A65 -> 0 | C65: =October!C65 -> 0 | G65: =October!G65 -> 1 | H65: 0 | I65: 0 | J65: =October!J65+H65 -> 0 | K65: =I65*G65+October!K65 -> 0
A66: =October!A66 -> 0 | C66: =October!C66 -> 0 | G66: =October!G66 -> 1 | H66: 0 | I66: 0 | J66: =October!J66+H66 -> 0 | K66: =I66*G66+October!K66 -> 0
A67: =October!A67 -> 0 | C67: =October!C67 -> 0 | E67: FALSE | F67: FALSE | G67: =October!G67 -> 1 | H67: 0 | I67: 0 | J67: =October!J67+H67 -> 0 | K67: =I67*G67+October!K67 -> 0
A68: =October!A68 -> 0 | C68: =October!C68 -> 0 | E68: FALSE | F68: FALSE | G68: =October!G68 -> 1 | H68: 0 | I68: 0 | J68: =October!J68+H68 -> 0 | K68: =I68*G68+October!K68 -> 0
A69: =October!A69 -> 0 | C69: =October!C69 -> 0 | E69: FALSE | F69: FALSE | G69: =October!G69 -> 1 | H69: 0 | I69: 0 | J69: =October!J69+H69 -> 0 | K69: =I69*G69+October!K69 -> 0
A70: =October!A70 -> 0 | C70: =October!C70 -> 0 | E70: FALSE | F70: FALSE | G70: =October!G70 -> 1 | H70: 0 | I70: 0 | J70: =October!J70+H70 -> 0 | K70: =I70*G70+October!K70 -> 0
A71: =October!A71 -> 0 | C71: =October!C71 -> 0 | E71: FALSE | F71: FALSE | G71: =October!G71 -> 1 | H71: 0 | I71: 0 | J71: =October!J71+H71 -> 0 | K71: =I71*G71+October!K71 -> 0
A72: =October!A72 -> 0 | C72: =October!C72 -> 0 | E72: FALSE | F72: FALSE | G72: =October!G72 -> 1 | H72: 0 | I72: 0 | J72: =October!J72+H72 -> 0 | K72: =I72*G72+October!K72 -> 0
A73: =October!A73 -> 0 | C73: =October!C73 -> 0 | E73: FALSE | F73: FALSE | G73: =October!G73 -> 1 | H73: 0 | I73: 0 | J73: =October!J73+H73 -> 0 | K73: =I73*G73+October!K73 -> 0
A75: FDACS-13652 Rev 07/13 | I75: Director Signature | K75: Date

Sheet December
B1: Florida Department of Agriculture and Consumer Services
B2: Division of Agricultural Environmental Services
B4: MOSQUITO CONTROL MONTHLY ACTIVITY REPORT
B6: Rule 5E-13.022, F.A.C.
B7: Telephone: (850) 617-7911; FAX (850) 617-7939
A9: COUNTY OR DISTRICT: | B9: =November!B9 -> 0 | I9: MONTH: December | J9: FISCAL: | K9: =October!K9 -> 2018 - 2019
A10: CHEMICAL ADULTICIDE | C10: T | D10: U | E10: G | F10: A | G10: MIX RATIO | H10: ACRES | I10: TOTAL | J10: ACRES | K10: TOTAL
A11: * Show Chemical NAME | C11: H | D11: L | E11: R | F11: I | G11: OR | H11: TREATED | I11: OUTPUT | J11: TREATED | K11: OUTPUT
A12: * % of Active Ingredient (a.i.) | C12: R | D12: V | E12: N | F12: R | G12: FORMULA | H12: MONTHLY | I12: MONTHLY | J12: YEARLY | K12: YEARLY
A13: * EPA Number | C13: M | E13: D | G13: (see Calculation tab) | I13: Gallons | K13: Gallons
A14: =November!A14 -> 0 | C14: FALSE | G14: =November!G14 -> 1 | H14: 0 | I14: 0 | J14: =November!J14+H14 -> 0 | K14: =I14*G14+November!K14 -> 0
A15: =November!A15 -> 0 | G15: =November!G15 -> 1 | H15: 0 | I15: 0 | J15: =November!J15+H15 -> 0 | K15: =I15*G15+November!K15 -> 0
A16: =November!A16 -> 0 | G16: =November!G16 -> 1 | H16: 0 | I16: 0 | J16: =November!J16+H16 -> 0 | K16: =I16*G16+November!K16 -> 0
A17: =November!A17 -> 0 | G17: =November!G17 -> 1 | H17: 0 | I17: 0 | J17: =November!J17+H17 -> 0 | K17: =I17*G17+November!K17 -> 0
A18: =November!A18 -> 0 | G18: =November!G18 -> 1 | H18: 0 | I18: 0 | J18: =November!J18+H18 -> 0 | K18: =I18*G18+November!K18 -> 0
A19: =November!A19 -> 0 | G19: =November!G19 -> 1 | H19: 0 | I19: 0 | J19: =November!J19+H19 -> 0 | K19: =I19*G19+November!K19 -> 0
A20: =November!A20 -> 0 | G20: =November!G20 -> 1 | H20: 0 | I20: 0 | J20: =November!J20+H20 -> 0 | K20: =I20*G20+November!K20 -> 0
A21: =November!A21 -> 0 | C21: FALSE | G21: =November!G21 -> 1 | H21: 0 | I21: 0 | J21: =November!J21+H21 -> 0 | K21: =I21*G21+November!K21 -> 0
A22: =November!A22 -> 0 | G22: =November!G22 -> 1 | H22: 0 | I22: 0 | J22: =November!J22+H22 -> 0 | K22: =I22*G22+November!K22 -> 0
A23: =November!A23 -> 0 | G23: =November!G23 -> 1 | H23: 0 | I23: 0 | J23: =November!J23+H23 -> 0 | K23: =I23*G23+November!K23 -> 0
A24: =November!A24 -> 0 | E24: FALSE | G24: =November!G24 -> 1 | H24: 0 | I24: 0 | J24: =November!J24+H24 -> 0 | K24: =I24*G24+November!K24 -> 0
A25: =November!A25 -> 0 | G25: =November!G25 -> 1 | H25: 0 | I25: 0 | J25: =November!J25+H25 -> 0 | K25: =I25*G25+November!K25 -> 0
A26: =November!A26 -> 0 | G26: =November!G26 -> 1 | H26: 0 | I26: 0 | J26: =November!J26+H26 -> 0 | K26: =I26*G26+November!K26 -> 0
A27: =November!A27 -> 0 | G27: =November!G27 -> 1 | H27: 0 | I27: 0 | J27: =November!J27+H27 -> 0 | K27: =I27*G27+November!K27 -> 0
A28: =November!A28 -> 0 | G28: =November!G28 -> 1 | H28: 0 | I28: 0 | J28: =November!J28+H28 -> 0 | K28: =I28*G28+November!K28 -> 0
A29: =November!A29 -> 0 | G29: =November!G29 -> 1 | H29: 0 | I29: 0 | J29: =November!J29+H29 -> 0 | K29: =I29*G29+November!K29 -> 0
A30: =November!A30 -> 0 | G30: =November!G30 -> 1 | H30: 0 | I30: 0 | J30: =November!J30+H30 -> 0 | K30: =I30*G30+November!K30 -> 0
A31: =November!A31 -> 0 | G31: =November!G31 -> 1 | H31: 0 | I31: 0 | J31: =November!J31+H31 -> 0 | K31: =I31*G31+November!K31 -> 0
A32: =November!A32 -> 0 | G32: =November!G32 -> 1 | H32: 0 | I32: 0 | J32: =November!J32+H32 -> 0 | K32: =I32*G32+November!K32 -> 0
A33: =November!A33 -> 0 | G33: =November!G33 -> 1 | H33: 0 | I33: 0 | J33: =November!J33+H33 -> 0 | K33: =I33*G33+November!K33 -> 0
A34: =November!A34 -> 0 | G34: =November!G34 -> 1 | H34: 0 | I34: 0 | J34: =November!J34+H34 -> 0 | K34: =I34*G34+November!K34 -> 0
A35: =November!A35 -> 0 | G35: =November!G35 -> 1 | H35: 0 | I35: 0 | J35: =November!J35+H35 -> 0 | K35: =I35*G35+November!K35 -> 0
A36: =November!A36 -> 0 | G36: =November!G36 -> 1 | H36: 0 | I36: 0 | J36: =November!J36+H36 -> 0 | K36: =I36*G36+November!K36 -> 0
A37: CHEMICAL LARVICIDE | E37: G | F37: A | G37: MIX RATIO | H37: ACRES | I37: TOTAL | J37: ACRES | K37: TOTAL
A38: * Show Chemical NAME | E38: R | F38: I | G38: OR | H38: TREATED | I38: OUTPUT | J38: TREATED | K38: OUTPUT
A39: * % of Active Ingredient (a.i.) | E39: N | F39: R | G39: FORMULA PER | H39: MONTHLY | I39: MONTHLY | J39: YEARLY | K39: YEARLY
A40: * EPA Number | E40: D | G40: (see Calculation tab) | I40: Gal/lb/Units | K40: Gal/lb
A41: =November!A41 -> 0 | C41: =October!C41 -> 0 | G41: =November!G41 -> 1 | H41: 0 | I41: 0 | J41: =November!J41+H41 -> 0 | K41: =I41*G41+November!K41 -> 0
A42: =November!A42 -> 0 | C42: =October!C42 -> 0 | G42: =November!G42 -> 1 | H42: 0 | I42: 0 | J42: =November!J42+H42 -> 0 | K42: =I42*G42+November!K42 -> 0
A43: =November!A43 -> 0 | C43: =October!C43 -> 0 | G43: =November!G43 -> 1 | H43: 0 | I43: 0 | J43: =November!J43+H43 -> 0 | K43: =I43*G43+November!K43 -> 0
A44: =November!A44 -> 0 | C44: =October!C44 -> 0 | G44: =November!G44 -> 1 | H44: 0 | I44: 0 | J44: =November!J44+H44 -> 0 | K44: =I44*G44+November!K44 -> 0
A45: =November!A45 -> 0 | C45: =October!C45 -> 0 | G45: =November!G45 -> 1 | H45: 0 | I45: 0 | J45: =November!J45+H45 -> 0 | K45: =I45*G45+November!K45 -> 0
A46: =November!A46 -> 0 | C46: =October!C46 -> 0 | G46: =November!G46 -> 1 | H46: 0 | I46: 0 | J46: =November!J46+H46 -> 0 | K46: =I46*G46+November!K46 -> 0
A47: =November!A47 -> 0 | C47: =October!C47 -> 0 | E47: FALSE | G47: =November!G47 -> 1 | H47: 0 | I47: 0 | J47: =November!J47+H47 -> 0 | K47: =I47*G47+November!K47 -> 0
A48: =November!A48 -> 0 | C48: =October!C48 -> 0 | G48: =November!G48 -> 1 | H48: 0 | I48: 0 | J48: =November!J48+H48 -> 0 | K48: =I48*G48+November!K48 -> 0
A49: =November!A49 -> 0 | C49: =October!C49 -> 0 | G49: =November!G49 -> 1 | H49: 0 | I49: 0 | J49: =November!J49+H49 -> 0 | K49: =I49*G49+November!K49 -> 0
A50: =November!A50 -> 0 | C50: =October!C50 -> 0 | G50: =November!G50 -> 1 | H50: 0 | I50: 0 | J50: =November!J50+H50 -> 0 | K50: =I50*G50+November!K50 -> 0
A51: =November!A51 -> 0 | C51: =October!C51 -> 0 | G51: =November!G51 -> 1 | H51: 0 | I51: 0 | J51: =November!J51+H51 -> 0 | K51: =I51*G51+November!K51 -> 0
A52: =November!A52 -> 0 | C52: =October!C52 -> 0 | G52: =November!G52 -> 1 | H52: 0 | I52: 0 | J52: =November!J52+H52 -> 0 | K52: =I52*G52+November!K52 -> 0
A53: =November!A53 -> 0 | C53: =October!C53 -> 0 | G53: =November!G53 -> 1 | H53: 0 | I53: 0 | J53: =November!J53+H53 -> 0 | K53: =I53*G53+November!K53 -> 0
A54: =November!A54 -> 0 | C54: =October!C54 -> 0 | G54: =November!G54 -> 1 | H54: 0 | I54: 0 | J54: =November!J54+H54 -> 0 | K54: =I54*G54+November!K54 -> 0
A55: =November!A55 -> 0 | C55: =October!C55 -> 0 | G55: =November!G55 -> 1 | H55: 0 | I55: 0 | J55: =November!J55+H55 -> 0 | K55: =I55*G55+November!K55 -> 0
A56: =November!A56 -> 0 | C56: =October!C56 -> 0 | G56: =November!G56 -> 1 | H56: 0 | I56: 0 | J56: =November!J56+H56 -> 0 | K56: =I56*G56+November!K56 -> 0
A57: =November!A57 -> 0 | C57: =October!C57 -> 0 | F57: FALSE | G57: =November!G57 -> 1 | H57: 0 | I57: 0 | J57: =November!J57+H57 -> 0 | K57: =I57*G57+November!K57 -> 0
A58: =November!A58 -> 0 | C58: =October!C58 -> 0 | G58: =November!G58 -> 1 | H58: 0 | I58: 0 | J58: =November!J58+H58 -> 0 | K58: =I58*G58+November!K58 -> 0
A59: =November!A59 -> 0 | C59: =October!C59 -> 0 | G59: =November!G59 -> 1 | H59: 0 | I59: 0 | J59: =November!J59+H59 -> 0 | K59: =I59*G59+November!K59 -> 0
A60: =November!A60 -> 0 | C60: =October!C60 -> 0 | G60: =November!G60 -> 1 | H60: 0 | I60: 0 | J60: =November!J60+H60 -> 0 | K60: =I60*G60+November!K60 -> 0
A61: =November!A61 -> 0 | C61: =October!C61 -> 0 | G61: =November!G61 -> 1 | H61: 0 | I61: 0 | J61: =November!J61+H61 -> 0 | K61: =I61*G61+November!K61 -> 0
A62: =November!A62 -> 0 | C62: =October!C62 -> 0 | G62: =November!G62 -> 1 | H62: 0 | I62: 0 | J62: =November!J62+H62 -> 0 | K62: =I62*G62+November!K62 -> 0
A63: =November!A63 -> 0 | C63: =October!C63 -> 0 | G63: =November!G63 -> 1 | H63: 0 | I63: 0 | J63: =November!J63+H63 -> 0 | K63: =I63*G63+November!K63 -> 0
A64: =November!A64 -> 0 | C64: =October!C64 -> 0 | G64: =November!G64 -> 1 | H64: 0 | I64: 0 | J64: =November!J64+H64 -> 0 | K64: =I64*G64+November!K64 -> 0
A65: =November!A65 -> 0 | C65: =October!C65 -> 0 | G65: =November!G65 -> 1 | H65: 0 | I65: 0 | J65: =November!J65+H65 -> 0 | K65: =I65*G65+November!K65 -> 0
A66: =November!A66 -> 0 | C66: =October!C66 -> 0 | G66: =November!G66 -> 1 | H66: 0 | I66: 0 | J66: =November!J66+H66 -> 0 | K66: =I66*G66+November!K66 -> 0
A67: =November!A67 -> 0 | C67: =October!C67 -> 0 | E67: FALSE | F67: FALSE | G67: =November!G67 -> 1 | H67: 0 | I67: 0 | J67: =November!J67+H67 -> 0 | K67: =I67*G67+November!K67 -> 0
A68: =November!A68 -> 0 | C68: =October!C68 -> 0 | E68: FALSE | F68: FALSE | G68: =November!G68 -> 1 | H68: 0 | I68: 0 | J68: =November!J68+H68 -> 0 | K68: =I68*G68+November!K68 -> 0
A69: =November!A69 -> 0 | C69: =October!C69 -> 0 | E69: FALSE | F69: FALSE | G69: =November!G69 -> 1 | H69: 0 | I69: 0 | J69: =November!J69+H69 -> 0 | K69: =I69*G69+November!K69 -> 0
A70: =November!A70 -> 0 | C70: =October!C70 -> 0 | E70: FALSE | F70: FALSE | G70: =November!G70 -> 1 | H70: 0 | I70: 0 | J70: =November!J70+H70 -> 0 | K70: =I70*G70+November!K70 -> 0
A71: =November!A71 -> 0 | C71: =October!C71 -> 0 | E71: FALSE | F71: FALSE | G71: =November!G71 -> 1 | H71: 0 | I71: 0 | J71: =November!J71+H71 -> 0 | K71: =I71*G71+November!K71 -> 0
A72: =November!A72 -> 0 | C72: =October!C72 -> 0 | E72: FALSE | F72: FALSE | G72: =November!G72 -> 1 | H72: 0 | I72: 0 | J72: =November!J72+H72 -> 0 | K72: =I72*G72+November!K72 -> 0
A73: =November!A73 -> 0 | C73: =October!C73 -> 0 | E73: FALSE | F73: FALSE | G73: =November!G73 -> 1 | H73: 0 | I73: 0 | J73: =November!J73+H73 -> 0 | K73: =I73*G73+November!K73 -> 0
A75: FDACS-13652 Rev 07/13 | I75: Director Signature | K75: Date

Sheet January
B1: Florida Department of Agriculture and Consumer Services
B2: Division of Agricultural Environmental Services
B4: MOSQUITO CONTROL MONTHLY ACTIVITY REPORT
B6: Rule 5E-13.022, F.A.C.
B7: Telephone: (850) 617-7911; FAX (850) 617-7939
A9: COUNTY OR DISTRICT: | B9: =December!B9 -> 0 | I9: MONTH: January | J9: FISCAL: | K9: =October!K9 -> 2018 - 2019
A10: CHEMICAL ADULTICIDE | C10: T | D10: U | E10: G | F10: A | G10: MIX RATIO | H10: ACRES | I10: TOTAL | J10: ACRES | K10: TOTAL
A11: * Show Chemical NAME | C11: H | D11: L | E11: R | F11: I | G11: OR | H11: TREATED | I11: OUTPUT | J11: TREATED | K11: OUTPUT
A12: * % of Active Ingredient (a.i.) | C12: R | D12: V | E12: N | F12: R | G12: FORMULA | H12: MONTHLY | I12: MONTHLY | J12: YEARLY | K12: YEARLY
A13: * EPA Number | C13: M | E13: D | G13: (see Calculation tab) | I13: Gallons | K13: Gallons
A14: =December!A14 -> 0 | C14: FALSE | G14: =December!G14 -> 1 | H14: 0 | I14: 0 | J14: =December!J14+H14 -> 0 | K14: =I14*G14+December!K14 -> 0
A15: =December!A15 -> 0 | G15: =December!G15 -> 1 | H15: 0 | I15: 0 | J15: =December!J15+H15 -> 0 | K15: =I15*G15+December!K15 -> 0
A16: =December!A16 -> 0 | G16: =December!G16 -> 1 | H16: 0 | I16: 0 | J16: =December!J16+H16 -> 0 | K16: =I16*G16+December!K16 -> 0
A17: =December!A17 -> 0 | G17: =December!G17 -> 1 | H17: 0 | I17: 0 | J17: =December!J17+H17 -> 0 | K17: =I17*G17+December!K17 -> 0
A18: =December!A18 -> 0 | G18: =December!G18 -> 1 | H18: 0 | I18: 0 | J18: =December!J18+H18 -> 0 | K18: =I18*G18+December!K18 -> 0
A19: =December!A19 -> 0 | G19: =December!G19 -> 1 | H19: 0 | I19: 0 | J19: =December!J19+H19 -> 0 | K19: =I19*G19+December!K19 -> 0
A20: =December!A20 -> 0 | G20: =December!G20 -> 1 | H20: 0 | I20: 0 | J20: =December!J20+H20 -> 0 | K20: =I20*G20+December!K20 -> 0
A21: =December!A21 -> 0 | C21: FALSE | G21: =December!G21 -> 1 | H21: 0 | I21: 0 | J21: =December!J21+H21 -> 0 | K21: =I21*G21+December!K21 -> 0
A22: =December!A22 -> 0 | G22: =December!G22 -> 1 | H22: 0 | I22: 0 | J22: =December!J22+H22 -> 0 | K22: =I22*G22+December!K22 -> 0
A23: =December!A23 -> 0 | G23: =December!G23 -> 1 | H23: 0 | I23: 0 | J23: =December!J23+H23 -> 0 | K23: =I23*G23+December!K23 -> 0
A24: =December!A24 -> 0 | E24: FALSE | G24: =December!G24 -> 1 | H24: 0 | I24: 0 | J24: =December!J24+H24 -> 0 | K24: =I24*G24+December!K24 -> 0
A25: =December!A25 -> 0 | G25: =December!G25 -> 1 | H25: 0 | I25: 0 | J25: =December!J25+H25 -> 0 | K25: =I25*G25+December!K25 -> 0
A26: =December!A26 -> 0 | G26: =December!G26 -> 1 | H26: 0 | I26: 0 | J26: =December!J26+H26 -> 0 | K26: =I26*G26+December!K26 -> 0
A27: =December!A27 -> 0 | G27: =December!G27 -> 1 | H27: 0 | I27: 0 | J27: =December!J27+H27 -> 0 | K27: =I27*G27+December!K27 -> 0
A28: =December!A28 -> 0 | G28: =December!G28 -> 1 | H28: 0 | I28: 0 | J28: =December!J28+H28 -> 0 | K28: =I28*G28+December!K28 -> 0
A29: =December!A29 -> 0 | G29: =December!G29 -> 1 | H29: 0 | I29: 0 | J29: =December!J29+H29 -> 0 | K29: =I29*G29+December!K29 -> 0
A30: =December!A30 -> 0 | G30: =December!G30 -> 1 | H30: 0 | I30: 0 | J30: =December!J30+H30 -> 0 | K30: =I30*G30+December!K30 -> 0
A31: =December!A31 -> 0 | G31: =December!G31 -> 1 | H31: 0 | I31: 0 | J31: =December!J31+H31 -> 0 | K31: =I31*G31+December!K31 -> 0
A32: =December!A32 -> 0 | G32: =December!G32 -> 1 | H32: 0 | I32: 0 | J32: =December!J32+H32 -> 0 | K32: =I32*G32+December!K32 -> 0
A33: =December!A33 -> 0 | G33: =December!G33 -> 1 | H33: 0 | I33: 0 | J33: =December!J33+H33 -> 0 | K33: =I33*G33+December!K33 -> 0
A34: =December!A34 -> 0 | G34: =December!G34 -> 1 | H34: 0 | I34: 0 | J34: =December!J34+H34 -> 0 | K34: =I34*G34+December!K34 -> 0
A35: =December!A35 -> 0 | G35: =December!G35 -> 1 | H35: 0 | I35: 0 | J35: =December!J35+H35 -> 0 | K35: =I35*G35+December!K35 -> 0
A36: =December!A36 -> 0 | G36: =December!G36 -> 1 | H36: 0 | I36: 0 | J36: =December!J36+H36 -> 0 | K36: =I36*G36+December!K36 -> 0
A37: CHEMICAL LARVICIDE | E37: G | F37: A | G37: MIX RATIO | H37: ACRES | I37: TOTAL | J37: ACRES | K37: TOTAL
A38: * Show Chemical NAME | E38: R | F38: I | G38: OR | H38: TREATED | I38: OUTPUT | J38: TREATED | K38: OUTPUT
A39: * % of Active Ingredient (a.i.) | E39: N | F39: R | G39: FORMULA PER | H39: MONTHLY | I39: MONTHLY | J39: YEARLY | K39: YEARLY
A40: * EPA Number | E40: D | G40: (see Calculation tab) | I40: Gal/lb/Units | K40: Gal/lb
A41: =December!A41 -> 0 | C41: =October!C41 -> 0 | G41: =December!G41 -> 1 | H41: 0 | I41: 0 | J41: =December!J41+H41 -> 0 | K41: =I41*G41+December!K41 -> 0
A42: =December!A42 -> 0 | C42: =October!C42 -> 0 | G42: =December!G42 -> 1 | H42: 0 | I42: 0 | J42: =December!J42+H42 -> 0 | K42: =I42*G42+December!K42 -> 0
A43: =December!A43 -> 0 | C43: =October!C43 -> 0 | G43: =December!G43 -> 1 | H43: 0 | I43: 0 | J43: =December!J43+H43 -> 0 | K43: =I43*G43+December!K43 -> 0
A44: =December!A44 -> 0 | C44: =October!C44 -> 0 | G44: =December!G44 -> 1 | H44: 0 | I44: 0 | J44: =December!J44+H44 -> 0 | K44: =I44*G44+December!K44 -> 0
A45: =December!A45 -> 0 | C45: =October!C45 -> 0 | G45: =December!G45 -> 1 | H45: 0 | I45: 0 | J45: =December!J45+H45 -> 0 | K45: =I45*G45+December!K45 -> 0
A46: =December!A46 -> 0 | C46: =October!C46 -> 0 | G46: =December!G46 -> 1 | H46: 0 | I46: 0 | J46: =December!J46+H46 -> 0 | K46: =I46*G46+December!K46 -> 0
A47: =December!A47 -> 0 | C47: =October!C47 -> 0 | E47: FALSE | G47: =December!G47 -> 1 | H47: 0 | I47: 0 | J47: =December!J47+H47 -> 0 | K47: =I47*G47+December!K47 -> 0
A48: =December!A48 -> 0 | C48: =October!C48 -> 0 | G48: =December!G48 -> 1 | H48: 0 | I48: 0 | J48: =December!J48+H48 -> 0 | K48: =I48*G48+December!K48 -> 0
A49: =December!A49 -> 0 | C49: =October!C49 -> 0 | G49: =December!G49 -> 1 | H49: 0 | I49: 0 | J49: =December!J49+H49 -> 0 | K49: =I49*G49+December!K49 -> 0
A50: =December!A50 -> 0 | C50: =October!C50 -> 0 | G50: =December!G50 -> 1 | H50: 0 | I50: 0 | J50: =December!J50+H50 -> 0 | K50: =I50*G50+December!K50 -> 0
A51: =December!A51 -> 0 | C51: =October!C51 -> 0 | G51: =December!G51 -> 1 | H51: 0 | I51: 0 | J51: =December!J51+H51 -> 0 | K51: =I51*G51+December!K51 -> 0
A52: =December!A52 -> 0 | C52: =October!C52 -> 0 | G52: =December!G52 -> 1 | H52: 0 | I52: 0 | J52: =December!J52+H52 -> 0 | K52: =I52*G52+December!K52 -> 0
A53: =December!A53 -> 0 | C53: =October!C53 -> 0 | G53: =December!G53 -> 1 | H53: 0 | I53: 0 | J53: =December!J53+H53 -> 0 | K53: =I53*G53+December!K53 -> 0
A54: =December!A54 -> 0 | C54: =October!C54 -> 0 | G54: =December!G54 -> 1 | H54: 0 | I54: 0 | J54: =December!J54+H54 -> 0 | K54: =I54*G54+December!K54 -> 0
A55: =December!A55 -> 0 | C55: =October!C55 -> 0 | G55: =December!G55 -> 1 | H55: 0 | I55: 0 | J55: =December!J55+H55 -> 0 | K55: =I55*G55+December!K55 -> 0
A56: =December!A56 -> 0 | C56: =October!C56 -> 0 | G56: =December!G56 -> 1 | H56: 0 | I56: 0 | J56: =December!J56+H56 -> 0 | K56: =I56*G56+December!K56 -> 0
A57: =December!A57 -> 0 | C57: =October!C57 -> 0 | F57: FALSE | G57: =December!G57 -> 1 | H57: 0 | I57: 0 | J57: =December!J57+H57 -> 0 | K57: =I57*G57+December!K57 -> 0
A58: =December!A58 -> 0 | C58: =October!C58 -> 0 | G58: =December!G58 -> 1 | H58: 0 | I58: 0 | J58: =December!J58+H58 -> 0 | K58: =I58*G58+December!K58 -> 0
A59: =December!A59 -> 0 | C59: =October!C59 -> 0 | G59: =December!G59 -> 1 | H59: 0 | I59: 0 | J59: =December!J59+H59 -> 0 | K59: =I59*G59+December!K59 -> 0
A60: =December!A60 -> 0 | C60: =October!C60 -> 0 | G60: =December!G60 -> 1 | H60: 0 | I60: 0 | J60: =December!J60+H60 -> 0 | K60: =I60*G60+December!K60 -> 0
A61: =December!A61 -> 0 | C61: =October!C61 -> 0 | G61: =December!G61 -> 1 | H61: 0 | I61: 0 | J61: =December!J61+H61 -> 0 | K61: =I61*G61+December!K61 -> 0
A62: =December!A62 -> 0 | C62: =October!C62 -> 0 | G62: =December!G62 -> 1 | H62: 0 | I62: 0 | J62: =December!J62+H62 -> 0 | K62: =I62*G62+December!K62 -> 0
A63: =December!A63 -> 0 | C63: =October!C63 -> 0 | G63: =December!G63 -> 1 | H63: 0 | I63: 0 | J63: =December!J63+H63 -> 0 | K63: =I63*G63+December!K63 -> 0
A64: =December!A64 -> 0 | C64: =October!C64 -> 0 | G64: =December!G64 -> 1 | H64: 0 | I64: 0 | J64: =December!J64+H64 -> 0 | K64: =I64*G64+December!K64 -> 0
A65: =December!A65 -> 0 | C65: =October!C65 -> 0 | G65: =December!G65 -> 1 | H65: 0 | I65: 0 | J65: =December!J65+H65 -> 0 | K65: =I65*G65+December!K65 -> 0
A66: =December!A66 -> 0 | C66: =October!C66 -> 0 | G66: =December!G66 -> 1 | H66: 0 | I66: 0 | J66: =December!J66+H66 -> 0 | K66: =I66*G66+December!K66 -> 0
A67: =December!A67 -> 0 | C67: =October!C67 -> 0 | E67: FALSE | F67: FALSE | G67: =December!G67 -> 1 | H67: 0 | I67: 0 | J67: =December!J67+H67 -> 0 | K67: =I67*G67+December!K67 -> 0
A68: =December!A68 -> 0 | C68: =October!C68 -> 0 | E68: FALSE | F68: FALSE | G68: =December!G68 -> 1 | H68: 0 | I68: 0 | J68: =December!J68+H68 -> 0 | K68: =I68*G68+December!K68 -> 0
A69: =December!A69 -> 0 | C69: =October!C69 -> 0 | E69: FALSE | F69: FALSE | G69: =December!G69 -> 1 | H69: 0 | I69: 0 | J69: =December!J69+H69 -> 0 | K69: =I69*G69+December!K69 -> 0
A70: =December!A70 -> 0 | C70: =October!C70 -> 0 | E70: FALSE | F70: FALSE | G70: =December!G70 -> 1 | H70: 0 | I70: 0 | J70: =December!J70+H70 -> 0 | K70: =I70*G70+December!K70 -> 0
A71: =December!A71 -> 0 | C71: =October!C71 -> 0 | E71: FALSE | F71: FALSE | G71: =December!G71 -> 1 | H71: 0 | I71: 0 | J71: =December!J71+H71 -> 0 | K71: =I71*G71+December!K71 -> 0
A72: =December!A72 -> 0 | C72: =October!C72 -> 0 | E72: FALSE | F72: FALSE | G72: =December!G72 -> 1 | H72: 0 | I72: 0 | J72: =December!J72+H72 -> 0 | K72: =I72*G72+December!K72 -> 0
A73: =December!A73 -> 0 | C73: =October!C73 -> 0 | E73: FALSE | F73: FALSE | G73: =December!G73 -> 1 | H73: 0 | I73: 0 | J73: =December!J73+H73 -> 0 | K73: =I73*G73+December!K73 -> 0
A75: FDACS-13652 Rev 07/13 | I75: Director Signature | K75: Date

Sheet February
B1: Florida Department of Agriculture and Consumer Services
B2: Division of Agricultural Environmental Services
B4: MOSQUITO CONTROL MONTHLY ACTIVITY REPORT
B6: Rule 5E-13.022, F.A.C.
B7: Telephone: (850) 617-7911; FAX (850) 617-7939
A9: COUNTY OR DISTRICT: | B9: =January!B9 -> 0 | I9: MONTH: February | J9: FISCAL: | K9: =October!K9 -> 2018 - 2019
A10: CHEMICAL ADULTICIDE | C10: T | D10: U | E10: G | F10: A | G10: MIX RATIO | H10: ACRES | I10: TOTAL | J10: ACRES | K10: TOTAL
A11: * Show Chemical NAME | C11: H | D11: L | E11: R | F11: I | G11: OR | H11: TREATED | I11: OUTPUT | J11: TREATED | K11: OUTPUT
A12: * % of Active Ingredient (a.i.) | C12: R | D12: V | E12: N | F12: R | G12: FORMULA | H12: MONTHLY | I12: MONTHLY | J12: YEARLY | K12: YEARLY
A13: * EPA Number | C13: M | E13: D | G13: (see Calculation tab) | I13: Gallons | K13: Gallons
A14: =January!A14 -> 0 | C14: FALSE | G14: =January!G14 -> 1 | H14: 0 | I14: 0 | J14: =January!J14+H14 -> 0 | K14: =I14*G14+January!K14 -> 0
A15: =January!A15 -> 0 | G15: =January!G15 -> 1 | H15: 0 | I15: 0 | J15: =January!J15+H15 -> 0 | K15: =I15*G15+January!K15 -> 0
A16: =January!A16 -> 0 | G16: =January!G16 -> 1 | H16: 0 | I16: 0 | J16: =January!J16+H16 -> 0 | K16: =I16*G16+January!K16 -> 0
A17: =January!A17 -> 0 | G17: =January!G17 -> 1 | H17: 0 | I17: 0 | J17: =January!J17+H17 -> 0 | K17: =I17*G17+January!K17 -> 0
A18: =January!A18 -> 0 | G18: =January!G18 -> 1 | H18: 0 | I18: 0 | J18: =January!J18+H18 -> 0 | K18: =I18*G18+January!K18 -> 0
A19: =January!A19 -> 0 | G19: =January!G19 -> 1 | H19: 0 | I19: 0 | J19: =January!J19+H19 -> 0 | K19: =I19*G19+January!K19 -> 0
A20: =January!A20 -> 0 | G20: =January!G20 -> 1 | H20: 0 | I20: 0 | J20: =January!J20+H20 -> 0 | K20: =I20*G20+January!K20 -> 0
A21: =January!A21 -> 0 | C21: FALSE | G21: =January!G21 -> 1 | H21: 0 | I21: 0 | J21: =January!J21+H21 -> 0 | K21: =I21*G21+January!K21 -> 0
A22: =January!A22 -> 0 | G22: =January!G22 -> 1 | H22: 0 | I22: 0 | J22: =January!J22+H22 -> 0 | K22: =I22*G22+January!K22 -> 0
A23: =January!A23 -> 0 | G23: =January!G23 -> 1 | H23: 0 | I23: 0 | J23: =January!J23+H23 -> 0 | K23: =I23*G23+January!K23 -> 0
A24: =January!A24 -> 0 | E24: FALSE | G24: =January!G24 -> 1 | H24: 0 | I24: 0 | J24: =January!J24+H24 -> 0 | K24: =I24*G24+January!K24 -> 0
A25: =January!A25 -> 0 | G25: =January!G25 -> 1 | H25: 0 | I25: 0 | J25: =January!J25+H25 -> 0 | K25: =I25*G25+January!K25 -> 0
A26: =January!A26 -> 0 | G26: =January!G26 -> 1 | H26: 0 | I26: 0 | J26: =January!J26+H26 -> 0 | K26: =I26*G26+January!K26 -> 0
A27: =January!A27 -> 0 | G27: =January!G27 -> 1 | H27: 0 | I27: 0 | J27: =January!J27+H27 -> 0 | K27: =I27*G27+January!K27 -> 0
A28: =January!A28 -> 0 | G28: =January!G28 -> 1 | H28: 0 | I28: 0 | J28: =January!J28+H28 -> 0 | K28: =I28*G28+January!K28 -> 0
A29: =January!A29 -> 0 | G29: =January!G29 -> 1 | H29: 0 | I29: 0 | J29: =January!J29+H29 -> 0 | K29: =I29*G29+January!K29 -> 0
A30: =January!A30 -> 0 | G30: =January!G30 -> 1 | H30: 0 | I30: 0 | J30: =January!J30+H30 -> 0 | K30: =I30*G30+January!K30 -> 0
A31: =January!A31 -> 0 | G31: =January!G31 -> 1 | H31: 0 | I31: 0 | J31: =January!J31+H31 -> 0 | K31: =I31*G31+January!K31 -> 0
A32: =January!A32 -> 0 | G32: =January!G32 -> 1 | H32: 0 | I32: 0 | J32: =January!J32+H32 -> 0 | K32: =I32*G32+January!K32 -> 0
A33: =January!A33 -> 0 | G33: =January!G33 -> 1 | H33: 0 | I33: 0 | J33: =January!J33+H33 -> 0 | K33: =I33*G33+January!K33 -> 0
A34: =January!A34 -> 0 | G34: =January!G34 -> 1 | H34: 0 | I34: 0 | J34: =January!J34+H34 -> 0 | K34: =I34*G34+January!K34 -> 0
A35: =January!A35 -> 0 | G35: =January!G35 -> 1 | H35: 0 | I35: 0 | J35: =January!J35+H35 -> 0 | K35: =I35*G35+January!K35 -> 0
A36: =January!A36 -> 0 | G36: =January!G36 -> 1 | H36: 0 | I36: 0 | J36: =January!J36+H36 -> 0 | K36: =I36*G36+January!K36 -> 0
A37: CHEMICAL LARVICIDE | E37: G | F37: A | G37: MIX RATIO | H37: ACRES | I37: TOTAL | J37: ACRES | K37: TOTAL
A38: * Show Chemical NAME | E38: R | F38: I | G38: OR | H38: TREATED | I38: OUTPUT | J38: TREATED | K38: OUTPUT
A39: * % of Active Ingredient (a.i.) | E39: N | F39: R | G39: FORMULA PER | H39: MONTHLY | I39: MONTHLY | J39: YEARLY | K39: YEARLY
A40: * EPA Number | E40: D | G40: (see Calculation tab) | I40: Gal/lb/Units | K40: Gal/lb
A41: =January!A41 -> 0 | C41: =October!C41 -> 0 | G41: =January!G41 -> 1 | H41: 0 | I41: 0 | J41: =January!J41+H41 -> 0 | K41: =I41*G41+January!K41 -> 0
A42: =January!A42 -> 0 | C42: =October!C42 -> 0 | G42: =January!G42 -> 1 | H42: 0 | I42: 0 | J42: =January!J42+H42 -> 0 | K42: =I42*G42+January!K42 -> 0
A43: =January!A43 -> 0 | C43: =October!C43 -> 0 | G43: =January!G43 -> 1 | H43: 0 | I43: 0 | J43: =January!J43+H43 -> 0 | K43: =I43*G43+January!K43 -> 0
A44: =January!A44 -> 0 | C44: =October!C44 -> 0 | G44: =January!G44 -> 1 | H44: 0 | I44: 0 | J44: =January!J44+H44 -> 0 | K44: =I44*G44+January!K44 -> 0
A45: =January!A45 -> 0 | C45: =October!C45 -> 0 | G45: =January!G45 -> 1 | H45: 0 | I45: 0 | J45: =January!J45+H45 -> 0 | K45: =I45*G45+January!K45 -> 0
A46: =January!A46 -> 0 | C46: =October!C46 -> 0 | G46: =January!G46 -> 1 | H46: 0 | I46: 0 | J46: =January!J46+H46 -> 0 | K46: =I46*G46+January!K46 -> 0
A47: =January!A47 -> 0 | C47: =October!C47 -> 0 | E47: FALSE | G47: =January!G47 -> 1 | H47: 0 | I47: 0 | J47: =January!J47+H47 -> 0 | K47: =I47*G47+January!K47 -> 0
A48: =January!A48 -> 0 | C48: =October!C48 -> 0 | G48: =January!G48 -> 1 | H48: 0 | I48: 0 | J48: =January!J48+H48 -> 0 | K48: =I48*G48+January!K48 -> 0
A49: =January!A49 -> 0 | C49: =October!C49 -> 0 | G49: =January!G49 -> 1 | H49: 0 | I49: 0 | J49: =January!J49+H49 -> 0 | K49: =I49*G49+January!K49 -> 0
A50: =January!A50 -> 0 | C50: =October!C50 -> 0 | G50: =January!G50 -> 1 | H50: 0 | I50: 0 | J50: =January!J50+H50 -> 0 | K50: =I50*G50+January!K50 -> 0
A51: =January!A51 -> 0 | C51: =October!C51 -> 0 | G51: =January!G51 -> 1 | H51: 0 | I51: 0 | J51: =January!J51+H51 -> 0 | K51: =I51*G51+January!K51 -> 0
A52: =January!A52 -> 0 | C52: =October!C52 -> 0 | G52: =January!G52 -> 1 | H52: 0 | I52: 0 | J52: =January!J52+H52 -> 0 | K52: =I52*G52+January!K52 -> 0
A53: =January!A53 -> 0 | C53: =October!C53 -> 0 | G53: =January!G53 -> 1 | H53: 0 | I53: 0 | J53: =January!J53+H53 -> 0 | K53: =I53*G53+January!K53 -> 0
A54: =January!A54 -> 0 | C54: =October!C54 -> 0 | G54: =January!G54 -> 1 | H54: 0 | I54: 0 | J54: =January!J54+H54 -> 0 | K54: =I54*G54+January!K54 -> 0
A55: =January!A55 -> 0 | C55: =October!C55 -> 0 | G55: =January!G55 -> 1 | H55: 0 | I55: 0 | J55: =January!J55+H55 -> 0 | K55: =I55*G55+January!K55 -> 0
A56: =January!A56 -> 0 | C56: =October!C56 -> 0 | G56: =January!G56 -> 1 | H56: 0 | I56: 0 | J56: =January!J56+H56 -> 0 | K56: =I56*G56+January!K56 -> 0
A57: =January!A57 -> 0 | C57: =October!C57 -> 0 | F57: FALSE | G57: =January!G57 -> 1 | H57: 0 | I57: 0 | J57: =January!J57+H57 -> 0 | K57: =I57*G57+January!K57 -> 0
A58: =January!A58 -> 0 | C58: =October!C58 -> 0 | G58: =January!G58 -> 1 | H58: 0 | I58: 0 | J58: =January!J58+H58 -> 0 | K58: =I58*G58+January!K58 -> 0
A59: =January!A59 -> 0 | C59: =October!C59 -> 0 | G59: =January!G59 -> 1 | H59: 0 | I59: 0 | J59: =January!J59+H59 -> 0 | K59: =I59*G59+January!K59 -> 0
A60: =January!A60 -> 0 | C60: =October!C60 -> 0 | G60: =January!G60 -> 1 | H60: 0 | I60: 0 | J60: =January!J60+H60 -> 0 | K60: =I60*G60+January!K60 -> 0
A61: =January!A61 -> 0 | C61: =October!C61 -> 0 | G61: =January!G61 -> 1 | H61: 0 | I61: 0 | J61: =January!J61+H61 -> 0 | K61: =I61*G61+January!K61 -> 0
A62: =January!A62 -> 0 | C62: =October!C62 -> 0 | G62: =January!G62 -> 1 | H62: 0 | I62: 0 | J62: =January!J62+H62 -> 0 | K62: =I62*G62+January!K62 -> 0
A63: =January!A63 -> 0 | C63: =October!C63 -> 0 | G63: =January!G63 -> 1 | H63: 0 | I63: 0 | J63: =January!J63+H63 -> 0 | K63: =I63*G63+January!K63 -> 0
A64: =January!A64 -> 0 | C64: =October!C64 -> 0 | G64: =January!G64 -> 1 | H64: 0 | I64: 0 | J64: =January!J64+H64 -> 0 | K64: =I64*G64+January!K64 -> 0
A65: =January!A65 -> 0 | C65: =October!C65 -> 0 | G65: =January!G65 -> 1 | H65: 0 | I65: 0 | J65: =January!J65+H65 -> 0 | K65: =I65*G65+January!K65 -> 0
A66: =January!A66 -> 0 | C66: =October!C66 -> 0 | G66: =January!G66 -> 1 | H66: 0 | I66: 0 | J66: =January!J66+H66 -> 0 | K66: =I66*G66+January!K66 -> 0
A67: =January!A67 -> 0 | C67: =October!C67 -> 0 | E67: FALSE | F67: FALSE | G67: =January!G67 -> 1 | H67: 0 | I67: 0 | J67: =January!J67+H67 -> 0 | K67: =I67*G67+January!K67 -> 0
A68: =January!A68 -> 0 | C68: =October!C68 -> 0 | E68: FALSE | F68: FALSE | G68: =January!G68 -> 1 | H68: 0 | I68: 0 | J68: =January!J68+H68 -> 0 | K68: =I68*G68+January!K68 -> 0
A69: =January!A69 -> 0 | C69: =October!C69 -> 0 | E69: FALSE | F69: FALSE | G69: =January!G69 -> 1 | H69: 0 | I69: 0 | J69: =January!J69+H69 -> 0 | K69: =I69*G69+January!K69 -> 0
A70: =January!A70 -> 0 | C70: =October!C70 -> 0 | E70: FALSE | F70: FALSE | G70: =January!G70 -> 1 | H70: 0 | I70: 0 | J70: =January!J70+H70 -> 0 | K70: =I70*G70+January!K70 -> 0
A71: =January!A71 -> 0 | C71: =October!C71 -> 0 | E71: FALSE | F71: FALSE | G71: =January!G71 -> 1 | H71: 0 | I71: 0 | J71: =January!J71+H71 -> 0 | K71: =I71*G71+January!K71 -> 0
A72: =January!A72 -> 0 | C72: =October!C72 -> 0 | E72: FALSE | F72: FALSE | G72: =January!G72 -> 1 | H72: 0 | I72: 0 | J72: =January!J72+H72 -> 0 | K72: =I72*G72+January!K72 -> 0
A73: =January!A73 -> 0 | C73: =October!C73 -> 0 | E73: FALSE | F73: FALSE | G73: =January!G73 -> 1 | H73: 0 | I73: 0 | J73: =January!J73+H73 -> 0 | K73: =I73*G73+January!K73 -> 0
A75: FDACS-13652 Rev 07/13 | I75: Director Signature | K75: Date

Sheet March
B1: Florida Department of Agriculture and Consumer Services
B2: Division of Agricultural Environmental Services
B4: MOSQUITO CONTROL MONTHLY ACTIVITY REPORT
B6: Rule 5E-13.022, F.A.C.
B7: Telephone: (850) 617-7911; FAX (850) 617-7939
A9: COUNTY OR DISTRICT: | B9: =February!B9 -> 0 | I9: MONTH: March | J9: FISCAL: | K9: =October!K9 -> 2018 - 2019
A10: CHEMICAL ADULTICIDE | C10: T | D10: U | E10: G | F10: A | G10: MIX RATIO | H10: ACRES | I10: TOTAL | J10: ACRES | K10: TOTAL
A11: * Show Chemical NAME | C11: H | D11: L | E11: R | F11: I | G11: OR | H11: TREATED | I11: OUTPUT | J11: TREATED | K11: OUTPUT
A12: * % of Active Ingredient (a.i.) | C12: R | D12: V | E12: N | F12: R | G12: FORMULA | H12: MONTHLY | I12: MONTHLY | J12: YEARLY | K12: YEARLY
A13: * EPA Number | C13: M | E13: D | G13: (see Calculation tab) | I13: Gallons | K13: Gallons
A14: =February!A14 -> 0 | C14: FALSE | G14: =February!G14 -> 1 | H14: 0 | I14: 0 | J14: =February!J14+H14 -> 0 | K14: =I14*G14+February!K14 -> 0
A15: =February!A15 -> 0 | G15: =February!G15 -> 1 | H15: 0 | I15: 0 | J15: =February!J15+H15 -> 0 | K15: =I15*G15+February!K15 -> 0
A16: =February!A16 -> 0 | G16: =February!G16 -> 1 | H16: 0 | I16: 0 | J16: =February!J16+H16 -> 0 | K16: =I16*G16+February!K16 -> 0
A17: =February!A17 -> 0 | G17: =February!G17 -> 1 | H17: 0 | I17: 0 | J17: =February!J17+H17 -> 0 | K17: =I17*G17+February!K17 -> 0
A18: =February!A18 -> 0 | G18: =February!G18 -> 1 | H18: 0 | I18: 0 | J18: =February!J18+H18 -> 0 | K18: =I18*G18+February!K18 -> 0
A19: =February!A19 -> 0 | G19: =February!G19 -> 1 | H19: 0 | I19: 0 | J19: =February!J19+H19 -> 0 | K19: =I19*G19+February!K19 -> 0
A20: =February!A20 -> 0 | G20: =February!G20 -> 1 | H20: 0 | I20: 0 | J20: =February!J20+H20 -> 0 | K20: =I20*G20+February!K20 -> 0
A21: =February!A21 -> 0 | C21: FALSE | G21: =February!G21 -> 1 | H21: 0 | I21: 0 | J21: =February!J21+H21 -> 0 | K21: =I21*G21+February!K21 -> 0
A22: =February!A22 -> 0 | G22: =February!G22 -> 1 | H22: 0 | I22: 0 | J22: =February!J22+H22 -> 0 | K22: =I22*G22+February!K22 -> 0
A23: =February!A23 -> 0 | G23: =February!G23 -> 1 | H23: 0 | I23: 0 | J23: =February!J23+H23 -> 0 | K23: =I23*G23+February!K23 -> 0
A24: =February!A24 -> 0 | E24: FALSE | G24: =February!G24 -> 1 | H24: 0 | I24: 0 | J24: =February!J24+H24 -> 0 | K24: =I24*G24+February!K24 -> 0
A25: =February!A25 -> 0 | G25: =February!G25 -> 1 | H25: 0 | I25: 0 | J25: =February!J25+H25 -> 0 | K25: =I25*G25+February!K25 -> 0
A26: =February!A26 -> 0 | G26: =February!G26 -> 1 | H26: 0 | I26: 0 | J26: =February!J26+H26 -> 0 | K26: =I26*G26+February!K26 -> 0
A27: =February!A27 -> 0 | G27: =February!G27 -> 1 | H27: 0 | I27: 0 | J27: =February!J27+H27 -> 0 | K27: =I27*G27+February!K27 -> 0
A28: =February!A28 -> 0 | G28: =February!G28 -> 1 | H28: 0 | I28: 0 | J28: =February!J28+H28 -> 0 | K28: =I28*G28+February!K28 -> 0
A29: =February!A29 -> 0 | G29: =February!G29 -> 1 | H29: 0 | I29: 0 | J29: =February!J29+H29 -> 0 | K29: =I29*G29+February!K29 -> 0
A30: =February!A30 -> 0 | G30: =February!G30 -> 1 | H30: 0 | I30: 0 | J30: =February!J30+H30 -> 0 | K30: =I30*G30+February!K30 -> 0
A31: =February!A31 -> 0 | G31: =February!G31 -> 1 | H31: 0 | I31: 0 | J31: =February!J31+H31 -> 0 | K31: =I31*G31+February!K31 -> 0
A32: =February!A32 -> 0 | G32: =February!G32 -> 1 | H32: 0 | I32: 0 | J32: =February!J32+H32 -> 0 | K32: =I32*G32+February!K32 -> 0
A33: =February!A33 -> 0 | G33: =February!G33 -> 1 | H33: 0 | I33: 0 | J33: =February!J33+H33 -> 0 | K33: =I33*G33+February!K33 -> 0
A34: =February!A34 -> 0 | G34: =February!G34 -> 1 | H34: 0 | I34: 0 | J34: =February!J34+H34 -> 0 | K34: =I34*G34+February!K34 -> 0
A35: =February!A35 -> 0 | G35: =February!G35 -> 1 | H35: 0 | I35: 0 | J35: =February!J35+H35 -> 0 | K35: =I35*G35+February!K35 -> 0
A36: =February!A36 -> 0 | G36: =February!G36 -> 1 | H36: 0 | I36: 0 | J36: =February!J36+H36 -> 0 | K36: =I36*G36+February!K36 -> 0
A37: CHEMICAL LARVICIDE | E37: G | F37: A | G37: MIX RATIO | H37: ACRES | I37: TOTAL | J37: ACRES | K37: TOTAL
A38: * Show Chemical NAME | E38: R | F38: I | G38: OR | H38: TREATED | I38: OUTPUT | J38: TREATED | K38: OUTPUT
A39: * % of Active Ingredient (a.i.) | E39: N | F39: R | G39: FORMULA PER | H39: MONTHLY | I39: MONTHLY | J39: YEARLY | K39: YEARLY
A40: * EPA Number | E40: D | G40: (see Calculation tab) | I40: Gal/lb/Units | K40: Gal/lb
A41: =February!A41 -> 0 | C41: =October!C41 -> 0 | G41: =February!G41 -> 1 | H41: 0 | I41: 0 | J41: =February!J41+H41 -> 0 | K41: =I41*G41+February!K41 -> 0
A42: =February!A42 -> 0 | C42: =October!C42 -> 0 | G42: =February!G42 -> 1 | H42: 0 | I42: 0 | J42: =February!J42+H42 -> 0 | K42: =I42*G42+February!K42 -> 0
A43: =February!A43 -> 0 | C43: =October!C43 -> 0 | G43: =February!G43 -> 1 | H43: 0 | I43: 0 | J43: =February!J43+H43 -> 0 | K43: =I43*G43+February!K43 -> 0
A44: =February!A44 -> 0 | C44: =October!C44 -> 0 | G44: =February!G44 -> 1 | H44: 0 | I44: 0 | J44: =February!J44+H44 -> 0 | K44: =I44*G44+February!K44 -> 0
A45: =February!A45 -> 0 | C45: =October!C45 -> 0 | G45: =February!G45 -> 1 | H45: 0 | I45: 0 | J45: =February!J45+H45 -> 0 | K45: =I45*G45+February!K45 -> 0
A46: =February!A46 -> 0 | C46: =October!C46 -> 0 | G46: =February!G46 -> 1 | H46: 0 | I46: 0 | J46: =February!J46+H46 -> 0 | K46: =I46*G46+February!K46 -> 0
A47: =February!A47 -> 0 | C47: =October!C47 -> 0 | E47: FALSE | G47: =February!G47 -> 1 | H47: 0 | I47: 0 | J47: =February!J47+H47 -> 0 | K47: =I47*G47+February!K47 -> 0
A48: =February!A48 -> 0 | C48: =October!C48 -> 0 | G48: =February!G48 -> 1 | H48: 0 | I48: 0 | J48: =February!J48+H48 -> 0 | K48: =I48*G48+February!K48 -> 0
A49: =February!A49 -> 0 | C49: =October!C49 -> 0 | G49: =February!G49 -> 1 | H49: 0 | I49: 0 | J49: =February!J49+H49 -> 0 | K49: =I49*G49+February!K49 -> 0
A50: =February!A50 -> 0 | C50: =October!C50 -> 0 | G50: =February!G50 -> 1 | H50: 0 | I50: 0 | J50: =February!J50+H50 -> 0 | K50: =I50*G50+February!K50 -> 0
A51: =February!A51 -> 0 | C51: =October!C51 -> 0 | G51: =February!G51 -> 1 | H51: 0 | I51: 0 | J51: =February!J51+H51 -> 0 | K51: =I51*G51+February!K51 -> 0
A52: =February!A52 -> 0 | C52: =October!C52 -> 0 | G52: =February!G52 -> 1 | H52: 0 | I52: 0 | J52: =February!J52+H52 -> 0 | K52: =I52*G52+February!K52 -> 0
A53: =February!A53 -> 0 | C53: =October!C53 -> 0 | G53: =February!G53 -> 1 | H53: 0 | I53: 0 | J53: =February!J53+H53 -> 0 | K53: =I53*G53+February!K53 -> 0
A54: =February!A54 -> 0 | C54: =October!C54 -> 0 | G54: =February!G54 -> 1 | H54: 0 | I54: 0 | J54: =February!J54+H54 -> 0 | K54: =I54*G54+February!K54 -> 0
A55: =February!A55 -> 0 | C55: =October!C55 -> 0 | G55: =February!G55 -> 1 | H55: 0 | I55: 0 | J55: =February!J55+H55 -> 0 | K55: =I55*G55+February!K55 -> 0
A56: =February!A56 -> 0 | C56: =October!C56 -> 0 | G56: =February!G56 -> 1 | H56: 0 | I56: 0 | J56: =February!J56+H56 -> 0 | K56: =I56*G56+February!K56 -> 0
A57: =February!A57 -> 0 | C57: =October!C57 -> 0 | F57: FALSE | G57: =February!G57 -> 1 | H57: 0 | I57: 0 | J57: =February!J57+H57 -> 0 | K57: =I57*G57+February!K57 -> 0
A58: =February!A58 -> 0 | C58: =October!C58 -> 0 | G58: =February!G58 -> 1 | H58: 0 | I58: 0 | J58: =February!J58+H58 -> 0 | K58: =I58*G58+February!K58 -> 0
A59: =February!A59 -> 0 | C59: =October!C59 -> 0 | G59: =February!G59 -> 1 | H59: 0 | I59: 0 | J59: =February!J59+H59 -> 0 | K59: =I59*G59+February!K59 -> 0
A60: =February!A60 -> 0 | C60: =October!C60 -> 0 | G60: =February!G60 -> 1 | H60: 0 | I60: 0 | J60: =February!J60+H60 -> 0 | K60: =I60*G60+February!K60 -> 0
A61: =February!A61 -> 0 | C61: =October!C61 -> 0 | G61: =February!G61 -> 1 | H61: 0 | I61: 0 | J61: =February!J61+H61 -> 0 | K61: =I61*G61+February!K61 -> 0
A62: =February!A62 -> 0 | C62: =October!C62 -> 0 | G62: =February!G62 -> 1 | H62: 0 | I62: 0 | J62: =February!J62+H62 -> 0 | K62: =I62*G62+February!K62 -> 0
A63: =February!A63 -> 0 | C63: =October!C63 -> 0 | G63: =February!G63 -> 1 | H63: 0 | I63: 0 | J63: =February!J63+H63 -> 0 | K63: =I63*G63+February!K63 -> 0
A64: =February!A64 -> 0 | C64: =October!C64 -> 0 | G64: =February!G64 -> 1 | H64: 0 | I64: 0 | J64: =February!J64+H64 -> 0 | K64: =I64*G64+February!K64 -> 0
A65: =February!A65 -> 0 | C65: =October!C65 -> 0 | G65: =February!G65 -> 1 | H65: 0 | I65: 0 | J65: =February!J65+H65 -> 0 | K65: =I65*G65+February!K65 -> 0
A66: =February!A66 -> 0 | C66: =October!C66 -> 0 | G66: =February!G66 -> 1 | H66: 0 | I66: 0 | J66: =February!J66+H66 -> 0 | K66: =I66*G66+February!K66 -> 0
A67: =February!A67 -> 0 | C67: =October!C67 -> 0 | E67: FALSE | F67: FALSE | G67: =February!G67 -> 1 | H67: 0 | I67: 0 | J67: =February!J67+H67 -> 0 | K67: =I67*G67+February!K67 -> 0
A68: =February!A68 -> 0 | C68: =October!C68 -> 0 | E68: FALSE | F68: FALSE | G68: =February!G68 -> 1 | H68: 0 | I68: 0 | J68: =February!J68+H68 -> 0 | K68: =I68*G68+February!K68 -> 0
A69: =February!A69 -> 0 | C69: =October!C69 -> 0 | E69: FALSE | F69: FALSE | G69: =February!G69 -> 1 | H69: 0 | I69: 0 | J69: =February!J69+H69 -> 0 | K69: =I69*G69+February!K69 -> 0
A70: =February!A70 -> 0 | C70: =October!C70 -> 0 | E70: FALSE | F70: FALSE | G70: =February!G70 -> 1 | H70: 0 | I70: 0 | J70: =February!J70+H70 -> 0 | K70: =I70*G70+February!K70 -> 0
A71: =February!A71 -> 0 | C71: =October!C71 -> 0 | E71: FALSE | F71: FALSE | G71: =February!G71 -> 1 | H71: 0 | I71: 0 | J71: =February!J71+H71 -> 0 | K71: =I71*G71+February!K71 -> 0
A72: =February!A72 -> 0 | C72: =October!C72 -> 0 | E72: FALSE | F72: FALSE | G72: =February!G72 -> 1 | H72: 0 | I72: 0 | J72: =February!J72+H72 -> 0 | K72: =I72*G72+February!K72 -> 0
A73: =February!A73 -> 0 | C73: =October!C73 -> 0 | E73: FALSE | F73: FALSE | G73: =February!G73 -> 1 | H73: 0 | I73: 0 | J73: =February!J73+H73 -> 0 | K73: =I73*G73+February!K73 -> 0
A75: FDACS-13652 Rev 07/13 | I75: Director Signature | K75: Date

Sheet April
B1: Florida Department of Agriculture and Consumer Services
B2: Division of Agricultural Environmental Services
B4: MOSQUITO CONTROL MONTHLY ACTIVITY REPORT
B6: Rule 5E-13.022, F.A.C.
B7: Telephone: (850) 617-7911; FAX (850) 617-7939
A9: COUNTY OR DISTRICT: | B9: =March!B9 -> 0 | I9: MONTH: April | J9: FISCAL: | K9: =October!K9 -> 2018 - 2019
A10: CHEMICAL ADULTICIDE | C10: T | D10: U | E10: G | F10: A | G10: MIX RATIO | H10: ACRES | I10: TOTAL | J10: ACRES | K10: TOTAL
A11: * Show Chemical NAME | C11: H | D11: L | E11: R | F11: I | G11: OR | H11: TREATED | I11: OUTPUT | J11: TREATED | K11: OUTPUT
A12: * % of Active Ingredient (a.i.) | C12: R | D12: V | E12: N | F12: R | G12: FORMULA | H12: MONTHLY | I12: MONTHLY | J12: YEARLY | K12: YEARLY
A13: * EPA Number | C13: M | E13: D | G13: (see Calculation tab) | I13: Gallons | K13: Gallons
A14: =March!A14 -> 0 | C14: FALSE | G14: =March!G14 -> 1 | H14: 0 | I14: 0 | J14: =March!J14+H14 -> 0 | K14: =I14*G14+March!K14 -> 0
A15: =March!A15 -> 0 | G15: =March!G15 -> 1 | H15: 0 | I15: 0 | J15: =March!J15+H15 -> 0 | K15: =I15*G15+March!K15 -> 0
A16: =March!A16 -> 0 | G16: =March!G16 -> 1 | H16: 0 | I16: 0 | J16: =March!J16+H16 -> 0 | K16: =I16*G16+March!K16 -> 0
A17: =March!A17 -> 0 | G17: =March!G17 -> 1 | H17: 0 | I17: 0 | J17: =March!J17+H17 -> 0 | K17: =I17*G17+March!K17 -> 0
A18: =March!A18 -> 0 | G18: =March!G18 -> 1 | H18: 0 | I18: 0 | J18: =March!J18+H18 -> 0 | K18: =I18*G18+March!K18 -> 0
A19: =March!A19 -> 0 | G19: =March!G19 -> 1 | H19: 0 | I19: 0 | J19: =March!J19+H19 -> 0 | K19: =I19*G19+March!K19 -> 0
A20: =March!A20 -> 0 | G20: =March!G20 -> 1 | H20: 0 | I20: 0 | J20: =March!J20+H20 -> 0 | K20: =I20*G20+March!K20 -> 0
A21: =March!A21 -> 0 | C21: FALSE | G21: =March!G21 -> 1 | H21: 0 | I21: 0 | J21: =March!J21+H21 -> 0 | K21: =I21*G21+March!K21 -> 0
A22: =March!A22 -> 0 | G22: =March!G22 -> 1 | H22: 0 | I22: 0 | J22: =March!J22+H22 -> 0 | K22: =I22*G22+March!K22 -> 0
A23: =March!A23 -> 0 | G23: =March!G23 -> 1 | H23: 0 | I23: 0 | J23: =March!J23+H23 -> 0 | K23: =I23*G23+March!K23 -> 0
A24: =March!A24 -> 0 | E24: FALSE | G24: =March!G24 -> 1 | H24: 0 | I24: 0 | J24: =March!J24+H24 -> 0 | K24: =I24*G24+March!K24 -> 0
A25: =March!A25 -> 0 | G25: =March!G25 -> 1 | H25: 0 | I25: 0 | J25: =March!J25+H25 -> 0 | K25: =I25*G25+March!K25 -> 0
A26: =March!A26 -> 0 | G26: =March!G26 -> 1 | H26: 0 | I26: 0 | J26: =March!J26+H26 -> 0 | K26: =I26*G26+March!K26 -> 0
A27: =March!A27 -> 0 | G27: =March!G27 -> 1 | H27: 0 | I27: 0 | J27: =March!J27+H27 -> 0 | K27: =I27*G27+March!K27 -> 0
A28: =March!A28 -> 0 | G28: =March!G28 -> 1 | H28: 0 | I28: 0 | J28: =March!J28+H28 -> 0 | K28: =I28*G28+March!K28 -> 0
A29: =March!A29 -> 0 | G29: =March!G29 -> 1 | H29: 0 | I29: 0 | J29: =March!J29+H29 -> 0 | K29: =I29*G29+March!K29 -> 0
A30: =March!A30 -> 0 | G30: =March!G30 -> 1 | H30: 0 | I30: 0 | J30: =March!J30+H30 -> 0 | K30: =I30*G30+March!K30 -> 0
A31: =March!A31 -> 0 | G31: =March!G31 -> 1 | H31: 0 | I31: 0 | J31: =March!J31+H31 -> 0 | K31: =I31*G31+March!K31 -> 0
A32: =March!A32 -> 0 | G32: =March!G32 -> 1 | H32: 0 | I32: 0 | J32: =March!J32+H32 -> 0 | K32: =I32*G32+March!K32 -> 0
A33: =March!A33 -> 0 | G33: =March!G33 -> 1 | H33: 0 | I33: 0 | J33: =March!J33+H33 -> 0 | K33: =I33*G33+March!K33 -> 0
A34: =March!A34 -> 0 | G34: =March!G34 -> 1 | H34: 0 | I34: 0 | J34: =March!J34+H34 -> 0 | K34: =I34*G34+March!K34 -> 0
A35: =March!A35 -> 0 | G35: =March!G35 -> 1 | H35: 0 | I35: 0 | J35: =March!J35+H35 -> 0 | K35: =I35*G35+March!K35 -> 0
A36: =March!A36 -> 0 | G36: =March!G36 -> 1 | H36: 0 | I36: 0 | J36: =March!J36+H36 -> 0 | K36: =I36*G36+March!K36 -> 0
A37: CHEMICAL LARVICIDE | E37: G | F37: A | G37: MIX RATIO | H37: ACRES | I37: TOTAL | J37: ACRES | K37: TOTAL
A38: * Show Chemical NAME | E38: R | F38: I | G38: OR | H38: TREATED | I38: OUTPUT | J38: TREATED | K38: OUTPUT
A39: * % of Active Ingredient (a.i.) | E39: N | F39: R | G39: FORMULA PER | H39: MONTHLY | I39: MONTHLY | J39: YEARLY | K39: YEARLY
A40: * EPA Number | E40: D | G40: (see Calculation tab) | I40: Gal/lb/Units | K40: Gal/lb
A41: =March!A41 -> 0 | C41: =October!C41 -> 0 | G41: =March!G41 -> 1 | H41: 0 | I41: 0 | J41: =March!J41+H41 -> 0 | K41: =I41*G41+March!K41 -> 0
A42: =March!A42 -> 0 | C42: =October!C42 -> 0 | G42: =March!G42 -> 1 | H42: 0 | I42: 0 | J42: =March!J42+H42 -> 0 | K42: =I42*G42+March!K42 -> 0
A43: =March!A43 -> 0 | C43: =October!C43 -> 0 | G43: =March!G43 -> 1 | H43: 0 | I43: 0 | J43: =March!J43+H43 -> 0 | K43: =I43*G43+March!K43 -> 0
A44: =March!A44 -> 0 | C44: =October!C44 -> 0 | G44: =March!G44 -> 1 | H44: 0 | I44: 0 | J44: =March!J44+H44 -> 0 | K44: =I44*G44+March!K44 -> 0
A45: =March!A45 -> 0 | C45: =October!C45 -> 0 | G45: =March!G45 -> 1 | H45: 0 | I45: 0 | J45: =March!J45+H45 -> 0 | K45: =I45*G45+March!K45 -> 0
A46: =March!A46 -> 0 | C46: =October!C46 -> 0 | G46: =March!G46 -> 1 | H46: 0 | I46: 0 | J46: =March!J46+H46 -> 0 | K46: =I46*G46+March!K46 -> 0
A47: =March!A47 -> 0 | C47: =October!C47 -> 0 | E47: FALSE | G47: =March!G47 -> 1 | H47: 0 | I47: 0 | J47: =March!J47+H47 -> 0 | K47: =I47*G47+March!K47 -> 0
A48: =March!A48 -> 0 | C48: =October!C48 -> 0 | G48: =March!G48 -> 1 | H48: 0 | I48: 0 | J48: =March!J48+H48 -> 0 | K48: =I48*G48+March!K48 -> 0
A49: =March!A49 -> 0 | C49: =October!C49 -> 0 | G49: =March!G49 -> 1 | H49: 0 | I49: 0 | J49: =March!J49+H49 -> 0 | K49: =I49*G49+March!K49 -> 0
A50: =March!A50 -> 0 | C50: =October!C50 -> 0 | G50: =March!G50 -> 1 | H50: 0 | I50: 0 | J50: =March!J50+H50 -> 0 | K50: =I50*G50+March!K50 -> 0
A51: =March!A51 -> 0 | C51: =October!C51 -> 0 | G51: =March!G51 -> 1 | H51: 0 | I51: 0 | J51: =March!J51+H51 -> 0 | K51: =I51*G51+March!K51 -> 0
A52: =March!A52 -> 0 | C52: =October!C52 -> 0 | G52: =March!G52 -> 1 | H52: 0 | I52: 0 | J52: =March!J52+H52 -> 0 | K52: =I52*G52+March!K52 -> 0
A53: =March!A53 -> 0 | C53: =October!C53 -> 0 | G53: =March!G53 -> 1 | H53: 0 | I53: 0 | J53: =March!J53+H53 -> 0 | K53: =I53*G53+March!K53 -> 0
A54: =March!A54 -> 0 | C54: =October!C54 -> 0 | G54: =March!G54 -> 1 | H54: 0 | I54: 0 | J54: =March!J54+H54 -> 0 | K54: =I54*G54+March!K54 -> 0
A55: =March!A55 -> 0 | C55: =October!C55 -> 0 | G55: =March!G55 -> 1 | H55: 0 | I55: 0 | J55: =March!J55+H55 -> 0 | K55: =I55*G55+March!K55 -> 0
A56: =March!A56 -> 0 | C56: =October!C56 -> 0 | G56: =March!G56 -> 1 | H56: 0 | I56: 0 | J56: =March!J56+H56 -> 0 | K56: =I56*G56+March!K56 -> 0
A57: =March!A57 -> 0 | C57: =October!C57 -> 0 | F57: FALSE | G57: =March!G57 -> 1 | H57: 0 | I57: 0 | J57: =March!J57+H57 -> 0 | K57: =I57*G57+March!K57 -> 0
A58: =March!A58 -> 0 | C58: =October!C58 -> 0 | G58: =March!G58 -> 1 | H58: 0 | I58: 0 | J58: =March!J58+H58 -> 0 | K58: =I58*G58+March!K58 -> 0
A59: =March!A59 -> 0 | C59: =October!C59 -> 0 | G59: =March!G59 -> 1 | H59: 0 | I59: 0 | J59: =March!J59+H59 -> 0 | K59: =I59*G59+March!K59 -> 0
A60: =March!A60 -> 0 | C60: =October!C60 -> 0 | G60: =March!G60 -> 1 | H60: 0 | I60: 0 | J60: =March!J60+H60 -> 0 | K60: =I60*G60+March!K60 -> 0
A61: =March!A61 -> 0 | C61: =October!C61 -> 0 | G61: =March!G61 -> 1 | H61: 0 | I61: 0 | J61: =March!J61+H61 -> 0 | K61: =I61*G61+March!K61 -> 0
A62: =March!A62 -> 0 | C62: =October!C62 -> 0 | G62: =March!G62 -> 1 | H62: 0 | I62: 0 | J62: =March!J62+H62 -> 0 | K62: =I62*G62+March!K62 -> 0
A63: =March!A63 -> 0 | C63: =October!C63 -> 0 | G63: =March!G63 -> 1 | H63: 0 | I63: 0 | J63: =March!J63+H63 -> 0 | K63: =I63*G63+March!K63 -> 0
A64: =March!A64 -> 0 | C64: =October!C64 -> 0 | G64: =March!G64 -> 1 | H64: 0 | I64: 0 | J64: =March!J64+H64 -> 0 | K64: =I64*G64+March!K64 -> 0
A65: =March!A65 -> 0 | C65: =October!C65 -> 0 | G65: =March!G65 -> 1 | H65: 0 | I65: 0 | J65: =March!J65+H65 -> 0 | K65: =I65*G65+March!K65 -> 0
A66: =March!A66 -> 0 | C66: =October!C66 -> 0 | G66: =March!G66 -> 1 | H66: 0 | I66: 0 | J66: =March!J66+H66 -> 0 | K66: =I66*G66+March!K66 -> 0
A67: =March!A67 -> 0 | C67: =October!C67 -> 0 | E67: FALSE | F67: FALSE | G67: =March!G67 -> 1 | H67: 0 | I67: 0 | J67: =March!J67+H67 -> 0 | K67: =I67*G67+March!K67 -> 0
A68: =March!A68 -> 0 | C68: =October!C68 -> 0 | E68: FALSE | F68: FALSE | G68: =March!G68 -> 1 | H68: 0 | I68: 0 | J68: =March!J68+H68 -> 0 | K68: =I68*G68+March!K68 -> 0
A69: =March!A69 -> 0 | C69: =October!C69 -> 0 | E69: FALSE | F69: FALSE | G69: =March!G69 -> 1 | H69: 0 | I69: 0 | J69: =March!J69+H69 -> 0 | K69: =I69*G69+March!K69 -> 0
A70: =March!A70 -> 0 | C70: =October!C70 -> 0 | E70: FALSE | F70: FALSE | G70: =March!G70 -> 1 | H70: 0 | I70: 0 | J70: =March!J70+H70 -> 0 | K70: =I70*G70+March!K70 -> 0
A71: =March!A71 -> 0 | C71: =October!C71 -> 0 | E71: FALSE | F71: FALSE | G71: =March!G71 -> 1 | H71: 0 | I71: 0 | J71: =March!J71+H71 -> 0 | K71: =I71*G71+March!K71 -> 0
A72: =March!A72 -> 0 | C72: =October!C72 -> 0 | E72: FALSE | F72: FALSE | G72: =March!G72 -> 1 | H72: 0 | I72: 0 | J72: =March!J72+H72 -> 0 | K72: =I72*G72+March!K72 -> 0
A73: =March!A73 -> 0 | C73: =October!C73 -> 0 | E73: FALSE | F73: FALSE | G73: =March!G73 -> 1 | H73: 0 | I73: 0 | J73: =March!J73+H73 -> 0 | K73: =I73*G73+March!K73 -> 0
A75: FDACS-13652 Rev 07/13 | I75: Director Signature | K75: Date

Sheet May
B1: Florida Department of Agriculture and Consumer Services
B2: Division of Agricultural Environmental Services
B4: MOSQUITO CONTROL MONTHLY ACTIVITY REPORT
B6: Rule 5E-13.022, F.A.C.
B7: Telephone: (850) 617-7911; FAX (850) 617-7939
A9: COUNTY OR DISTRICT: | B9: =April!B9 -> 0 | I9: MONTH: May | J9: FISCAL: | K9: =October!K9 -> 2018 - 2019
A10: CHEMICAL ADULTICIDE | C10: T | D10: U | E10: G | F10: A | G10: MIX RATIO | H10: ACRES | I10: TOTAL | J10: ACRES | K10: TOTAL
A11: * Show Chemical NAME | C11: H | D11: L | E11: R | F11: I | G11: OR | H11: TREATED | I11: OUTPUT | J11: TREATED | K11: OUTPUT
A12: * % of Active Ingredient (a.i.) | C12: R | D12: V | E12: N | F12: R | G12: FORMULA | H12: MONTHLY | I12: MONTHLY | J12: YEARLY | K12: YEARLY
A13: * EPA Number | C13: M | E13: D | G13: (see Calculation tab) | I13: Gallons | K13: Gallons
A14: =April!A14 -> 0 | C14: FALSE | G14: =April!G14 -> 1 | H14: 0 | I14: 0 | J14: =April!J14+H14 -> 0 | K14: =I14*G14+April!K14 -> 0
A15: =April!A15 -> 0 | G15: =April!G15 -> 1 | H15: 0 | I15: 0 | J15: =April!J15+H15 -> 0 | K15: =I15*G15+April!K15 -> 0
A16: =April!A16 -> 0 | G16: =April!G16 -> 1 | H16: 0 | I16: 0 | J16: =April!J16+H16 -> 0 | K16: =I16*G16+April!K16 -> 0
A17: =April!A17 -> 0 | G17: =April!G17 -> 1 | H17: 0 | I17: 0 | J17: =April!J17+H17 -> 0 | K17: =I17*G17+April!K17 -> 0
A18: =April!A18 -> 0 | G18: =April!G18 -> 1 | H18: 0 | I18: 0 | J18: =April!J18+H18 -> 0 | K18: =I18*G18+April!K18 -> 0
A19: =April!A19 -> 0 | G19: =April!G19 -> 1 | H19: 0 | I19: 0 | J19: =April!J19+H19 -> 0 | K19: =I19*G19+April!K19 -> 0
A20: =April!A20 -> 0 | G20: =April!G20 -> 1 | H20: 0 | I20: 0 | J20: =April!J20+H20 -> 0 | K20: =I20*G20+April!K20 -> 0
A21: =April!A21 -> 0 | C21: FALSE | G21: =April!G21 -> 1 | H21: 0 | I21: 0 | J21: =April!J21+H21 -> 0 | K21: =I21*G21+April!K21 -> 0
A22: =April!A22 -> 0 | G22: =April!G22 -> 1 | H22: 0 | I22: 0 | J22: =April!J22+H22 -> 0 | K22: =I22*G22+April!K22 -> 0
A23: =April!A23 -> 0 | G23: =April!G23 -> 1 | H23: 0 | I23: 0 | J23: =April!J23+H23 -> 0 | K23: =I23*G23+April!K23 -> 0
A24: =April!A24 -> 0 | E24: FALSE | G24: =April!G24 -> 1 | H24: 0 | I24: 0 | J24: =April!J24+H24 -> 0 | K24: =I24*G24+April!K24 -> 0
A25: =April!A25 -> 0 | G25: =April!G25 -> 1 | H25: 0 | I25: 0 | J25: =April!J25+H25 -> 0 | K25: =I25*G25+April!K25 -> 0
A26: =April!A26 -> 0 | G26: =April!G26 -> 1 | H26: 0 | I26: 0 | J26: =April!J26+H26 -> 0 | K26: =I26*G26+April!K26 -> 0
A27: =April!A27 -> 0 | G27: =April!G27 -> 1 | H27: 0 | I27: 0 | J27: =April!J27+H27 -> 0 | K27: =I27*G27+April!K27 -> 0
A28: =April!A28 -> 0 | G28: =April!G28 -> 1 | H28: 0 | I28: 0 | J28: =April!J28+H28 -> 0 | K28: =I28*G28+April!K28 -> 0
A29: =April!A29 -> 0 | G29: =April!G29 -> 1 | H29: 0 | I29: 0 | J29: =April!J29+H29 -> 0 | K29: =I29*G29+April!K29 -> 0
A30: =April!A30 -> 0 | G30: =April!G30 -> 1 | H30: 0 | I30: 0 | J30: =April!J30+H30 -> 0 | K30: =I30*G30+April!K30 -> 0
A31: =April!A31 -> 0 | G31: =April!G31 -> 1 | H31: 0 | I31: 0 | J31: =April!J31+H31 -> 0 | K31: =I31*G31+April!K31 -> 0
A32: =April!A32 -> 0 | G32: =April!G32 -> 1 | H32: 0 | I32: 0 | J32: =April!J32+H32 -> 0 | K32: =I32*G32+April!K32 -> 0
A33: =April!A33 -> 0 | G33: =April!G33 -> 1 | H33: 0 | I33: 0 | J33: =April!J33+H33 -> 0 | K33: =I33*G33+April!K33 -> 0
A34: =April!A34 -> 0 | G34: =April!G34 -> 1 | H34: 0 | I34: 0 | J34: =April!J34+H34 -> 0 | K34: =I34*G34+April!K34 -> 0
A35: =April!A35 -> 0 | G35: =April!G35 -> 1 | H35: 0 | I35: 0 | J35: =April!J35+H35 -> 0 | K35: =I35*G35+April!K35 -> 0
A36: =April!A36 -> 0 | G36: =April!G36 -> 1 | H36: 0 | I36: 0 | J36: =April!J36+H36 -> 0 | K36: =I36*G36+April!K36 -> 0
A37: CHEMICAL LARVICIDE | E37: G | F37: A | G37: MIX RATIO | H37: ACRES | I37: TOTAL | J37: ACRES | K37: TOTAL
A38: * Show Chemical NAME | E38: R | F38: I | G38: OR | H38: TREATED | I38: OUTPUT | J38: TREATED | K38: OUTPUT
A39: * % of Active Ingredient (a.i.) | E39: N | F39: R | G39: FORMULA PER | H39: MONTHLY | I39: MONTHLY | J39: YEARLY | K39: YEARLY
A40: * EPA Number | E40: D | G40: (see Calculation tab) | I40: Gal/lb/Units | K40: Gal/lb
A41: =April!A41 -> 0 | C41: =October!C41 -> 0 | G41: =April!G41 -> 1 | H41: 0 | I41: 0 | J41: =April!J41+H41 -> 0 | K41: =I41*G41+April!K41 -> 0
A42: =April!A42 -> 0 | C42: =October!C42 -> 0 | G42: =April!G42 -> 1 | H42: 0 | I42: 0 | J42: =April!J42+H42 -> 0 | K42: =I42*G42+April!K42 -> 0
A43: =April!A43 -> 0 | C43: =October!C43 -> 0 | G43: =April!G43 -> 1 | H43: 0 | I43: 0 | J43: =April!J43+H43 -> 0 | K43: =I43*G43+April!K43 -> 0
A44: =April!A44 -> 0 | C44: =October!C44 -> 0 | G44: =April!G44 -> 1 | H44: 0 | I44: 0 | J44: =April!J44+H44 -> 0 | K44: =I44*G44+April!K44 -> 0
A45: =April!A45 -> 0 | C45: =October!C45 -> 0 | G45: =April!G45 -> 1 | H45: 0 | I45: 0 | J45: =April!J45+H45 -> 0 | K45: =I45*G45+April!K45 -> 0
A46: =April!A46 -> 0 | C46: =October!C46 -> 0 | G46: =April!G46 -> 1 | H46: 0 | I46: 0 | J46: =April!J46+H46 -> 0 | K46: =I46*G46+April!K46 -> 0
A47: =April!A47 -> 0 | C47: =October!C47 -> 0 | E47: FALSE | G47: =April!G47 -> 1 | H47: 0 | I47: 0 | J47: =April!J47+H47 -> 0 | K47: =I47*G47+April!K47 -> 0
A48: =April!A48 -> 0 | C48: =October!C48 -> 0 | G48: =April!G48 -> 1 | H48: 0 | I48: 0 | J48: =April!J48+H48 -> 0 | K48: =I48*G48+April!K48 -> 0
A49: =April!A49 -> 0 | C49: =October!C49 -> 0 | G49: =April!G49 -> 1 | H49: 0 | I49: 0 | J49: =April!J49+H49 -> 0 | K49: =I49*G49+April!K49 -> 0
A50: =April!A50 -> 0 | C50: =October!C50 -> 0 | G50: =April!G50 -> 1 | H50: 0 | I50: 0 | J50: =April!J50+H50 -> 0 | K50: =I50*G50+April!K50 -> 0
A51: =April!A51 -> 0 | C51: =October!C51 -> 0 | G51: =April!G51 -> 1 | H51: 0 | I51: 0 | J51: =April!J51+H51 -> 0 | K51: =I51*G51+April!K51 -> 0
A52: =April!A52 -> 0 | C52: =October!C52 -> 0 | G52: =April!G52 -> 1 | H52: 0 | I52: 0 | J52: =April!J52+H52 -> 0 | K52: =I52*G52+April!K52 -> 0
A53: =April!A53 -> 0 | C53: =October!C53 -> 0 | G53: =April!G53 -> 1 | H53: 0 | I53: 0 | J53: =April!J53+H53 -> 0 | K53: =I53*G53+April!K53 -> 0
A54: =April!A54 -> 0 | C54: =October!C54 -> 0 | G54: =April!G54 -> 1 | H54: 0 | I54: 0 | J54: =April!J54+H54 -> 0 | K54: =I54*G54+April!K54 -> 0
A55: =April!A55 -> 0 | C55: =October!C55 -> 0 | G55: =April!G55 -> 1 | H55: 0 | I55: 0 | J55: =April!J55+H55 -> 0 | K55: =I55*G55+April!K55 -> 0
A56: =April!A56 -> 0 | C56: =October!C56 -> 0 | G56: =April!G56 -> 1 | H56: 0 | I56: 0 | J56: =April!J56+H56 -> 0 | K56: =I56*G56+April!K56 -> 0
A57: =April!A57 -> 0 | C57: =October!C57 -> 0 | F57: FALSE | G57: =April!G57 -> 1 | H57: 0 | I57: 0 | J57: =April!J57+H57 -> 0 | K57: =I57*G57+April!K57 -> 0
A58: =April!A58 -> 0 | C58: =October!C58 -> 0 | G58: =April!G58 -> 1 | H58: 0 | I58: 0 | J58: =April!J58+H58 -> 0 | K58: =I58*G58+April!K58 -> 0
A59: =April!A59 -> 0 | C59: =October!C59 -> 0 | G59: =April!G59 -> 1 | H59: 0 | I59: 0 | J59: =April!J59+H59 -> 0 | K59: =I59*G59+April!K59 -> 0
A60: =April!A60 -> 0 | C60: =October!C60 -> 0 | G60: =April!G60 -> 1 | H60: 0 | I60: 0 | J60: =April!J60+H60 -> 0 | K60: =I60*G60+April!K60 -> 0
A61: =April!A61 -> 0 | C61: =October!C61 -> 0 | G61: =April!G61 -> 1 | H61: 0 | I61: 0 | J61: =April!J61+H61 -> 0 | K61: =I61*G61+April!K61 -> 0
A62: =April!A62 -> 0 | C62: =October!C62 -> 0 | G62: =April!G62 -> 1 | H62: 0 | I62: 0 | J62: =April!J62+H62 -> 0 | K62: =I62*G62+April!K62 -> 0
A63: =April!A63 -> 0 | C63: =October!C63 -> 0 | G63: =April!G63 -> 1 | H63: 0 | I63: 0 | J63: =April!J63+H63 -> 0 | K63: =I63*G63+April!K63 -> 0
A64: =April!A64 -> 0 | C64: =October!C64 -> 0 | G64: =April!G64 -> 1 | H64: 0 | I64: 0 | J64: =April!J64+H64 -> 0 | K64: =I64*G64+April!K64 -> 0
A65: =April!A65 -> 0 | C65: =October!C65 -> 0 | G65: =April!G65 -> 1 | H65: 0 | I65: 0 | J65: =April!J65+H65 -> 0 | K65: =I65*G65+April!K65 -> 0
A66: =April!A66 -> 0 | C66: =October!C66 -> 0 | G66: =April!G66 -> 1 | H66: 0 | I66: 0 | J66: =April!J66+H66 -> 0 | K66: =I66*G66+April!K66 -> 0
A67: =April!A67 -> 0 | C67: =October!C67 -> 0 | E67: FALSE | F67: FALSE | G67: =April!G67 -> 1 | H67: 0 | I67: 0 | J67: =April!J67+H67 -> 0 | K67: =I67*G67+April!K67 -> 0
A68: =April!A68 -> 0 | C68: =October!C68 -> 0 | E68: FALSE | F68: FALSE | G68: =April!G68 -> 1 | H68: 0 | I68: 0 | J68: =April!J68+H68 -> 0 | K68: =I68*G68+April!K68 -> 0
A69: =April!A69 -> 0 | C69: =October!C69 -> 0 | E69: FALSE | F69: FALSE | G69: =April!G69 -> 1 | H69: 0 | I69: 0 | J69: =April!J69+H69 -> 0 | K69: =I69*G69+April!K69 -> 0
A70: =April!A70 -> 0 | C70: =October!C70 -> 0 | E70: FALSE | F70: FALSE | G70: =April!G70 -> 1 | H70: 0 | I70: 0 | J70: =April!J70+H70 -> 0 | K70: =I70*G70+April!K70 -> 0
A71: =April!A71 -> 0 | C71: =October!C71 -> 0 | E71: FALSE | F71: FALSE | G71: =April!G71 -> 1 | H71: 0 | I71: 0 | J71: =April!J71+H71 -> 0 | K71: =I71*G71+April!K71 -> 0
A72: =April!A72 -> 0 | C72: =October!C72 -> 0 | E72: FALSE | F72: FALSE | G72: =April!G72 -> 1 | H72: 0 | I72: 0 | J72: =April!J72+H72 -> 0 | K72: =I72*G72+April!K72 -> 0
A73: =April!A73 -> 0 | C73: =October!C73 -> 0 | E73: FALSE | F73: FALSE | G73: =April!G73 -> 1 | H73: 0 | I73: 0 | J73: =April!J73+H73 -> 0 | K73: =I73*G73+April!K73 -> 0
A75: FDACS-13652 Rev 07/13 | I75: Director Signature | K75: Date

Sheet June
B1: Florida Department of Agriculture and Consumer Services
B2: Division of Agricultural Environmental Services
B4: MOSQUITO CONTROL MONTHLY ACTIVITY REPORT
B6: Rule 5E-13.022, F.A.C.
B7: Telephone: (850) 617-7911; FAX (850) 617-7939
A9: COUNTY OR DISTRICT: | B9: =May!B9 -> 0 | I9: MONTH: June | J9: FISCAL: | K9: =October!K9 -> 2018 - 2019
A10: CHEMICAL ADULTICIDE | C10: T | D10: U | E10: G | F10: A | G10: MIX RATIO | H10: ACRES | I10: TOTAL | J10: ACRES | K10: TOTAL
A11: * Show Chemical NAME | C11: H | D11: L | E11: R | F11: I | G11: OR | H11: TREATED | I11: OUTPUT | J11: TREATED | K11: OUTPUT
A12: * % of Active Ingredient (a.i.) | C12: R | D12: V | E12: N | F12: R | G12: FORMULA | H12: MONTHLY | I12: MONTHLY | J12: YEARLY | K12: YEARLY
A13: * EPA Number | C13: M | E13: D | G13: (see Calculation tab) | I13: Gallons | K13: Gallons
A14: =May!A14 -> 0 | C14: FALSE | G14: =May!G14 -> 1 | H14: 0 | I14: 0 | J14: =May!J14+H14 -> 0 | K14: =I14*G14+May!K14 -> 0
A15: =May!A15 -> 0 | G15: =May!G15 -> 1 | H15: 0 | I15: 0 | J15: =May!J15+H15 -> 0 | K15: =I15*G15+May!K15 -> 0
A16: =May!A16 -> 0 | G16: =May!G16 -> 1 | H16: 0 | I16: 0 | J16: =May!J16+H16 -> 0 | K16: =I16*G16+May!K16 -> 0
A17: =May!A17 -> 0 | G17: =May!G17 -> 1 | H17: 0 | I17: 0 | J17: =May!J17+H17 -> 0 | K17: =I17*G17+May!K17 -> 0
A18: =May!A18 -> 0 | G18: =May!G18 -> 1 | H18: 0 | I18: 0 | J18: =May!J18+H18 -> 0 | K18: =I18*G18+May!K18 -> 0
A19: =May!A19 -> 0 | G19: =May!G19 -> 1 | H19: 0 | I19: 0 | J19: =May!J19+H19 -> 0 | K19: =I19*G19+May!K19 -> 0
A20: =May!A20 -> 0 | G20: =May!G20 -> 1 | H20: 0 | I20: 0 | J20: =May!J20+H20 -> 0 | K20: =I20*G20+May!K20 -> 0
A21: =May!A21 -> 0 | C21: FALSE | G21: =May!G21 -> 1 | H21: 0 | I21: 0 | J21: =May!J21+H21 -> 0 | K21: =I21*G21+May!K21 -> 0
A22: =May!A22 -> 0 | G22: =May!G22 -> 1 | H22: 0 | I22: 0 | J22: =May!J22+H22 -> 0 | K22: =I22*G22+May!K22 -> 0
A23: =May!A23 -> 0 | G23: =May!G23 -> 1 | H23: 0 | I23: 0 | J23: =May!J23+H23 -> 0 | K23: =I23*G23+May!K23 -> 0
A24: =May!A24 -> 0 | E24: FALSE | G24: =May!G24 -> 1 | H24: 0 | I24: 0 | J24: =May!J24+H24 -> 0 | K24: =I24*G24+May!K24 -> 0
A25: =May!A25 -> 0 | G25: =May!G25 -> 1 | H25: 0 | I25: 0 | J25: =May!J25+H25 -> 0 | K25: =I25*G25+May!K25 -> 0
A26: =May!A26 -> 0 | G26: =May!G26 -> 1 | H26: 0 | I26: 0 | J26: =May!J26+H26 -> 0 | K26: =I26*G26+May!K26 -> 0
A27: =May!A27 -> 0 | G27: =May!G27 -> 1 | H27: 0 | I27: 0 | J27: =May!J27+H27 -> 0 | K27: =I27*G27+May!K27 -> 0
A28: =May!A28 -> 0 | G28: =May!G28 -> 1 | H28: 0 | I28: 0 | J28: =May!J28+H28 -> 0 | K28: =I28*G28+May!K28 -> 0
A29: =May!A29 -> 0 | G29: =May!G29 -> 1 | H29: 0 | I29: 0 | J29: =May!J29+H29 -> 0 | K29: =I29*G29+May!K29 -> 0
A30: =May!A30 -> 0 | G30: =May!G30 -> 1 | H30: 0 | I30: 0 | J30: =May!J30+H30 -> 0 | K30: =I30*G30+May!K30 -> 0
A31: =May!A31 -> 0 | G31: =May!G31 -> 1 | H31: 0 | I31: 0 | J31: =May!J31+H31 -> 0 | K31: =I31*G31+May!K31 -> 0
A32: =May!A32 -> 0 | G32: =May!G32 -> 1 | H32: 0 | I32: 0 | J32: =May!J32+H32 -> 0 | K32: =I32*G32+May!K32 -> 0
A33: =May!A33 -> 0 | G33: =May!G33 -> 1 | H33: 0 | I33: 0 | J33: =May!J33+H33 -> 0 | K33: =I33*G33+May!K33 -> 0
A34: =May!A34 -> 0 | G34: =May!G34 -> 1 | H34: 0 | I34: 0 | J34: =May!J34+H34 -> 0 | K34: =I34*G34+May!K34 -> 0
A35: =May!A35 -> 0 | G35: =May!G35 -> 1 | H35: 0 | I35: 0 | J35: =May!J35+H35 -> 0 | K35: =I35*G35+May!K35 -> 0
A36: =May!A36 -> 0 | G36: =May!G36 -> 1 | H36: 0 | I36: 0 | J36: =May!J36+H36 -> 0 | K36: =I36*G36+May!K36 -> 0
A37: CHEMICAL LARVICIDE | E37: G | F37: A | G37: MIX RATIO | H37: ACRES | I37: TOTAL | J37: ACRES | K37: TOTAL
A38: * Show Chemical NAME | E38: R | F38: I | G38: OR | H38: TREATED | I38: OUTPUT | J38: TREATED | K38: OUTPUT
A39: * % of Active Ingredient (a.i.) | E39: N | F39: R | G39: FORMULA PER | H39: MONTHLY | I39: MONTHLY | J39: YEARLY | K39: YEARLY
A40: * EPA Number | E40: D | G40: (see Calculation tab) | I40: Gal/lb/Units | K40: Gal/lb
A41: =May!A41 -> 0 | C41: =October!C41 -> 0 | G41: =May!G41 -> 1 | H41: 0 | I41: 0 | J41: =May!J41+H41 -> 0 | K41: =I41*G41+May!K41 -> 0
A42: =May!A42 -> 0 | C42: =October!C42 -> 0 | G42: =May!G42 -> 1 | H42: 0 | I42: 0 | J42: =May!J42+H42 -> 0 | K42: =I42*G42+May!K42 -> 0
A43: =May!A43 -> 0 | C43: =October!C43 -> 0 | G43: =May!G43 -> 1 | H43: 0 | I43: 0 | J43: =May!J43+H43 -> 0 | K43: =I43*G43+May!K43 -> 0
A44: =May!A44 -> 0 | C44: =October!C44 -> 0 | G44: =May!G44 -> 1 | H44: 0 | I44: 0 | J44: =May!J44+H44 -> 0 | K44: =I44*G44+May!K44 -> 0
A45: =May!A45 -> 0 | C45: =October!C45 -> 0 | G45: =May!G45 -> 1 | H45: 0 | I45: 0 | J45: =May!J45+H45 -> 0 | K45: =I45*G45+May!K45 -> 0
A46: =May!A46 -> 0 | C46: =October!C46 -> 0 | G46: =May!G46 -> 1 | H46: 0 | I46: 0 | J46: =May!J46+H46 -> 0 | K46: =I46*G46+May!K46 -> 0
A47: =May!A47 -> 0 | C47: =October!C47 -> 0 | E47: FALSE | G47: =May!G47 -> 1 | H47: 0 | I47: 0 | J47: =May!J47+H47 -> 0 | K47: =I47*G47+May!K47 -> 0
A48: =May!A48 -> 0 | C48: =October!C48 -> 0 | G48: =May!G48 -> 1 | H48: 0 | I48: 0 | J48: =May!J48+H48 -> 0 | K48: =I48*G48+May!K48 -> 0
A49: =May!A49 -> 0 | C49: =October!C49 -> 0 | G49: =May!G49 -> 1 | H49: 0 | I49: 0 | J49: =May!J49+H49 -> 0 | K49: =I49*G49+May!K49 -> 0
A50: =May!A50 -> 0 | C50: =October!C50 -> 0 | G50: =May!G50 -> 1 | H50: 0 | I50: 0 | J50: =May!J50+H50 -> 0 | K50: =I50*G50+May!K50 -> 0
A51: =May!A51 -> 0 | C51: =October!C51 -> 0 | G51: =May!G51 -> 1 | H51: 0 | I51: 0 | J51: =May!J51+H51 -> 0 | K51: =I51*G51+May!K51 -> 0
A52: =May!A52 -> 0 | C52: =October!C52 -> 0 | G52: =May!G52 -> 1 | H52: 0 | I52: 0 | J52: =May!J52+H52 -> 0 | K52: =I52*G52+May!K52 -> 0
A53: =May!A53 -> 0 | C53: =October!C53 -> 0 | G53: =May!G53 -> 1 | H53: 0 | I53: 0 | J53: =May!J53+H53 -> 0 | K53: =I53*G53+May!K53 -> 0
A54: =May!A54 -> 0 | C54: =October!C54 -> 0 | G54: =May!G54 -> 1 | H54: 0 | I54: 0 | J54: =May!J54+H54 -> 0 | K54: =I54*G54+May!K54 -> 0
A55: =May!A55 -> 0 | C55: =October!C55 -> 0 | G55: =May!G55 -> 1 | H55: 0 | I55: 0 | J55: =May!J55+H55 -> 0 | K55: =I55*G55+May!K55 -> 0
A56: =May!A56 -> 0 | C56: =October!C56 -> 0 | G56: =May!G56 -> 1 | H56: 0 | I56: 0 | J56: =May!J56+H56 -> 0 | K56: =I56*G56+May!K56 -> 0
A57: =May!A57 -> 0 | C57: =October!C57 -> 0 | F57: FALSE | G57: =May!G57 -> 1 | H57: 0 | I57: 0 | J57: =May!J57+H57 -> 0 | K57: =I57*G57+May!K57 -> 0
A58: =May!A58 -> 0 | C58: =October!C58 -> 0 | G58: =May!G58 -> 1 | H58: 0 | I58: 0 | J58: =May!J58+H58 -> 0 | K58: =I58*G58+May!K58 -> 0
A59: =May!A59 -> 0 | C59: =October!C59 -> 0 | G59: =May!G59 -> 1 | H59: 0 | I59: 0 | J59: =May!J59+H59 -> 0 | K59: =I59*G59+May!K59 -> 0
A60: =May!A60 -> 0 | C60: =October!C60 -> 0 | G60: =May!G60 -> 1 | H60: 0 | I60: 0 | J60: =May!J60+H60 -> 0 | K60: =I60*G60+May!K60 -> 0
A61: =May!A61 -> 0 | C61: =October!C61 -> 0 | G61: =May!G61 -> 1 | H61: 0 | I61: 0 | J61: =May!J61+H61 -> 0 | K61: =I61*G61+May!K61 -> 0
A62: =May!A62 -> 0 | C62: =October!C62 -> 0 | G62: =May!G62 -> 1 | H62: 0 | I62: 0 | J62: =May!J62+H62 -> 0 | K62: =I62*G62+May!K62 -> 0
A63: =May!A63 -> 0 | C63: =October!C63 -> 0 | G63: =May!G63 -> 1 | H63: 0 | I63: 0 | J63: =May!J63+H63 -> 0 | K63: =I63*G63+May!K63 -> 0
A64: =May!A64 -> 0 | C64: =October!C64 -> 0 | G64: =May!G64 -> 1 | H64: 0 | I64: 0 | J64: =May!J64+H64 -> 0 | K64: =I64*G64+May!K64 -> 0
A65: =May!A65 -> 0 | C65: =October!C65 -> 0 | G65: =May!G65 -> 1 | H65: 0 | I65: 0 | J65: =May!J65+H65 -> 0 | K65: =I65*G65+May!K65 -> 0
A66: =May!A66 -> 0 | C66: =October!C66 -> 0 | G66: =May!G66 -> 1 | H66: 0 | I66: 0 | J66: =May!J66+H66 -> 0 | K66: =I66*G66+May!K66 -> 0
A67: =May!A67 -> 0 | C67: =October!C67 -> 0 | E67: FALSE | F67: FALSE | G67: =May!G67 -> 1 | H67: 0 | I67: 0 | J67: =May!J67+H67 -> 0 | K67: =I67*G67+May!K67 -> 0
A68: =May!A68 -> 0 | C68: =October!C68 -> 0 | E68: FALSE | F68: FALSE | G68: =May!G68 -> 1 | H68: 0 | I68: 0 | J68: =May!J68+H68 -> 0 | K68: =I68*G68+May!K68 -> 0
A69: =May!A69 -> 0 | C69: =October!C69 -> 0 | E69: FALSE | F69: FALSE | G69: =May!G69 -> 1 | H69: 0 | I69: 0 | J69: =May!J69+H69 -> 0 | K69: =I69*G69+May!K69 -> 0
A70: =May!A70 -> 0 | C70: =October!C70 -> 0 | E70: FALSE | F70: FALSE | G70: =May!G70 -> 1 | H70: 0 | I70: 0 | J70: =May!J70+H70 -> 0 | K70: =I70*G70+May!K70 -> 0
A71: =May!A71 -> 0 | C71: =October!C71 -> 0 | E71: FALSE | F71: FALSE | G71: =May!G71 -> 1 | H71: 0 | I71: 0 | J71: =May!J71+H71 -> 0 | K71: =I71*G71+May!K71 -> 0
A72: =May!A72 -> 0 | C72: =October!C72 -> 0 | E72: FALSE | F72: FALSE | G72: =May!G72 -> 1 | H72: 0 | I72: 0 | J72: =May!J72+H72 -> 0 | K72: =I72*G72+May!K72 -> 0
A73: =May!A73 -> 0 | C73: =October!C73 -> 0 | E73: FALSE | F73: FALSE | G73: =May!G73 -> 1 | H73: 0 | I73: 0 | J73: =May!J73+H73 -> 0 | K73: =I73*G73+May!K73 -> 0
A75: FDACS-13652 Rev 07/13 | I75: Director Signature | K75: Date

Sheet July
B1: Florida Department of Agriculture and Consumer Services
B2: Division of Agricultural Environmental Services
B4: MOSQUITO CONTROL MONTHLY ACTIVITY REPORT
B6: Rule 5E-13.022, F.A.C.
B7: Telephone: (850) 617-7911; FAX (850) 617-7939
A9: COUNTY OR DISTRICT: | B9: =June!B9 -> 0 | I9: MONTH: July | J9: FISCAL: | K9: =October!K9 -> 2018 - 2019
A10: CHEMICAL ADULTICIDE | C10: T | D10: U | E10: G | F10: A | G10: MIX RATIO | H10: ACRES | I10: TOTAL | J10: ACRES | K10: TOTAL
A11: * Show Chemical NAME | C11: H | D11: L | E11: R | F11: I | G11: OR | H11: TREATED | I11: OUTPUT | J11: TREATED | K11: OUTPUT
A12: * % of Active Ingredient (a.i.) | C12: R | D12: V | E12: N | F12: R | G12: FORMULA | H12: MONTHLY | I12: MONTHLY | J12: YEARLY | K12: YEARLY
A13: * EPA Number | C13: M | E13: D | G13: (see Calculation tab) | I13: Gallons | K13: Gallons
A14: =June!A14 -> 0 | C14: FALSE | G14: =June!G14 -> 1 | H14: 0 | I14: 0 | J14: =June!J14+H14 -> 0 | K14: =I14*G14+June!K14 -> 0
A15: =June!A15 -> 0 | G15: =June!G15 -> 1 | H15: 0 | I15: 0 | J15: =June!J15+H15 -> 0 | K15: =I15*G15+June!K15 -> 0
A16: =June!A16 -> 0 | G16: =June!G16 -> 1 | H16: 0 | I16: 0 | J16: =June!J16+H16 -> 0 | K16: =I16*G16+June!K16 -> 0
A17: =June!A17 -> 0 | G17: =June!G17 -> 1 | H17: 0 | I17: 0 | J17: =June!J17+H17 -> 0 | K17: =I17*G17+June!K17 -> 0
A18: =June!A18 -> 0 | G18: =June!G18 -> 1 | H18: 0 | I18: 0 | J18: =June!J18+H18 -> 0 | K18: =I18*G18+June!K18 -> 0
A19: =June!A19 -> 0 | G19: =June!G19 -> 1 | H19: 0 | I19: 0 | J19: =June!J19+H19 -> 0 | K19: =I19*G19+June!K19 -> 0
A20: =June!A20 -> 0 | G20: =June!G20 -> 1 | H20: 0 | I20: 0 | J20: =June!J20+H20 -> 0 | K20: =I20*G20+June!K20 -> 0
A21: =June!A21 -> 0 | C21: FALSE | G21: =June!G21 -> 1 | H21: 0 | I21: 0 | J21: =June!J21+H21 -> 0 | K21: =I21*G21+June!K21 -> 0
A22: =June!A22 -> 0 | G22: =June!G22 -> 1 | H22: 0 | I22: 0 | J22: =June!J22+H22 -> 0 | K22: =I22*G22+June!K22 -> 0
A23: =June!A23 -> 0 | G23: =June!G23 -> 1 | H23: 0 | I23: 0 | J23: =June!J23+H23 -> 0 | K23: =I23*G23+June!K23 -> 0
A24: =June!A24 -> 0 | E24: FALSE | G24: =June!G24 -> 1 | H24: 0 | I24: 0 | J24: =June!J24+H24 -> 0 | K24: =I24*G24+June!K24 -> 0
A25: =June!A25 -> 0 | G25: =June!G25 -> 1 | H25: 0 | I25: 0 | J25: =June!J25+H25 -> 0 | K25: =I25*G25+June!K25 -> 0
A26: =June!A26 -> 0 | G26: =June!G26 -> 1 | H26: 0 | I26: 0 | J26: =June!J26+H26 -> 0 | K26: =I26*G26+June!K26 -> 0
A27: =June!A27 -> 0 | G27: =June!G27 -> 1 | H27: 0 | I27: 0 | J27: =June!J27+H27 -> 0 | K27: =I27*G27+June!K27 -> 0
A28: =June!A28 -> 0 | G28: =June!G28 -> 1 | H28: 0 | I28: 0 | J28: =June!J28+H28 -> 0 | K28: =I28*G28+June!K28 -> 0
A29: =June!A29 -> 0 | G29: =June!G29 -> 1 | H29: 0 | I29: 0 | J29: =June!J29+H29 -> 0 | K29: =I29*G29+June!K29 -> 0
A30: =June!A30 -> 0 | G30: =June!G30 -> 1 | H30: 0 | I30: 0 | J30: =June!J30+H30 -> 0 | K30: =I30*G30+June!K30 -> 0
A31: =June!A31 -> 0 | G31: =June!G31 -> 1 | H31: 0 | I31: 0 | J31: =June!J31+H31 -> 0 | K31: =I31*G31+June!K31 -> 0
A32: =June!A32 -> 0 | G32: =June!G32 -> 1 | H32: 0 | I32: 0 | J32: =June!J32+H32 -> 0 | K32: =I32*G32+June!K32 -> 0
A33: =June!A33 -> 0 | G33: =June!G33 -> 1 | H33: 0 | I33: 0 | J33: =June!J33+H33 -> 0 | K33: =I33*G33+June!K33 -> 0
A34: =June!A34 -> 0 | G34: =June!G34 -> 1 | H34: 0 | I34: 0 | J34: =June!J34+H34 -> 0 | K34: =I34*G34+June!K34 -> 0
A35: =June!A35 -> 0 | G35: =June!G35 -> 1 | H35: 0 | I35: 0 | J35: =June!J35+H35 -> 0 | K35: =I35*G35+June!K35 -> 0
A36: =June!A36 -> 0 | G36: =June!G36 -> 1 | H36: 0 | I36: 0 | J36: =June!J36+H36 -> 0 | K36: =I36*G36+June!K36 -> 0
A37: CHEMICAL LARVICIDE | E37: G | F37: A | G37: MIX RATIO | H37: ACRES | I37: TOTAL | J37: ACRES | K37: TOTAL
A38: * Show Chemical NAME | E38: R | F38: I | G38: OR | H38: TREATED | I38: OUTPUT | J38: TREATED | K38: OUTPUT
A39: * % of Active Ingredient (a.i.) | E39: N | F39: R | G39: FORMULA PER | H39: MONTHLY | I39: MONTHLY | J39: YEARLY | K39: YEARLY
A40: * EPA Number | E40: D | G40: (see Calculation tab) | I40: Gal/lb/Units | K40: Gal/lb
A41: =June!A41 -> 0 | C41: =October!C41 -> 0 | G41: =June!G41 -> 1 | H41: 0 | I41: 0 | J41: =June!J41+H41 -> 0 | K41: =I41*G41+June!K41 -> 0
A42: =June!A42 -> 0 | C42: =October!C42 -> 0 | G42: =June!G42 -> 1 | H42: 0 | I42: 0 | J42: =June!J42+H42 -> 0 | K42: =I42*G42+June!K42 -> 0
A43: =June!A43 -> 0 | C43: =October!C43 -> 0 | G43: =June!G43 -> 1 | H43: 0 | I43: 0 | J43: =June!J43+H43 -> 0 | K43: =I43*G43+June!K43 -> 0
A44: =June!A44 -> 0 | C44: =October!C44 -> 0 | G44: =June!G44 -> 1 | H44: 0 | I44: 0 | J44: =June!J44+H44 -> 0 | K44: =I44*G44+June!K44 -> 0
A45: =June!A45 -> 0 | C45: =October!C45 -> 0 | G45: =June!G45 -> 1 | H45: 0 | I45: 0 | J45: =June!J45+H45 -> 0 | K45: =I45*G45+June!K45 -> 0
A46: =June!A46 -> 0 | C46: =October!C46 -> 0 | G46: =June!G46 -> 1 | H46: 0 | I46: 0 | J46: =June!J46+H46 -> 0 | K46: =I46*G46+June!K46 -> 0
A47: =June!A47 -> 0 | C47: =October!C47 -> 0 | E47: FALSE | G47: =June!G47 -> 1 | H47: 0 | I47: 0 | J47: =June!J47+H47 -> 0 | K47: =I47*G47+June!K47 -> 0
A48: =June!A48 -> 0 | C48: =October!C48 -> 0 | G48: =June!G48 -> 1 | H48: 0 | I48: 0 | J48: =June!J48+H48 -> 0 | K48: =I48*G48+June!K48 -> 0
A49: =June!A49 -> 0 | C49: =October!C49 -> 0 | G49: =June!G49 -> 1 | H49: 0 | I49: 0 | J49: =June!J49+H49 -> 0 | K49: =I49*G49+June!K49 -> 0
A50: =June!A50 -> 0 | C50: =October!C50 -> 0 | G50: =June!G50 -> 1 | H50: 0 | I50: 0 | J50: =June!J50+H50 -> 0 | K50: =I50*G50+June!K50 -> 0
A51: =June!A51 -> 0 | C51: =October!C51 -> 0 | G51: =June!G51 -> 1 | H51: 0 | I51: 0 | J51: =June!J51+H51 -> 0 | K51: =I51*G51+June!K51 -> 0
A52: =June!A52 -> 0 | C52: =October!C52 -> 0 | G52: =June!G52 -> 1 | H52: 0 | I52: 0 | J52: =June!J52+H52 -> 0 | K52: =I52*G52+June!K52 -> 0
A53: =June!A53 -> 0 | C53: =October!C53 -> 0 | G53: =June!G53 -> 1 | H53: 0 | I53: 0 | J53: =June!J53+H53 -> 0 | K53: =I53*G53+June!K53 -> 0
A54: =June!A54 -> 0 | C54: =October!C54 -> 0 | G54: =June!G54 -> 1 | H54: 0 | I54: 0 | J54: =June!J54+H54 -> 0 | K54: =I54*G54+June!K54 -> 0
A55: =June!A55 -> 0 | C55: =October!C55 -> 0 | G55: =June!G55 -> 1 | H55: 0 | I55: 0 | J55: =June!J55+H55 -> 0 | K55: =I55*G55+June!K55 -> 0
A56: =June!A56 -> 0 | C56: =October!C56 -> 0 | G56: =June!G56 -> 1 | H56: 0 | I56: 0 | J56: =June!J56+H56 -> 0 | K56: =I56*G56+June!K56 -> 0
A57: =June!A57 -> 0 | C57: =October!C57 -> 0 | F57: FALSE | G57: =June!G57 -> 1 | H57: 0 | I57: 0 | J57: =June!J57+H57 -> 0 | K57: =I57*G57+June!K57 -> 0
A58: =June!A58 -> 0 | C58: =October!C58 -> 0 | G58: =June!G58 -> 1 | H58: 0 | I58: 0 | J58: =June!J58+H58 -> 0 | K58: =I58*G58+June!K58 -> 0
A59: =June!A59 -> 0 | C59: =October!C59 -> 0 | G59: =June!G59 -> 1 | H59: 0 | I59: 0 | J59: =June!J59+H59 -> 0 | K59: =I59*G59+June!K59 -> 0
A60: =June!A60 -> 0 | C60: =October!C60 -> 0 | G60: =June!G60 -> 1 | H60: 0 | I60: 0 | J60: =June!J60+H60 -> 0 | K60: =I60*G60+June!K60 -> 0
A61: =June!A61 -> 0 | C61: =October!C61 -> 0 | G61: =June!G61 -> 1 | H61: 0 | I61: 0 | J61: =June!J61+H61 -> 0 | K61: =I61*G61+June!K61 -> 0
A62: =June!A62 -> 0 | C62: =October!C62 -> 0 | G62: =June!G62 -> 1 | H62: 0 | I62: 0 | J62: =June!J62+H62 -> 0 | K62: =I62*G62+June!K62 -> 0
A63: =June!A63 -> 0 | C63: =October!C63 -> 0 | G63: =June!G63 -> 1 | H63: 0 | I63: 0 | J63: =June!J63+H63 -> 0 | K63: =I63*G63+June!K63 -> 0
A64: =June!A64 -> 0 | C64: =October!C64 -> 0 | G64: =June!G64 -> 1 | H64: 0 | I64: 0 | J64: =June!J64+H64 -> 0 | K64: =I64*G64+June!K64 -> 0
A65: =June!A65 -> 0 | C65: =October!C65 -> 0 | G65: =June!G65 -> 1 | H65: 0 | I65: 0 | J65: =June!J65+H65 -> 0 | K65: =I65*G65+June!K65 -> 0
A66: =June!A66 -> 0 | C66: =October!C66 -> 0 | G66: =June!G66 -> 1 | H66: 0 | I66: 0 | J66: =June!J66+H66 -> 0 | K66: =I66*G66+June!K66 -> 0
A67: =June!A67 -> 0 | C67: =October!C67 -> 0 | E67: FALSE | F67: FALSE | G67: =June!G67 -> 1 | H67: 0 | I67: 0 | J67: =June!J67+H67 -> 0 | K67: =I67*G67+June!K67 -> 0
A68: =June!A68 -> 0 | C68: =October!C68 -> 0 | E68: FALSE | F68: FALSE | G68: =June!G68 -> 1 | H68: 0 | I68: 0 | J68: =June!J68+H68 -> 0 | K68: =I68*G68+June!K68 -> 0
A69: =June!A69 -> 0 | C69: =October!C69 -> 0 | E69: FALSE | F69: FALSE | G69: =June!G69 -> 1 | H69: 0 | I69: 0 | J69: =June!J69+H69 -> 0 | K69: =I69*G69+June!K69 -> 0
A70: =June!A70 -> 0 | C70: =October!C70 -> 0 | E70: FALSE | F70: FALSE | G70: =June!G70 -> 1 | H70: 0 | I70: 0 | J70: =June!J70+H70 -> 0 | K70: =I70*G70+June!K70 -> 0
A71: =June!A71 -> 0 | C71: =October!C71 -> 0 | E71: FALSE | F71: FALSE | G71: =June!G71 -> 1 | H71: 0 | I71: 0 | J71: =June!J71+H71 -> 0 | K71: =I71*G71+June!K71 -> 0
A72: =June!A72 -> 0 | C72: =October!C72 -> 0 | E72: FALSE | F72: FALSE | G72: =June!G72 -> 1 | H72: 0 | I72: 0 | J72: =June!J72+H72 -> 0 | K72: =I72*G72+June!K72 -> 0
A73: =June!A73 -> 0 | C73: =October!C73 -> 0 | E73: FALSE | F73: FALSE | G73: =June!G73 -> 1 | H73: 0 | I73: 0 | J73: =June!J73+H73 -> 0 | K73: =I73*G73+June!K73 -> 0
A75: FDACS-13652 Rev 07/13 | I75: Director Signature | K75: Date

Sheet August
B1: Florida Department of Agriculture and Consumer Services
B2: Division of Agricultural Environmental Services
B4: MOSQUITO CONTROL MONTHLY ACTIVITY REPORT
B6: Rule 5E-13.022, F.A.C.
B7: Telephone: (850) 617-7911; FAX (850) 617-7939
A9: COUNTY OR DISTRICT: | B9: =July!B9 -> 0 | I9: MONTH: August | J9: FISCAL: | K9: =October!K9 -> 2018 - 2019
A10: CHEMICAL ADULTICIDE | C10: T | D10: U | E10: G | F10: A | G10: MIX RATIO | H10: ACRES | I10: TOTAL | J10: ACRES | K10: TOTAL
A11: * Show Chemical NAME | C11: H | D11: L | E11: R | F11: I | G11: OR | H11: TREATED | I11: OUTPUT | J11: TREATED | K11: OUTPUT
A12: * % of Active Ingredient (a.i.) | C12: R | D12: V | E12: N | F12: R | G12: FORMULA | H12: MONTHLY | I12: MONTHLY | J12: YEARLY | K12: YEARLY
A13: * EPA Number | C13: M | E13: D | G13: (see Calculation tab) | I13: Gallons | K13: Gallons
A14: =July!A14 -> 0 | C14: FALSE | G14: =July!G14 -> 1 | H14: 0 | I14: 0 | J14: =July!J14+H14 -> 0 | K14: =I14*G14+July!K14 -> 0
A15: =July!A15 -> 0 | G15: =July!G15 -> 1 | H15: 0 | I15: 0 | J15: =July!J15+H15 -> 0 | K15: =I15*G15+July!K15 -> 0
A16: =July!A16 -> 0 | G16: =July!G16 -> 1 | H16: 0 | I16: 0 | J16: =July!J16+H16 -> 0 | K16: =I16*G16+July!K16 -> 0
A17: =July!A17 -> 0 | G17: =July!G17 -> 1 | H17: 0 | I17: 0 | J17: =July!J17+H17 -> 0 | K17: =I17*G17+July!K17 -> 0
A18: =July!A18 -> 0 | G18: =July!G18 -> 1 | H18: 0 | I18: 0 | J18: =July!J18+H18 -> 0 | K18: =I18*G18+July!K18 -> 0
A19: =July!A19 -> 0 | G19: =July!G19 -> 1 | H19: 0 | I19: 0 | J19: =July!J19+H19 -> 0 | K19: =I19*G19+July!K19 -> 0
A20: =July!A20 -> 0 | G20: =July!G20 -> 1 | H20: 0 | I20: 0 | J20: =July!J20+H20 -> 0 | K20: =I20*G20+July!K20 -> 0
A21: =July!A21 -> 0 | C21: FALSE | G21: =July!G21 -> 1 | H21: 0 | I21: 0 | J21: =July!J21+H21 -> 0 | K21: =I21*G21+July!K21 -> 0
A22: =July!A22 -> 0 | G22: =July!G22 -> 1 | H22: 0 | I22: 0 | J22: =July!J22+H22 -> 0 | K22: =I22*G22+July!K22 -> 0
A23: =July!A23 -> 0 | G23: =July!G23 -> 1 | H23: 0 | I23: 0 | J23: =July!J23+H23 -> 0 | K23: =I23*G23+July!K23 -> 0
A24: =July!A24 -> 0 | E24: FALSE | G24: =July!G24 -> 1 | H24: 0 | I24: 0 | J24: =July!J24+H24 -> 0 | K24: =I24*G24+July!K24 -> 0
A25: =July!A25 -> 0 | G25: =July!G25 -> 1 | H25: 0 | I25: 0 | J25: =July!J25+H25 -> 0 | K25: =I25*G25+July!K25 -> 0
A26: =July!A26 -> 0 | G26: =July!G26 -> 1 | H26: 0 | I26: 0 | J26: =July!J26+H26 -> 0 | K26: =I26*G26+July!K26 -> 0
A27: =July!A27 -> 0 | G27: =July!G27 -> 1 | H27: 0 | I27: 0 | J27: =July!J27+H27 -> 0 | K27: =I27*G27+July!K27 -> 0
A28: =July!A28 -> 0 | G28: =July!G28 -> 1 | H28: 0 | I28: 0 | J28: =July!J28+H28 -> 0 | K28: =I28*G28+July!K28 -> 0
A29: =July!A29 -> 0 | G29: =July!G29 -> 1 | H29: 0 | I29: 0 | J29: =July!J29+H29 -> 0 | K29: =I29*G29+July!K29 -> 0
A30: =July!A30 -> 0 | G30: =July!G30 -> 1 | H30: 0 | I30: 0 | J30: =July!J30+H30 -> 0 | K30: =I30*G30+July!K30 -> 0
A31: =July!A31 -> 0 | G31: =July!G31 -> 1 | H31: 0 | I31: 0 | J31: =July!J31+H31 -> 0 | K31: =I31*G31+July!K31 -> 0
A32: =July!A32 -> 0 | G32: =July!G32 -> 1 | H32: 0 | I32: 0 | J32: =July!J32+H32 -> 0 | K32: =I32*G32+July!K32 -> 0
A33: =July!A33 -> 0 | G33: =July!G33 -> 1 | H33: 0 | I33: 0 | J33: =July!J33+H33 -> 0 | K33: =I33*G33+July!K33 -> 0
A34: =July!A34 -> 0 | G34: =July!G34 -> 1 | H34: 0 | I34: 0 | J34: =July!J34+H34 -> 0 | K34: =I34*G34+July!K34 -> 0
A35: =July!A35 -> 0 | G35: =July!G35 -> 1 | H35: 0 | I35: 0 | J35: =July!J35+H35 -> 0 | K35: =I35*G35+July!K35 -> 0
A36: =July!A36 -> 0 | G36: =July!G36 -> 1 | H36: 0 | I36: 0 | J36: =July!J36+H36 -> 0 | K36: =I36*G36+July!K36 -> 0
A37: CHEMICAL LARVICIDE | E37: G | F37: A | G37: MIX RATIO | H37: ACRES | I37: TOTAL | J37: ACRES | K37: TOTAL
A38: * Show Chemical NAME | E38: R | F38: I | G38: OR | H38: TREATED | I38: OUTPUT | J38: TREATED | K38: OUTPUT
A39: * % of Active Ingredient (a.i.) | E39: N | F39: R | G39: FORMULA PER | H39: MONTHLY | I39: MONTHLY | J39: YEARLY | K39: YEARLY
A40: * EPA Number | E40: D | G40: (see Calculation tab) | I40: Gal/lb/Units | K40: Gal/lb
A41: =July!A41 -> 0 | C41: =October!C41 -> 0 | G41: =July!G41 -> 1 | H41: 0 | I41: 0 | J41: =July!J41+H41 -> 0 | K41: =I41*G41+July!K41 -> 0
A42: =July!A42 -> 0 | C42: =October!C42 -> 0 | G42: =July!G42 -> 1 | H42: 0 | I42: 0 | J42: =July!J42+H42 -> 0 | K42: =I42*G42+July!K42 -> 0
A43: =July!A43 -> 0 | C43: =October!C43 -> 0 | G43: =July!G43 -> 1 | H43: 0 | I43: 0 | J43: =July!J43+H43 -> 0 | K43: =I43*G43+July!K43 -> 0
A44: =July!A44 -> 0 | C44: =October!C44 -> 0 | G44: =July!G44 -> 1 | H44: 0 | I44: 0 | J44: =July!J44+H44 -> 0 | K44: =I44*G44+July!K44 -> 0
A45: =July!A45 -> 0 | C45: =October!C45 -> 0 | G45: =July!G45 -> 1 | H45: 0 | I45: 0 | J45: =July!J45+H45 -> 0 | K45: =I45*G45+July!K45 -> 0
A46: =July!A46 -> 0 | C46: =October!C46 -> 0 | G46: =July!G46 -> 1 | H46: 0 | I46: 0 | J46: =July!J46+H46 -> 0 | K46: =I46*G46+July!K46 -> 0
A47: =July!A47 -> 0 | C47: =October!C47 -> 0 | E47: FALSE | G47: =July!G47 -> 1 | H47: 0 | I47: 0 | J47: =July!J47+H47 -> 0 | K47: =I47*G47+July!K47 -> 0
A48: =July!A48 -> 0 | C48: =October!C48 -> 0 | G48: =July!G48 -> 1 | H48: 0 | I48: 0 | J48: =July!J48+H48 -> 0 | K48: =I48*G48+July!K48 -> 0
A49: =July!A49 -> 0 | C49: =October!C49 -> 0 | G49: =July!G49 -> 1 | H49: 0 | I49: 0 | J49: =July!J49+H49 -> 0 | K49: =I49*G49+July!K49 -> 0
A50: =July!A50 -> 0 | C50: =October!C50 -> 0 | G50: =July!G50 -> 1 | H50: 0 | I50: 0 | J50: =July!J50+H50 -> 0 | K50: =I50*G50+July!K50 -> 0
A51: =July!A51 -> 0 | C51: =October!C51 -> 0 | G51: =July!G51 -> 1 | H51: 0 | I51: 0 | J51: =July!J51+H51 -> 0 | K51: =I51*G51+July!K51 -> 0
A52: =July!A52 -> 0 | C52: =October!C52 -> 0 | G52: =July!G52 -> 1 | H52: 0 | I52: 0 | J52: =July!J52+H52 -> 0 | K52: =I52*G52+July!K52 -> 0
A53: =July!A53 -> 0 | C53: =October!C53 -> 0 | G53: =July!G53 -> 1 | H53: 0 | I53: 0 | J53: =July!J53+H53 -> 0 | K53: =I53*G53+July!K53 -> 0
A54: =July!A54 -> 0 | C54: =October!C54 -> 0 | G54: =July!G54 -> 1 | H54: 0 | I54: 0 | J54: =July!J54+H54 -> 0 | K54: =I54*G54+July!K54 -> 0
A55: =July!A55 -> 0 | C55: =October!C55 -> 0 | G55: =July!G55 -> 1 | H55: 0 | I55: 0 | J55: =July!J55+H55 -> 0 | K55: =I55*G55+July!K55 -> 0
A56: =July!A56 -> 0 | C56: =October!C56 -> 0 | G56: =July!G56 -> 1 | H56: 0 | I56: 0 | J56: =July!J56+H56 -> 0 | K56: =I56*G56+July!K56 -> 0
A57: =July!A57 -> 0 | C57: =October!C57 -> 0 | F57: FALSE | G57: =July!G57 -> 1 | H57: 0 | I57: 0 | J57: =July!J57+H57 -> 0 | K57: =I57*G57+July!K57 -> 0
A58: =July!A58 -> 0 | C58: =October!C58 -> 0 | G58: =July!G58 -> 1 | H58: 0 | I58: 0 | J58: =July!J58+H58 -> 0 | K58: =I58*G58+July!K58 -> 0
A59: =July!A59 -> 0 | C59: =October!C59 -> 0 | G59: =July!G59 -> 1 | H59: 0 | I59: 0 | J59: =July!J59+H59 -> 0 | K59: =I59*G59+July!K59 -> 0
A60: =July!A60 -> 0 | C60: =October!C60 -> 0 | G60: =July!G60 -> 1 | H60: 0 | I60: 0 | J60: =July!J60+H60 -> 0 | K60: =I60*G60+July!K60 -> 0
A61: =July!A61 -> 0 | C61: =October!C61 -> 0 | G61: =July!G61 -> 1 | H61: 0 | I61: 0 | J61: =July!J61+H61 -> 0 | K61: =I61*G61+July!K61 -> 0
A62: =July!A62 -> 0 | C62: =October!C62 -> 0 | G62: =July!G62 -> 1 | H62: 0 | I62: 0 | J62: =July!J62+H62 -> 0 | K62: =I62*G62+July!K62 -> 0
A63: =July!A63 -> 0 | C63: =October!C63 -> 0 | G63: =July!G63 -> 1 | H63: 0 | I63: 0 | J63: =July!J63+H63 -> 0 | K63: =I63*G63+July!K63 -> 0
A64: =July!A64 -> 0 | C64: =October!C64 -> 0 | G64: =July!G64 -> 1 | H64: 0 | I64: 0 | J64: =July!J64+H64 -> 0 | K64: =I64*G64+July!K64 -> 0
A65: =July!A65 -> 0 | C65: =October!C65 -> 0 | G65: =July!G65 -> 1 | H65: 0 | I65: 0 | J65: =July!J65+H65 -> 0 | K65: =I65*G65+July!K65 -> 0
A66: =July!A66 -> 0 | C66: =October!C66 -> 0 | G66: =July!G66 -> 1 | H66: 0 | I66: 0 | J66: =July!J66+H66 -> 0 | K66: =I66*G66+July!K66 -> 0
A67: =July!A67 -> 0 | C67: =October!C67 -> 0 | E67: FALSE | F67: FALSE | G67: =July!G67 -> 1 | H67: 0 | I67: 0 | J67: =July!J67+H67 -> 0 | K67: =I67*G67+July!K67 -> 0
A68: =July!A68 -> 0 | C68: =October!C68 -> 0 | E68: FALSE | F68: FALSE | G68: =July!G68 -> 1 | H68: 0 | I68: 0 | J68: =July!J68+H68 -> 0 | K68: =I68*G68+July!K68 -> 0
A69: =July!A69 -> 0 | C69: =October!C69 -> 0 | E69: FALSE | F69: FALSE | G69: =July!G69 -> 1 | H69: 0 | I69: 0 | J69: =July!J69+H69 -> 0 | K69: =I69*G69+July!K69 -> 0
A70: =July!A70 -> 0 | C70: =October!C70 -> 0 | E70: FALSE | F70: FALSE | G70: =July!G70 -> 1 | H70: 0 | I70: 0 | J70: =July!J70+H70 -> 0 | K70: =I70*G70+July!K70 -> 0
A71: =July!A71 -> 0 | C71: =October!C71 -> 0 | E71: FALSE | F71: FALSE | G71: =July!G71 -> 1 | H71: 0 | I71: 0 | J71: =July!J71+H71 -> 0 | K71: =I71*G71+July!K71 -> 0
A72: =July!A72 -> 0 | C72: =October!C72 -> 0 | E72: FALSE | F72: FALSE | G72: =July!G72 -> 1 | H72: 0 | I72: 0 | J72: =July!J72+H72 -> 0 | K72: =I72*G72+July!K72 -> 0
A73: =July!A73 -> 0 | C73: =October!C73 -> 0 | E73: FALSE | F73: FALSE | G73: =July!G73 -> 1 | H73: 0 | I73: 0 | J73: =July!J73+H73 -> 0 | K73: =I73*G73+July!K73 -> 0
A75: FDACS-13652 Rev 07/13 | I75: Director Signature | K75: Date

Sheet September
B1: Florida Department of Agriculture and Consumer Services
B2: Division of Agricultural Environmental Services
B4: MOSQUITO CONTROL MONTHLY ACTIVITY REPORT
B6: Rule 5E-13.022, F.A.C.
B7: Telephone: (850) 617-7911; FAX (850) 617-7939
A9: COUNTY OR DISTRICT: | B9: =August!B9 -> 0 | I9: MONTH: September | J9: FISCAL: | K9: =October!K9 -> 2018 - 2019
A10: CHEMICAL ADULTICIDE | C10: T | D10: U | E10: G | F10: A | G10: MIX RATIO | H10: ACRES | I10: TOTAL | J10: ACRES | K10: TOTAL
A11: * Show Chemical NAME | C11: H | D11: L | E11: R | F11: I | G11: OR | H11: TREATED | I11: OUTPUT | J11: TREATED | K11: OUTPUT
A12: * % of Active Ingredient (a.i.) | C12: R | D12: V | E12: N | F12: R | G12: FORMULA | H12: MONTHLY | I12: MONTHLY | J12: YEARLY | K12: YEARLY
A13: * EPA Number | C13: M | E13: D | G13: (see Calculation tab) | I13: Gallons | K13: Gallons
A14: =August!A14 -> 0 | C14: FALSE | G14: =August!G14 -> 1 | H14: 0 | I14: 0 | J14: =August!J14+H14 -> 0 | K14: =I14*G14+August!K14 -> 0
A15: =August!A15 -> 0 | G15: =August!G15 -> 1 | H15: 0 | I15: 0 | J15: =August!J15+H15 -> 0 | K15: =I15*G15+August!K15 -> 0
A16: =August!A16 -> 0 | G16: =August!G16 -> 1 | H16: 0 | I16: 0 | J16: =August!J16+H16 -> 0 | K16: =I16*G16+August!K16 -> 0
A17: =August!A17 -> 0 | G17: =August!G17 -> 1 | H17: 0 | I17: 0 | J17: =August!J17+H17 -> 0 | K17: =I17*G17+August!K17 -> 0
A18: =August!A18 -> 0 | G18: =August!G18 -> 1 | H18: 0 | I18: 0 | J18: =August!J18+H18 -> 0 | K18: =I18*G18+August!K18 -> 0
A19: =August!A19 -> 0 | G19: =August!G19 -> 1 | H19: 0 | I19: 0 | J19: =August!J19+H19 -> 0 | K19: =I19*G19+August!K19 -> 0
A20: =August!A20 -> 0 | G20: =August!G20 -> 1 | H20: 0 | I20: 0 | J20: =August!J20+H20 -> 0 | K20: =I20*G20+August!K20 -> 0
A21: =August!A21 -> 0 | C21: FALSE | G21: =August!G21 -> 1 | H21: 0 | I21: 0 | J21: =August!J21+H21 -> 0 | K21: =I21*G21+August!K21 -> 0
A22: =August!A22 -> 0 | G22: =August!G22 -> 1 | H22: 0 | I22: 0 | J22: =August!J22+H22 -> 0 | K22: =I22*G22+August!K22 -> 0
A23: =August!A23 -> 0 | G23: =August!G23 -> 1 | H23: 0 | I23: 0 | J23: =August!J23+H23 -> 0 | K23: =I23*G23+August!K23 -> 0
A24: =August!A24 -> 0 | E24: FALSE | G24: =August!G24 -> 1 | H24: 0 | I24: 0 | J24: =August!J24+H24 -> 0 | K24: =I24*G24+August!K24 -> 0
A25: =August!A25 -> 0 | G25: =August!G25 -> 1 | H25: 0 | I25: 0 | J25: =August!J25+H25 -> 0 | K25: =I25*G25+August!K25 -> 0
A26: =August!A26 -> 0 | G26: =August!G26 -> 1 | H26: 0 | I26: 0 | J26: =August!J26+H26 -> 0 | K26: =I26*G26+August!K26 -> 0
A27: =August!A27 -> 0 | G27: =August!G27 -> 1 | H27: 0 | I27: 0 | J27: =August!J27+H27 -> 0 | K27: =I27*G27+August!K27 -> 0
A28: =August!A28 -> 0 | G28: =August!G28 -> 1 | H28: 0 | I28: 0 | J28: =August!J28+H28 -> 0 | K28: =I28*G28+August!K28 -> 0
A29: =August!A29 -> 0 | G29: =August!G29 -> 1 | H29: 0 | I29: 0 | J29: =August!J29+H29 -> 0 | K29: =I29*G29+August!K29 -> 0
A30: =August!A30 -> 0 | G30: =August!G30 -> 1 | H30: 0 | I30: 0 | J30: =August!J30+H30 -> 0 | K30: =I30*G30+August!K30 -> 0
A31: =August!A31 -> 0 | G31: =August!G31 -> 1 | H31: 0 | I31: 0 | J31: =August!J31+H31 -> 0 | K31: =I31*G31+August!K31 -> 0
A32: =August!A32 -> 0 | G32: =August!G32 -> 1 | H32: 0 | I32: 0 | J32: =August!J32+H32 -> 0 | K32: =I32*G32+August!K32 -> 0
A33: =August!A33 -> 0 | G33: =August!G33 -> 1 | H33: 0 | I33: 0 | J33: =August!J33+H33 -> 0 | K33: =I33*G33+August!K33 -> 0
A34: =August!A34 -> 0 | G34: =August!G34 -> 1 | H34: 0 | I34: 0 | J34: =August!J34+H34 -> 0 | K34: =I34*G34+August!K34 -> 0
A35: =August!A35 -> 0 | G35: =August!G35 -> 1 | H35: 0 | I35: 0 | J35: =August!J35+H35 -> 0 | K35: =I35*G35+August!K35 -> 0
A36: =August!A36 -> 0 | G36: =August!G36 -> 1 | H36: 0 | I36: 0 | J36: =August!J36+H36 -> 0 | K36: =I36*G36+August!K36 -> 0
A37: CHEMICAL LARVICIDE | E37: G | F37: A | G37: MIX RATIO | H37: ACRES | I37: TOTAL | J37: ACRES | K37: TOTAL
A38: * Show Chemical NAME | E38: R | F38: I | G38: OR | H38: TREATED | I38: OUTPUT | J38: TREATED | K38: OUTPUT
A39: * % of Active Ingredient (a.i.) | E39: N | F39: R | G39: FORMULA PER | H39: MONTHLY | I39: MONTHLY | J39: YEARLY | K39: YEARLY
A40: * EPA Number | E40: D | G40: (see Calculation tab) | I40: Gal/lb/Units | K40: Gal/lb
A41: =August!A41 -> 0 | C41: =October!C41 -> 0 | G41: =August!G41 -> 1 | H41: 0 | I41: 0 | J41: =August!J41+H41 -> 0 | K41: =I41*G41+August!K41 -> 0
A42: =August!A42 -> 0 | C42: =October!C42 -> 0 | G42: =August!G42 -> 1 | H42: 0 | I42: 0 | J42: =August!J42+H42 -> 0 | K42: =I42*G42+August!K42 -> 0
A43: =August!A43 -> 0 | C43: =October!C43 -> 0 | G43: =August!G43 -> 1 | H43: 0 | I43: 0 | J43: =August!J43+H43 -> 0 | K43: =I43*G43+August!K43 -> 0
A44: =August!A44 -> 0 | C44: =October!C44 -> 0 | G44: =August!G44 -> 1 | H44: 0 | I44: 0 | J44: =August!J44+H44 -> 0 | K44: =I44*G44+August!K44 -> 0
A45: =August!A45 -> 0 | C45: =October!C45 -> 0 | G45: =August!G45 -> 1 | H45: 0 | I45: 0 | J45: =August!J45+H45 -> 0 | K45: =I45*G45+August!K45 -> 0
A46: =August!A46 -> 0 | C46: =October!C46 -> 0 | G46: =August!G46 -> 1 | H46: 0 | I46: 0 | J46: =August!J46+H46 -> 0 | K46: =I46*G46+August!K46 -> 0
A47: =August!A47 -> 0 | C47: =October!C47 -> 0 | E47: FALSE | G47: =August!G47 -> 1 | H47: 0 | I47: 0 | J47: =August!J47+H47 -> 0 | K47: =I47*G47+August!K47 -> 0
A48: =August!A48 -> 0 | C48: =October!C48 -> 0 | G48: =August!G48 -> 1 | H48: 0 | I48: 0 | J48: =August!J48+H48 -> 0 | K48: =I48*G48+August!K48 -> 0
A49: =August!A49 -> 0 | C49: =October!C49 -> 0 | G49: =August!G49 -> 1 | H49: 0 | I49: 0 | J49: =August!J49+H49 -> 0 | K49: =I49*G49+August!K49 -> 0
A50: =August!A50 -> 0 | C50: =October!C50 -> 0 | G50: =August!G50 -> 1 | H50: 0 | I50: 0 | J50: =August!J50+H50 -> 0 | K50: =I50*G50+August!K50 -> 0
A51: =August!A51 -> 0 | C51: =October!C51 -> 0 | G51: =August!G51 -> 1 | H51: 0 | I51: 0 | J51: =August!J51+H51 -> 0 | K51: =I51*G51+August!K51 -> 0
A52: =August!A52 -> 0 | C52: =October!C52 -> 0 | G52: =August!G52 -> 1 | H52: 0 | I52: 0 | J52: =August!J52+H52 -> 0 | K52: =I52*G52+August!K52 -> 0
A53: =August!A53 -> 0 | C53: =October!C53 -> 0 | G53: =August!G53 -> 1 | H53: 0 | I53: 0 | J53: =August!J53+H53 -> 0 | K53: =I53*G53+August!K53 -> 0
A54: =August!A54 -> 0 | C54: =October!C54 -> 0 | G54: =August!G54 -> 1 | H54: 0 | I54: 0 | J54: =August!J54+H54 -> 0 | K54: =I54*G54+August!K54 -> 0
A55: =August!A55 -> 0 | C55: =October!C55 -> 0 | G55: =August!G55 -> 1 | H55: 0 | I55: 0 | J55: =August!J55+H55 -> 0 | K55: =I55*G55+August!K55 -> 0
A56: =August!A56 -> 0 | C56: =October!C56 -> 0 | G56: =August!G56 -> 1 | H56: 0 | I56: 0 | J56: =August!J56+H56 -> 0 | K56: =I56*G56+August!K56 -> 0
A57: =August!A57 -> 0 | C57: =October!C57 -> 0 | F57: FALSE | G57: =August!G57 -> 1 | H57: 0 | I57: 0 | J57: =August!J57+H57 -> 0 | K57: =I57*G57+August!K57 -> 0
A58: =August!A58 -> 0 | C58: =October!C58 -> 0 | G58: =August!G58 -> 1 | H58: 0 | I58: 0 | J58: =August!J58+H58 -> 0 | K58: =I58*G58+August!K58 -> 0
A59: =August!A59 -> 0 | C59: =October!C59 -> 0 | G59: =August!G59 -> 1 | H59: 0 | I59: 0 | J59: =August!J59+H59 -> 0 | K59: =I59*G59+August!K59 -> 0
A60: =August!A60 -> 0 | C60: =October!C60 -> 0 | G60: =August!G60 -> 1 | H60: 0 | I60: 0 | J60: =August!J60+H60 -> 0 | K60: =I60*G60+August!K60 -> 0
A61: =August!A61 -> 0 | C61: =October!C61 -> 0 | G61: =August!G61 -> 1 | H61: 0 | I61: 0 | J61: =August!J61+H61 -> 0 | K61: =I61*G61+August!K61 -> 0
A62: =August!A62 -> 0 | C62: =October!C62 -> 0 | G62: =August!G62 -> 1 | H62: 0 | I62: 0 | J62: =August!J62+H62 -> 0 | K62: =I62*G62+August!K62 -> 0
A63: =August!A63 -> 0 | C63: =October!C63 -> 0 | G63: =August!G63 -> 1 | H63: 0 | I63: 0 | J63: =August!J63+H63 -> 0 | K63: =I63*G63+August!K63 -> 0
A64: =August!A64 -> 0 | C64: =October!C64 -> 0 | G64: =August!G64 -> 1 | H64: 0 | I64: 0 | J64: =August!J64+H64 -> 0 | K64: =I64*G64+August!K64 -> 0
A65: =August!A65 -> 0 | C65: =October!C65 -> 0 | G65: =August!G65 -> 1 | H65: 0 | I65: 0 | J65: =August!J65+H65 -> 0 | K65: =I65*G65+August!K65 -> 0
A66: =August!A66 -> 0 | C66: =October!C66 -> 0 | G66: =August!G66 -> 1 | H66: 0 | I66: 0 | J66: =August!J66+H66 -> 0 | K66: =I66*G66+August!K66 -> 0
A67: =August!A67 -> 0 | C67: =October!C67 -> 0 | E67: FALSE | F67: FALSE | G67: =August!G67 -> 1 | H67: 0 | I67: 0 | J67: =August!J67+H67 -> 0 | K67: =I67*G67+August!K67 -> 0
A68: =August!A68 -> 0 | C68: =October!C68 -> 0 | E68: FALSE | F68: FALSE | G68: =August!G68 -> 1 | H68: 0 | I68: 0 | J68: =August!J68+H68 -> 0 | K68: =I68*G68+August!K68 -> 0
A69: =August!A69 -> 0 | C69: =October!C69 -> 0 | E69: FALSE | F69: FALSE | G69: =August!G69 -> 1 | H69: 0 | I69: 0 | J69: =August!J69+H69 -> 0 | K69: =I69*G69+August!K69 -> 0
A70: =August!A70 -> 0 | C70: =October!C70 -> 0 | E70: FALSE | F70: FALSE | G70: =August!G70 -> 1 | H70: 0 | I70: 0 | J70: =August!J70+H70 -> 0 | K70: =I70*G70+August!K70 -> 0
A71: =August!A71 -> 0 | C71: =October!C71 -> 0 | E71: FALSE | F71: FALSE | G71: =August!G71 -> 1 | H71: 0 | I71: 0 | J71: =August!J71+H71 -> 0 | K71: =I71*G71+August!K71 -> 0
A72: =August!A72 -> 0 | C72: =October!C72 -> 0 | E72: FALSE | F72: FALSE | G72: =August!G72 -> 1 | H72: 0 | I72: 0 | J72: =August!J72+H72 -> 0 | K72: =I72*G72+August!K72 -> 0
A73: =August!A73 -> 0 | C73: =October!C73 -> 0 | E73: FALSE | F73: FALSE | G73: =August!G73 -> 1 | H73: 0 | I73: 0 | J73: =August!J73+H73 -> 0 | K73: =I73*G73+August!K73 -> 0
A75: FDACS-13652 Rev 07/13 | I75: Director Signature | K75: Date
